{"text_format":"1","workbook":"xlsx","n_sheets":7,"sheets":["MONDAY","TUESDAY","WEDNESDAY","THURSDAY","FRIDAY","Weekly Summary","lookups"],"not_rendered":{"charts":0,"images":0,"macros":1,"external_links":0,"defined_names":2,"comments":0,"pivot_tables":0},"unopened":[],"bounds":{"document_bytes":16777216,"sheet_cells":100000,"rows_first":2000,"rows_last":500,"rows_between":2000,"halvings":0,"cell_chars":16384,"cell_head_chars":4096},"cells_cut":0,"cells_raw":0,"read":"whole","date_system":"1900"}

{"sheet":"MONDAY","index":0,"n_rows":113,"n_cols":24,"rows_kept":113,"cut":false,"hidden":false,"merged":[[1,5,1,10]]}
[null,"Weekending"]
[null,"Full Day reimbursement rate",null,null,null,"Interactions in Minutes"]
[null,"Name","ID","Diagnosis",null,"RN 1:1","RN Group","MSW 1:1","MSW Group","Other","Daily Total Minutes","Bill Code",null,null,null,null,null,null,null,null,3103,7963,7964,7965]
[1,null,null,null,null,null,null,null,null,null,{"$f":"SUM(F4:J4)","v":0},{"$f":"VLOOKUP(K4,lookups!$A$1:$B$363,2,FALSE)","v":"       -"},null,null,null,null,null,null,null,null,{"$f":"IF(L4=$U$3,1,\"\")","v":""},{"$f":"IF(L4=$V$3,1,\"\")","v":""},{"$f":"IF(L4=$W$3,1,\"\")","v":""},{"$f":"IF(L4=$X$3,1,\"\")","v":""}]
[{"$f":"A4+1","v":2},null,null,null,null,null,null,null,null,null,{"$f":"SUM(F5:J5)","v":0},{"$f":"VLOOKUP(K5,lookups!$A$1:$B$363,2,FALSE)","v":"       -"},null,null,null,null,null,null,null,null,{"$f":"IF(L5=$U$3,1,\"\")","v":""},{"$f":"IF(L5=$V$3,1,\"\")","v":""},{"$f":"IF(L5=$W$3,1,\"\")","v":""},{"$f":"IF(L5=$X$3,1,\"\")","v":""}]
[{"$f":"A5+1","v":3},null,null,null,null,null,null,null,null,null,0,{"$f":"VLOOKUP(K6,lookups!$A$1:$B$363,2,FALSE)","v":"       -"},null,null,null,null,null,null,null,null,"","","",""]
[4,null,null,null,null,null,null,null,null,null,0,{"$f":"VLOOKUP(K7,lookups!$A$1:$B$363,2,FALSE)","v":"       -"},null,null,null,null,null,null,null,null,"","","",""]
[5,null,null,null,null,null,null,null,null,null,0,{"$f":"VLOOKUP(K8,lookups!$A$1:$B$363,2,FALSE)","v":"       -"},null,null,null,null,null,null,null,null,"","","",""]
[6,null,null,null,null,null,null,null,null,null,0,{"$f":"VLOOKUP(K9,lookups!$A$1:$B$363,2,FALSE)","v":"       -"},null,null,null,null,null,null,null,null,"","","",""]
[7,null,null,null,null,null,null,null,null,null,0,{"$f":"VLOOKUP(K10,lookups!$A$1:$B$363,2,FALSE)","v":"       -"},null,null,null,null,null,null,null,null,"","","",""]
[8,null,null,null,null,null,null,null,null,null,0,{"$f":"VLOOKUP(K11,lookups!$A$1:$B$363,2,FALSE)","v":"       -"},null,null,null,null,null,null,null,null,"","","",""]
[9,null,null,null,null,null,null,null,null,null,0,{"$f":"VLOOKUP(K12,lookups!$A$1:$B$363,2,FALSE)","v":"       -"},null,null,null,null,null,null,null,null,"","","",""]
[10,null,null,null,null,null,null,null,null,null,0,{"$f":"VLOOKUP(K13,lookups!$A$1:$B$363,2,FALSE)","v":"       -"},null,null,null,null,null,null,null,null,"","","",""]
[11,null,null,null,null,null,null,null,null,null,0,{"$f":"VLOOKUP(K14,lookups!$A$1:$B$363,2,FALSE)","v":"       -"},null,null,null,null,null,null,null,null,"","","",""]
[12,null,null,null,null,null,null,null,null,null,0,{"$f":"VLOOKUP(K15,lookups!$A$1:$B$363,2,FALSE)","v":"       -"},null,null,null,null,null,null,null,null,"","","",""]
[13,null,null,null,null,null,null,null,null,null,0,{"$f":"VLOOKUP(K16,lookups!$A$1:$B$363,2,FALSE)","v":"       -"},null,null,null,null,null,null,null,null,"","","",""]
[14,null,null,null,null,null,null,null,null,null,0,{"$f":"VLOOKUP(K17,lookups!$A$1:$B$363,2,FALSE)","v":"       -"},null,null,null,null,null,null,null,null,"","","",""]
[15,null,null,null,null,null,null,null,null,null,0,{"$f":"VLOOKUP(K18,lookups!$A$1:$B$363,2,FALSE)","v":"       -"},null,null,null,null,null,null,null,null,"","","",""]
[16,null,null,null,null,null,null,null,null,null,0,{"$f":"VLOOKUP(K19,lookups!$A$1:$B$363,2,FALSE)","v":"       -"},null,null,null,null,null,null,null,null,"","","",""]
[17,null,null,null,null,null,null,null,null,null,0,{"$f":"VLOOKUP(K20,lookups!$A$1:$B$363,2,FALSE)","v":"       -"},null,null,null,null,null,null,null,null,"","","",""]
[18,null,null,null,null,null,null,null,null,null,0,{"$f":"VLOOKUP(K21,lookups!$A$1:$B$363,2,FALSE)","v":"       -"},null,null,null,null,null,null,null,null,"","","",""]
[19,null,null,null,null,null,null,null,null,null,0,{"$f":"VLOOKUP(K22,lookups!$A$1:$B$363,2,FALSE)","v":"       -"},null,null,null,null,null,null,null,null,"","","",""]
[20,null,null,null,null,null,null,null,null,null,0,{"$f":"VLOOKUP(K23,lookups!$A$1:$B$363,2,FALSE)","v":"       -"},null,null,null,null,null,null,null,null,"","","",""]
[21,null,null,null,null,null,null,null,null,null,0,{"$f":"VLOOKUP(K24,lookups!$A$1:$B$363,2,FALSE)","v":"       -"},null,null,null,null,null,null,null,null,"","","",""]
[22,null,null,null,null,null,null,null,null,null,0,{"$f":"VLOOKUP(K25,lookups!$A$1:$B$363,2,FALSE)","v":"       -"},null,null,null,null,null,null,null,null,"","","",""]
[23,null,null,null,null,null,null,null,null,null,0,{"$f":"VLOOKUP(K26,lookups!$A$1:$B$363,2,FALSE)","v":"       -"},null,null,null,null,null,null,null,null,"","","",""]
[24,null,null,null,null,null,null,null,null,null,0,{"$f":"VLOOKUP(K27,lookups!$A$1:$B$363,2,FALSE)","v":"       -"},null,null,null,null,null,null,null,null,"","","",""]
[25,null,null,null,null,null,null,null,null,null,0,{"$f":"VLOOKUP(K28,lookups!$A$1:$B$363,2,FALSE)","v":"       -"},null,null,null,null,null,null,null,null,"","","",""]
[26,null,null,null,null,null,null,null,null,null,0,{"$f":"VLOOKUP(K29,lookups!$A$1:$B$363,2,FALSE)","v":"       -"},null,null,null,null,null,null,null,null,"","","",""]
[27,null,null,null,null,null,null,null,null,null,0,{"$f":"VLOOKUP(K30,lookups!$A$1:$B$363,2,FALSE)","v":"       -"},null,null,null,null,null,null,null,null,"","","",""]
[28,null,null,null,null,null,null,null,null,null,0,{"$f":"VLOOKUP(K31,lookups!$A$1:$B$363,2,FALSE)","v":"       -"},null,null,null,null,null,null,null,null,"","","",""]
[29,null,null,null,null,null,null,null,null,null,0,{"$f":"VLOOKUP(K32,lookups!$A$1:$B$363,2,FALSE)","v":"       -"},null,null,null,null,null,null,null,null,"","","",""]
[30,null,null,null,null,null,null,null,null,null,0,{"$f":"VLOOKUP(K33,lookups!$A$1:$B$363,2,FALSE)","v":"       -"},null,null,null,null,null,null,null,null,"","","",""]
[31,null,null,null,null,null,null,null,null,null,0,{"$f":"VLOOKUP(K34,lookups!$A$1:$B$363,2,FALSE)","v":"       -"},null,null,null,null,null,null,null,null,"","","",""]
[32,null,null,null,null,null,null,null,null,null,0,{"$f":"VLOOKUP(K35,lookups!$A$1:$B$363,2,FALSE)","v":"       -"},null,null,null,null,null,null,null,null,"","","",""]
[33,null,null,null,null,null,null,null,null,null,0,{"$f":"VLOOKUP(K36,lookups!$A$1:$B$363,2,FALSE)","v":"       -"},null,null,null,null,null,null,null,null,"","","",""]
[34,null,null,null,null,null,null,null,null,null,0,{"$f":"VLOOKUP(K37,lookups!$A$1:$B$363,2,FALSE)","v":"       -"},null,null,null,null,null,null,null,null,"","","",""]
[35,null,null,null,null,null,null,null,null,null,0,{"$f":"VLOOKUP(K38,lookups!$A$1:$B$363,2,FALSE)","v":"       -"},null,null,null,null,null,null,null,null,"","","",""]
[36,null,null,null,null,null,null,null,null,null,0,{"$f":"VLOOKUP(K39,lookups!$A$1:$B$363,2,FALSE)","v":"       -"},null,null,null,null,null,null,null,null,"","","",""]
[37,null,null,null,null,null,null,null,null,null,0,{"$f":"VLOOKUP(K40,lookups!$A$1:$B$363,2,FALSE)","v":"       -"},null,null,null,null,null,null,null,null,"","","",""]
[38,null,null,null,null,null,null,null,null,null,0,{"$f":"VLOOKUP(K41,lookups!$A$1:$B$363,2,FALSE)","v":"       -"},null,null,null,null,null,null,null,null,"","","",""]
[39,null,null,null,null,null,null,null,null,null,0,{"$f":"VLOOKUP(K42,lookups!$A$1:$B$363,2,FALSE)","v":"       -"},null,null,null,null,null,null,null,null,"","","",""]
[40,null,null,null,null,null,null,null,null,null,0,{"$f":"VLOOKUP(K43,lookups!$A$1:$B$363,2,FALSE)","v":"       -"},null,null,null,null,null,null,null,null,"","","",""]
[41,null,null,null,null,null,null,null,null,null,0,{"$f":"VLOOKUP(K44,lookups!$A$1:$B$363,2,FALSE)","v":"       -"},null,null,null,null,null,null,null,null,"","","",""]
[42,null,null,null,null,null,null,null,null,null,0,{"$f":"VLOOKUP(K45,lookups!$A$1:$B$363,2,FALSE)","v":"       -"},null,null,null,null,null,null,null,null,"","","",""]
[43,null,null,null,null,null,null,null,null,null,0,{"$f":"VLOOKUP(K46,lookups!$A$1:$B$363,2,FALSE)","v":"       -"},null,null,null,null,null,null,null,null,"","","",""]
[44,null,null,null,null,null,null,null,null,null,0,{"$f":"VLOOKUP(K47,lookups!$A$1:$B$363,2,FALSE)","v":"       -"},null,null,null,null,null,null,null,null,"","","",""]
[45,null,null,null,null,null,null,null,null,null,0,{"$f":"VLOOKUP(K48,lookups!$A$1:$B$363,2,FALSE)","v":"       -"},null,null,null,null,null,null,null,null,"","","",""]
[46,null,null,null,null,null,null,null,null,null,0,{"$f":"VLOOKUP(K49,lookups!$A$1:$B$363,2,FALSE)","v":"       -"},null,null,null,null,null,null,null,null,"","","",""]
[47,null,null,null,null,null,null,null,null,null,0,{"$f":"VLOOKUP(K50,lookups!$A$1:$B$363,2,FALSE)","v":"       -"},null,null,null,null,null,null,null,null,"","","",""]
[48,null,null,null,null,null,null,null,null,null,0,{"$f":"VLOOKUP(K51,lookups!$A$1:$B$363,2,FALSE)","v":"       -"},null,null,null,null,null,null,null,null,"","","",""]
[49,null,null,null,null,null,null,null,null,null,0,{"$f":"VLOOKUP(K52,lookups!$A$1:$B$363,2,FALSE)","v":"       -"},null,null,null,null,null,null,null,null,"","","",""]
[50,null,null,null,null,null,null,null,null,null,0,{"$f":"VLOOKUP(K53,lookups!$A$1:$B$363,2,FALSE)","v":"       -"},null,null,null,null,null,null,null,null,"","","",""]
[51,null,null,null,null,null,null,null,null,null,0,{"$f":"VLOOKUP(K54,lookups!$A$1:$B$363,2,FALSE)","v":"       -"},null,null,null,null,null,null,null,null,"","","",""]
[52,null,null,null,null,null,null,null,null,null,0,{"$f":"VLOOKUP(K55,lookups!$A$1:$B$363,2,FALSE)","v":"       -"},null,null,null,null,null,null,null,null,"","","",""]
[53,null,null,null,null,null,null,null,null,null,0,{"$f":"VLOOKUP(K56,lookups!$A$1:$B$363,2,FALSE)","v":"       -"},null,null,null,null,null,null,null,null,"","","",""]
[54,null,null,null,null,null,null,null,null,null,0,{"$f":"VLOOKUP(K57,lookups!$A$1:$B$363,2,FALSE)","v":"       -"},null,null,null,null,null,null,null,null,"","","",""]
[55,null,null,null,null,null,null,null,null,null,0,{"$f":"VLOOKUP(K58,lookups!$A$1:$B$363,2,FALSE)","v":"       -"},null,null,null,null,null,null,null,null,"","","",""]
[56,null,null,null,null,null,null,null,null,null,0,{"$f":"VLOOKUP(K59,lookups!$A$1:$B$363,2,FALSE)","v":"       -"},null,null,null,null,null,null,null,null,"","","",""]
[57,null,null,null,null,null,null,null,null,null,0,{"$f":"VLOOKUP(K60,lookups!$A$1:$B$363,2,FALSE)","v":"       -"},null,null,null,null,null,null,null,null,"","","",""]
[58,null,null,null,null,null,null,null,null,null,0,{"$f":"VLOOKUP(K61,lookups!$A$1:$B$363,2,FALSE)","v":"       -"},null,null,null,null,null,null,null,null,"","","",""]
[59,null,null,null,null,null,null,null,null,null,0,{"$f":"VLOOKUP(K62,lookups!$A$1:$B$363,2,FALSE)","v":"       -"},null,null,null,null,null,null,null,null,"","","",""]
[60,null,null,null,null,null,null,null,null,null,0,{"$f":"VLOOKUP(K63,lookups!$A$1:$B$363,2,FALSE)","v":"       -"},null,null,null,null,null,null,null,null,"","","",""]
[61,null,null,null,null,null,null,null,null,null,0,{"$f":"VLOOKUP(K64,lookups!$A$1:$B$363,2,FALSE)","v":"       -"},null,null,null,null,null,null,null,null,"","","",""]
[62,null,null,null,null,null,null,null,null,null,0,{"$f":"VLOOKUP(K65,lookups!$A$1:$B$363,2,FALSE)","v":"       -"},null,null,null,null,null,null,null,null,"","","",""]
[63,null,null,null,null,null,null,null,null,null,0,{"$f":"VLOOKUP(K66,lookups!$A$1:$B$363,2,FALSE)","v":"       -"},null,null,null,null,null,null,null,null,"","","",""]
[64,null,null,null,null,null,null,null,null,null,0,{"$f":"VLOOKUP(K67,lookups!$A$1:$B$363,2,FALSE)","v":"       -"},null,null,null,null,null,null,null,null,"","","",""]
[65,null,null,null,null,null,null,null,null,null,0,{"$f":"VLOOKUP(K68,lookups!$A$1:$B$363,2,FALSE)","v":"       -"},null,null,null,null,null,null,null,null,"","","",""]
[66,null,null,null,null,null,null,null,null,null,{"$f":"SUM(F69:J69)","v":0},{"$f":"VLOOKUP(K69,lookups!$A$1:$B$363,2,FALSE)","v":"       -"},null,null,null,null,null,null,null,null,{"$f":"IF(L69=$U$3,1,\"\")","v":""},{"$f":"IF(L69=$V$3,1,\"\")","v":""},{"$f":"IF(L69=$W$3,1,\"\")","v":""},{"$f":"IF(L69=$X$3,1,\"\")","v":""}]
[{"$f":"A69+1","v":67},null,null,null,null,null,null,null,null,null,0,{"$f":"VLOOKUP(K70,lookups!$A$1:$B$363,2,FALSE)","v":"       -"},null,null,null,null,null,null,null,null,"","","",""]
[68,null,null,null,null,null,null,null,null,null,0,{"$f":"VLOOKUP(K71,lookups!$A$1:$B$363,2,FALSE)","v":"       -"},null,null,null,null,null,null,null,null,"","","",""]
[69,null,null,null,null,null,null,null,null,null,0,{"$f":"VLOOKUP(K72,lookups!$A$1:$B$363,2,FALSE)","v":"       -"},null,null,null,null,null,null,null,null,"","","",""]
[70,null,null,null,null,null,null,null,null,null,0,{"$f":"VLOOKUP(K73,lookups!$A$1:$B$363,2,FALSE)","v":"       -"},null,null,null,null,null,null,null,null,"","","",""]
[71,null,null,null,null,null,null,null,null,null,0,{"$f":"VLOOKUP(K74,lookups!$A$1:$B$363,2,FALSE)","v":"       -"},null,null,null,null,null,null,null,null,"","","",""]
[72,null,null,null,null,null,null,null,null,null,0,{"$f":"VLOOKUP(K75,lookups!$A$1:$B$363,2,FALSE)","v":"       -"},null,null,null,null,null,null,null,null,"","","",""]
[73,null,null,null,null,null,null,null,null,null,0,{"$f":"VLOOKUP(K76,lookups!$A$1:$B$363,2,FALSE)","v":"       -"},null,null,null,null,null,null,null,null,"","","",""]
[74,null,null,null,null,null,null,null,null,null,0,{"$f":"VLOOKUP(K77,lookups!$A$1:$B$363,2,FALSE)","v":"       -"},null,null,null,null,null,null,null,null,"","","",""]
[75,null,null,null,null,null,null,null,null,null,0,{"$f":"VLOOKUP(K78,lookups!$A$1:$B$363,2,FALSE)","v":"       -"},null,null,null,null,null,null,null,null,"","","",""]
[76,null,null,null,null,null,null,null,null,null,0,{"$f":"VLOOKUP(K79,lookups!$A$1:$B$363,2,FALSE)","v":"       -"},null,null,null,null,null,null,null,null,"","","",""]
[77,null,null,null,null,null,null,null,null,null,0,{"$f":"VLOOKUP(K80,lookups!$A$1:$B$363,2,FALSE)","v":"       -"},null,null,null,null,null,null,null,null,"","","",""]
[78,null,null,null,null,null,null,null,null,null,0,{"$f":"VLOOKUP(K81,lookups!$A$1:$B$363,2,FALSE)","v":"       -"},null,null,null,null,null,null,null,null,"","","",""]
[79,null,null,null,null,null,null,null,null,null,0,{"$f":"VLOOKUP(K82,lookups!$A$1:$B$363,2,FALSE)","v":"       -"},null,null,null,null,null,null,null,null,"","","",""]
[80,null,null,null,null,null,null,null,null,null,0,{"$f":"VLOOKUP(K83,lookups!$A$1:$B$363,2,FALSE)","v":"       -"},null,null,null,null,null,null,null,null,"","","",""]
[81,null,null,null,null,null,null,null,null,null,0,{"$f":"VLOOKUP(K84,lookups!$A$1:$B$363,2,FALSE)","v":"       -"},null,null,null,null,null,null,null,null,"","","",""]
[82,null,null,null,null,null,null,null,null,null,0,{"$f":"VLOOKUP(K85,lookups!$A$1:$B$363,2,FALSE)","v":"       -"},null,null,null,null,null,null,null,null,"","","",""]
[83,null,null,null,null,null,null,null,null,null,0,{"$f":"VLOOKUP(K86,lookups!$A$1:$B$363,2,FALSE)","v":"       -"},null,null,null,null,null,null,null,null,"","","",""]
[84,null,null,null,null,null,null,null,null,null,0,{"$f":"VLOOKUP(K87,lookups!$A$1:$B$363,2,FALSE)","v":"       -"},null,null,null,null,null,null,null,null,"","","",""]
[85,null,null,null,null,null,null,null,null,null,0,{"$f":"VLOOKUP(K88,lookups!$A$1:$B$363,2,FALSE)","v":"       -"},null,null,null,null,null,null,null,null,"","","",""]
[86,null,null,null,null,null,null,null,null,null,0,{"$f":"VLOOKUP(K89,lookups!$A$1:$B$363,2,FALSE)","v":"       -"},null,null,null,null,null,null,null,null,"","","",""]
[87,null,null,null,null,null,null,null,null,null,0,{"$f":"VLOOKUP(K90,lookups!$A$1:$B$363,2,FALSE)","v":"       -"},null,null,null,null,null,null,null,null,"","","",""]
[88,null,null,null,null,null,null,null,null,null,0,{"$f":"VLOOKUP(K91,lookups!$A$1:$B$363,2,FALSE)","v":"       -"},null,null,null,null,null,null,null,null,"","","",""]
[89,null,null,null,null,null,null,null,null,null,0,{"$f":"VLOOKUP(K92,lookups!$A$1:$B$363,2,FALSE)","v":"       -"},null,null,null,null,null,null,null,null,"","","",""]
[90,null,null,null,null,null,null,null,null,null,0,{"$f":"VLOOKUP(K93,lookups!$A$1:$B$363,2,FALSE)","v":"       -"},null,null,null,null,null,null,null,null,"","","",""]
[91,null,null,null,null,null,null,null,null,null,0,{"$f":"VLOOKUP(K94,lookups!$A$1:$B$363,2,FALSE)","v":"       -"},null,null,null,null,null,null,null,null,"","","",""]
[92,null,null,null,null,null,null,null,null,null,0,{"$f":"VLOOKUP(K95,lookups!$A$1:$B$363,2,FALSE)","v":"       -"},null,null,null,null,null,null,null,null,"","","",""]
[93,null,null,null,null,null,null,null,null,null,0,{"$f":"VLOOKUP(K96,lookups!$A$1:$B$363,2,FALSE)","v":"       -"},null,null,null,null,null,null,null,null,"","","",""]
[94,null,null,null,null,null,null,null,null,null,0,{"$f":"VLOOKUP(K97,lookups!$A$1:$B$363,2,FALSE)","v":"       -"},null,null,null,null,null,null,null,null,"","","",""]
[95,null,null,null,null,null,null,null,null,null,0,{"$f":"VLOOKUP(K98,lookups!$A$1:$B$363,2,FALSE)","v":"       -"},null,null,null,null,null,null,null,null,"","","",""]
[96,null,null,null,null,null,null,null,null,null,0,{"$f":"VLOOKUP(K99,lookups!$A$1:$B$363,2,FALSE)","v":"       -"},null,null,null,null,null,null,null,null,"","","",""]
[97,null,null,null,null,null,null,null,null,null,0,{"$f":"VLOOKUP(K100,lookups!$A$1:$B$363,2,FALSE)","v":"       -"},null,null,null,null,null,null,null,null,"","","",""]
[98,null,null,null,null,null,null,null,null,null,0,{"$f":"VLOOKUP(K101,lookups!$A$1:$B$363,2,FALSE)","v":"       -"},null,null,null,null,null,null,null,null,"","","",""]
[99,null,null,null,null,null,null,null,null,null,0,{"$f":"VLOOKUP(K102,lookups!$A$1:$B$363,2,FALSE)","v":"       -"},null,null,null,null,null,null,null,null,"","","",""]
[100,null,null,null,null,null,null,null,null,null,0,{"$f":"VLOOKUP(K103,lookups!$A$1:$B$363,2,FALSE)","v":"       -"},null,null,null,null,null,null,null,null,"","","",""]
[null,null,null,null,null,null,null,null,null,null,null,{"$f":"SUM(U106:X106)","v":0},null,null,null,null,null,null,null,"Count",{"$f":"SUM(U4:U103)","v":0},{"$f":"SUM(V4:V103)","v":0},0,0]
[null,null,null,null,null,null,null,null,null,null,null,null,null,null,null,null,null,null,null,"Rate",{"$f":"C2","v":0},12.56,23.48,37.409999999999997]
[null,null,null,null,null,null,null,null,null,null,null,null,null,null,null,null,null,null,null,"Revenue",{"$f":"U104*U105","v":0},{"$f":"V104*V105","v":0},0,0]
[]
[null,"Bill Code","Registrants","Rate",null,"Revenue"]
[null,7963,{"$f":"V104","v":0},12.56,null,{"$f":"C109*D109","v":0}]
[null,7964,{"$f":"W104","v":0},23.48,null,{"$f":"C110*D110","v":0}]
[null,7965,{"$f":"X104","v":0},37.409999999999997,null,0]
[null,3301,{"$f":"U104","v":0},{"$f":"C2","v":0},null,0]
[null,null,null,null,null,{"$f":"SUM(F109:F112)","v":0}]

{"sheet":"TUESDAY","index":1,"n_rows":113,"n_cols":24,"rows_kept":113,"cut":false,"hidden":false,"merged":[[1,5,1,10]]}
[null,"Weekending",{"$f":"MONDAY!C1","v":"00:00:00"}]
[null,null,null,null,null,"Interactions in Minutes"]
[null,"Name","ID","Diagnosis",null,"RN 1:1","RN Group","MSW 1:1","MSW Group","Other","Daily Total minuets","Bill Code",null,null,null,null,null,null,null,null,3103,7963,7964,7965]
[1,{"$f":"MONDAY!B4","v":0},{"$f":"MONDAY!C4","v":0},{"$f":"MONDAY!D4","v":0},null,null,null,null,null,null,{"$f":"SUM(F4:J4)","v":0},{"$f":"VLOOKUP(K4,lookups!$A$1:$B$363,2,FALSE)","v":"       -"},null,null,null,null,null,null,null,null,{"$f":"IF(L4=$U$3,1,\"\")","v":""},{"$f":"IF(L4=$V$3,1,\"\")","v":""},{"$f":"IF(L4=$W$3,1,\"\")","v":""},{"$f":"IF(L4=$X$3,1,\"\")","v":""}]
[{"$f":"A4+1","v":2},{"$f":"MONDAY!B5","v":0},{"$f":"MONDAY!C5","v":0},{"$f":"MONDAY!D5","v":0},null,null,null,null,null,null,{"$f":"SUM(F5:J5)","v":0},{"$f":"VLOOKUP(K5,lookups!$A$1:$B$363,2,FALSE)","v":"       -"},null,null,null,null,null,null,null,null,{"$f":"IF(L5=$U$3,1,\"\")","v":""},{"$f":"IF(L5=$V$3,1,\"\")","v":""},{"$f":"IF(L5=$W$3,1,\"\")","v":""},{"$f":"IF(L5=$X$3,1,\"\")","v":""}]
[{"$f":"A5+1","v":3},{"$f":"MONDAY!B6","v":0},{"$f":"MONDAY!C6","v":0},{"$f":"MONDAY!D6","v":0},null,null,null,null,null,null,0,{"$f":"VLOOKUP(K6,lookups!$A$1:$B$363,2,FALSE)","v":"       -"},null,null,null,null,null,null,null,null,"","","",""]
[4,{"$f":"MONDAY!B7","v":0},{"$f":"MONDAY!C7","v":0},{"$f":"MONDAY!D7","v":0},null,null,null,null,null,null,0,{"$f":"VLOOKUP(K7,lookups!$A$1:$B$363,2,FALSE)","v":"       -"},null,null,null,null,null,null,null,null,"","","",""]
[5,{"$f":"MONDAY!B8","v":0},{"$f":"MONDAY!C8","v":0},{"$f":"MONDAY!D8","v":0},null,null,null,null,null,null,0,{"$f":"VLOOKUP(K8,lookups!$A$1:$B$363,2,FALSE)","v":"       -"},null,null,null,null,null,null,null,null,"","","",""]
[6,{"$f":"MONDAY!B9","v":0},{"$f":"MONDAY!C9","v":0},{"$f":"MONDAY!D9","v":0},null,null,null,null,null,null,0,{"$f":"VLOOKUP(K9,lookups!$A$1:$B$363,2,FALSE)","v":"       -"},null,null,null,null,null,null,null,null,"","","",""]
[7,{"$f":"MONDAY!B10","v":0},{"$f":"MONDAY!C10","v":0},{"$f":"MONDAY!D10","v":0},null,null,null,null,null,null,0,{"$f":"VLOOKUP(K10,lookups!$A$1:$B$363,2,FALSE)","v":"       -"},null,null,null,null,null,null,null,null,"","","",""]
[8,{"$f":"MONDAY!B11","v":0},{"$f":"MONDAY!C11","v":0},{"$f":"MONDAY!D11","v":0},null,null,null,null,null,null,0,{"$f":"VLOOKUP(K11,lookups!$A$1:$B$363,2,FALSE)","v":"       -"},null,null,null,null,null,null,null,null,"","","",""]
[9,{"$f":"MONDAY!B12","v":0},{"$f":"MONDAY!C12","v":0},{"$f":"MONDAY!D12","v":0},null,null,null,null,null,null,0,{"$f":"VLOOKUP(K12,lookups!$A$1:$B$363,2,FALSE)","v":"       -"},null,null,null,null,null,null,null,null,"","","",""]
[10,{"$f":"MONDAY!B13","v":0},{"$f":"MONDAY!C13","v":0},{"$f":"MONDAY!D13","v":0},null,null,null,null,null,null,0,{"$f":"VLOOKUP(K13,lookups!$A$1:$B$363,2,FALSE)","v":"       -"},null,null,null,null,null,null,null,null,"","","",""]
[11,{"$f":"MONDAY!B14","v":0},{"$f":"MONDAY!C14","v":0},{"$f":"MONDAY!D14","v":0},null,null,null,null,null,null,0,{"$f":"VLOOKUP(K14,lookups!$A$1:$B$363,2,FALSE)","v":"       -"},null,null,null,null,null,null,null,null,"","","",""]
[12,{"$f":"MONDAY!B15","v":0},{"$f":"MONDAY!C15","v":0},{"$f":"MONDAY!D15","v":0},null,null,null,null,null,null,0,{"$f":"VLOOKUP(K15,lookups!$A$1:$B$363,2,FALSE)","v":"       -"},null,null,null,null,null,null,null,null,"","","",""]
[13,{"$f":"MONDAY!B16","v":0},{"$f":"MONDAY!C16","v":0},{"$f":"MONDAY!D16","v":0},null,null,null,null,null,null,0,{"$f":"VLOOKUP(K16,lookups!$A$1:$B$363,2,FALSE)","v":"       -"},null,null,null,null,null,null,null,null,"","","",""]
[14,{"$f":"MONDAY!B17","v":0},{"$f":"MONDAY!C17","v":0},{"$f":"MONDAY!D17","v":0},null,null,null,null,null,null,0,{"$f":"VLOOKUP(K17,lookups!$A$1:$B$363,2,FALSE)","v":"       -"},null,null,null,null,null,null,null,null,"","","",""]
[15,{"$f":"MONDAY!B18","v":0},{"$f":"MONDAY!C18","v":0},{"$f":"MONDAY!D18","v":0},null,null,null,null,null,null,0,{"$f":"VLOOKUP(K18,lookups!$A$1:$B$363,2,FALSE)","v":"       -"},null,null,null,null,null,null,null,null,"","","",""]
[16,{"$f":"MONDAY!B19","v":0},{"$f":"MONDAY!C19","v":0},{"$f":"MONDAY!D19","v":0},null,null,null,null,null,null,0,{"$f":"VLOOKUP(K19,lookups!$A$1:$B$363,2,FALSE)","v":"       -"},null,null,null,null,null,null,null,null,"","","",""]
[17,{"$f":"MONDAY!B20","v":0},{"$f":"MONDAY!C20","v":0},{"$f":"MONDAY!D20","v":0},null,null,null,null,null,null,0,{"$f":"VLOOKUP(K20,lookups!$A$1:$B$363,2,FALSE)","v":"       -"},null,null,null,null,null,null,null,null,"","","",""]
[18,{"$f":"MONDAY!B21","v":0},{"$f":"MONDAY!C21","v":0},{"$f":"MONDAY!D21","v":0},null,null,null,null,null,null,0,{"$f":"VLOOKUP(K21,lookups!$A$1:$B$363,2,FALSE)","v":"       -"},null,null,null,null,null,null,null,null,"","","",""]
[19,{"$f":"MONDAY!B22","v":0},{"$f":"MONDAY!C22","v":0},{"$f":"MONDAY!D22","v":0},null,null,null,null,null,null,0,{"$f":"VLOOKUP(K22,lookups!$A$1:$B$363,2,FALSE)","v":"       -"},null,null,null,null,null,null,null,null,"","","",""]
[20,{"$f":"MONDAY!B23","v":0},{"$f":"MONDAY!C23","v":0},{"$f":"MONDAY!D23","v":0},null,null,null,null,null,null,0,{"$f":"VLOOKUP(K23,lookups!$A$1:$B$363,2,FALSE)","v":"       -"},null,null,null,null,null,null,null,null,"","","",""]
[21,{"$f":"MONDAY!B24","v":0},{"$f":"MONDAY!C24","v":0},{"$f":"MONDAY!D24","v":0},null,null,null,null,null,null,0,{"$f":"VLOOKUP(K24,lookups!$A$1:$B$363,2,FALSE)","v":"       -"},null,null,null,null,null,null,null,null,"","","",""]
[22,{"$f":"MONDAY!B25","v":0},{"$f":"MONDAY!C25","v":0},{"$f":"MONDAY!D25","v":0},null,null,null,null,null,null,0,{"$f":"VLOOKUP(K25,lookups!$A$1:$B$363,2,FALSE)","v":"       -"},null,null,null,null,null,null,null,null,"","","",""]
[23,{"$f":"MONDAY!B26","v":0},{"$f":"MONDAY!C26","v":0},{"$f":"MONDAY!D26","v":0},null,null,null,null,null,null,0,{"$f":"VLOOKUP(K26,lookups!$A$1:$B$363,2,FALSE)","v":"       -"},null,null,null,null,null,null,null,null,"","","",""]
[24,{"$f":"MONDAY!B27","v":0},{"$f":"MONDAY!C27","v":0},{"$f":"MONDAY!D27","v":0},null,null,null,null,null,null,0,{"$f":"VLOOKUP(K27,lookups!$A$1:$B$363,2,FALSE)","v":"       -"},null,null,null,null,null,null,null,null,"","","",""]
[25,{"$f":"MONDAY!B28","v":0},{"$f":"MONDAY!C28","v":0},{"$f":"MONDAY!D28","v":0},null,null,null,null,null,null,0,{"$f":"VLOOKUP(K28,lookups!$A$1:$B$363,2,FALSE)","v":"       -"},null,null,null,null,null,null,null,null,"","","",""]
[26,{"$f":"MONDAY!B29","v":0},{"$f":"MONDAY!C29","v":0},{"$f":"MONDAY!D29","v":0},null,null,null,null,null,null,0,{"$f":"VLOOKUP(K29,lookups!$A$1:$B$363,2,FALSE)","v":"       -"},null,null,null,null,null,null,null,null,"","","",""]
[27,{"$f":"MONDAY!B30","v":0},{"$f":"MONDAY!C30","v":0},{"$f":"MONDAY!D30","v":0},null,null,null,null,null,null,0,{"$f":"VLOOKUP(K30,lookups!$A$1:$B$363,2,FALSE)","v":"       -"},null,null,null,null,null,null,null,null,"","","",""]
[28,{"$f":"MONDAY!B31","v":0},{"$f":"MONDAY!C31","v":0},{"$f":"MONDAY!D31","v":0},null,null,null,null,null,null,0,{"$f":"VLOOKUP(K31,lookups!$A$1:$B$363,2,FALSE)","v":"       -"},null,null,null,null,null,null,null,null,"","","",""]
[29,{"$f":"MONDAY!B32","v":0},{"$f":"MONDAY!C32","v":0},{"$f":"MONDAY!D32","v":0},null,null,null,null,null,null,0,{"$f":"VLOOKUP(K32,lookups!$A$1:$B$363,2,FALSE)","v":"       -"},null,null,null,null,null,null,null,null,"","","",""]
[30,{"$f":"MONDAY!B33","v":0},{"$f":"MONDAY!C33","v":0},{"$f":"MONDAY!D33","v":0},null,null,null,null,null,null,0,{"$f":"VLOOKUP(K33,lookups!$A$1:$B$363,2,FALSE)","v":"       -"},null,null,null,null,null,null,null,null,"","","",""]
[31,{"$f":"MONDAY!B34","v":0},{"$f":"MONDAY!C34","v":0},{"$f":"MONDAY!D34","v":0},null,null,null,null,null,null,0,{"$f":"VLOOKUP(K34,lookups!$A$1:$B$363,2,FALSE)","v":"       -"},null,null,null,null,null,null,null,null,"","","",""]
[32,{"$f":"MONDAY!B35","v":0},{"$f":"MONDAY!C35","v":0},{"$f":"MONDAY!D35","v":0},null,null,null,null,null,null,0,{"$f":"VLOOKUP(K35,lookups!$A$1:$B$363,2,FALSE)","v":"       -"},null,null,null,null,null,null,null,null,"","","",""]
[33,{"$f":"MONDAY!B36","v":0},{"$f":"MONDAY!C36","v":0},{"$f":"MONDAY!D36","v":0},null,null,null,null,null,null,0,{"$f":"VLOOKUP(K36,lookups!$A$1:$B$363,2,FALSE)","v":"       -"},null,null,null,null,null,null,null,null,"","","",""]
[34,{"$f":"MONDAY!B37","v":0},{"$f":"MONDAY!C37","v":0},{"$f":"MONDAY!D37","v":0},null,null,null,null,null,null,0,{"$f":"VLOOKUP(K37,lookups!$A$1:$B$363,2,FALSE)","v":"       -"},null,null,null,null,null,null,null,null,"","","",""]
[35,{"$f":"MONDAY!B38","v":0},{"$f":"MONDAY!C38","v":0},{"$f":"MONDAY!D38","v":0},null,null,null,null,null,null,0,{"$f":"VLOOKUP(K38,lookups!$A$1:$B$363,2,FALSE)","v":"       -"},null,null,null,null,null,null,null,null,"","","",""]
[36,{"$f":"MONDAY!B39","v":0},{"$f":"MONDAY!C39","v":0},{"$f":"MONDAY!D39","v":0},null,null,null,null,null,null,0,{"$f":"VLOOKUP(K39,lookups!$A$1:$B$363,2,FALSE)","v":"       -"},null,null,null,null,null,null,null,null,"","","",""]
[37,{"$f":"MONDAY!B40","v":0},{"$f":"MONDAY!C40","v":0},{"$f":"MONDAY!D40","v":0},null,null,null,null,null,null,0,{"$f":"VLOOKUP(K40,lookups!$A$1:$B$363,2,FALSE)","v":"       -"},null,null,null,null,null,null,null,null,"","","",""]
[38,{"$f":"MONDAY!B41","v":0},{"$f":"MONDAY!C41","v":0},{"$f":"MONDAY!D41","v":0},null,null,null,null,null,null,0,{"$f":"VLOOKUP(K41,lookups!$A$1:$B$363,2,FALSE)","v":"       -"},null,null,null,null,null,null,null,null,"","","",""]
[39,{"$f":"MONDAY!B42","v":0},{"$f":"MONDAY!C42","v":0},{"$f":"MONDAY!D42","v":0},null,null,null,null,null,null,0,{"$f":"VLOOKUP(K42,lookups!$A$1:$B$363,2,FALSE)","v":"       -"},null,null,null,null,null,null,null,null,"","","",""]
[40,{"$f":"MONDAY!B43","v":0},{"$f":"MONDAY!C43","v":0},{"$f":"MONDAY!D43","v":0},null,null,null,null,null,null,0,{"$f":"VLOOKUP(K43,lookups!$A$1:$B$363,2,FALSE)","v":"       -"},null,null,null,null,null,null,null,null,"","","",""]
[41,{"$f":"MONDAY!B44","v":0},{"$f":"MONDAY!C44","v":0},{"$f":"MONDAY!D44","v":0},null,null,null,null,null,null,0,{"$f":"VLOOKUP(K44,lookups!$A$1:$B$363,2,FALSE)","v":"       -"},null,null,null,null,null,null,null,null,"","","",""]
[42,{"$f":"MONDAY!B45","v":0},{"$f":"MONDAY!C45","v":0},{"$f":"MONDAY!D45","v":0},null,null,null,null,null,null,0,{"$f":"VLOOKUP(K45,lookups!$A$1:$B$363,2,FALSE)","v":"       -"},null,null,null,null,null,null,null,null,"","","",""]
[43,{"$f":"MONDAY!B46","v":0},{"$f":"MONDAY!C46","v":0},{"$f":"MONDAY!D46","v":0},null,null,null,null,null,null,0,{"$f":"VLOOKUP(K46,lookups!$A$1:$B$363,2,FALSE)","v":"       -"},null,null,null,null,null,null,null,null,"","","",""]
[44,{"$f":"MONDAY!B47","v":0},{"$f":"MONDAY!C47","v":0},{"$f":"MONDAY!D47","v":0},null,null,null,null,null,null,0,{"$f":"VLOOKUP(K47,lookups!$A$1:$B$363,2,FALSE)","v":"       -"},null,null,null,null,null,null,null,null,"","","",""]
[45,{"$f":"MONDAY!B48","v":0},{"$f":"MONDAY!C48","v":0},{"$f":"MONDAY!D48","v":0},null,null,null,null,null,null,0,{"$f":"VLOOKUP(K48,lookups!$A$1:$B$363,2,FALSE)","v":"       -"},null,null,null,null,null,null,null,null,"","","",""]
[46,{"$f":"MONDAY!B49","v":0},{"$f":"MONDAY!C49","v":0},{"$f":"MONDAY!D49","v":0},null,null,null,null,null,null,0,{"$f":"VLOOKUP(K49,lookups!$A$1:$B$363,2,FALSE)","v":"       -"},null,null,null,null,null,null,null,null,"","","",""]
[47,{"$f":"MONDAY!B50","v":0},{"$f":"MONDAY!C50","v":0},{"$f":"MONDAY!D50","v":0},null,null,null,null,null,null,0,{"$f":"VLOOKUP(K50,lookups!$A$1:$B$363,2,FALSE)","v":"       -"},null,null,null,null,null,null,null,null,"","","",""]
[48,{"$f":"MONDAY!B51","v":0},{"$f":"MONDAY!C51","v":0},{"$f":"MONDAY!D51","v":0},null,null,null,null,null,null,0,{"$f":"VLOOKUP(K51,lookups!$A$1:$B$363,2,FALSE)","v":"       -"},null,null,null,null,null,null,null,null,"","","",""]
[49,{"$f":"MONDAY!B52","v":0},{"$f":"MONDAY!C52","v":0},{"$f":"MONDAY!D52","v":0},null,null,null,null,null,null,0,{"$f":"VLOOKUP(K52,lookups!$A$1:$B$363,2,FALSE)","v":"       -"},null,null,null,null,null,null,null,null,"","","",""]
[50,{"$f":"MONDAY!B53","v":0},{"$f":"MONDAY!C53","v":0},{"$f":"MONDAY!D53","v":0},null,null,null,null,null,null,0,{"$f":"VLOOKUP(K53,lookups!$A$1:$B$363,2,FALSE)","v":"       -"},null,null,null,null,null,null,null,null,"","","",""]
[51,{"$f":"MONDAY!B54","v":0},{"$f":"MONDAY!C54","v":0},{"$f":"MONDAY!D54","v":0},null,null,null,null,null,null,0,{"$f":"VLOOKUP(K54,lookups!$A$1:$B$363,2,FALSE)","v":"       -"},null,null,null,null,null,null,null,null,"","","",""]
[52,{"$f":"MONDAY!B55","v":0},{"$f":"MONDAY!C55","v":0},{"$f":"MONDAY!D55","v":0},null,null,null,null,null,null,0,{"$f":"VLOOKUP(K55,lookups!$A$1:$B$363,2,FALSE)","v":"       -"},null,null,null,null,null,null,null,null,"","","",""]
[53,{"$f":"MONDAY!B56","v":0},{"$f":"MONDAY!C56","v":0},{"$f":"MONDAY!D56","v":0},null,null,null,null,null,null,0,{"$f":"VLOOKUP(K56,lookups!$A$1:$B$363,2,FALSE)","v":"       -"},null,null,null,null,null,null,null,null,"","","",""]
[54,{"$f":"MONDAY!B57","v":0},{"$f":"MONDAY!C57","v":0},{"$f":"MONDAY!D57","v":0},null,null,null,null,null,null,0,{"$f":"VLOOKUP(K57,lookups!$A$1:$B$363,2,FALSE)","v":"       -"},null,null,null,null,null,null,null,null,"","","",""]
[55,{"$f":"MONDAY!B58","v":0},{"$f":"MONDAY!C58","v":0},{"$f":"MONDAY!D58","v":0},null,null,null,null,null,null,0,{"$f":"VLOOKUP(K58,lookups!$A$1:$B$363,2,FALSE)","v":"       -"},null,null,null,null,null,null,null,null,"","","",""]
[56,{"$f":"MONDAY!B59","v":0},{"$f":"MONDAY!C59","v":0},{"$f":"MONDAY!D59","v":0},null,null,null,null,null,null,0,{"$f":"VLOOKUP(K59,lookups!$A$1:$B$363,2,FALSE)","v":"       -"},null,null,null,null,null,null,null,null,"","","",""]
[57,{"$f":"MONDAY!B60","v":0},{"$f":"MONDAY!C60","v":0},{"$f":"MONDAY!D60","v":0},null,null,null,null,null,null,0,{"$f":"VLOOKUP(K60,lookups!$A$1:$B$363,2,FALSE)","v":"       -"},null,null,null,null,null,null,null,null,"","","",""]
[58,{"$f":"MONDAY!B61","v":0},{"$f":"MONDAY!C61","v":0},{"$f":"MONDAY!D61","v":0},null,null,null,null,null,null,0,{"$f":"VLOOKUP(K61,lookups!$A$1:$B$363,2,FALSE)","v":"       -"},null,null,null,null,null,null,null,null,"","","",""]
[59,{"$f":"MONDAY!B62","v":0},{"$f":"MONDAY!C62","v":0},{"$f":"MONDAY!D62","v":0},null,null,null,null,null,null,0,{"$f":"VLOOKUP(K62,lookups!$A$1:$B$363,2,FALSE)","v":"       -"},null,null,null,null,null,null,null,null,"","","",""]
[60,{"$f":"MONDAY!B63","v":0},{"$f":"MONDAY!C63","v":0},{"$f":"MONDAY!D63","v":0},null,null,null,null,null,null,0,{"$f":"VLOOKUP(K63,lookups!$A$1:$B$363,2,FALSE)","v":"       -"},null,null,null,null,null,null,null,null,"","","",""]
[61,{"$f":"MONDAY!B64","v":0},{"$f":"MONDAY!C64","v":0},{"$f":"MONDAY!D64","v":0},null,null,null,null,null,null,0,{"$f":"VLOOKUP(K64,lookups!$A$1:$B$363,2,FALSE)","v":"       -"},null,null,null,null,null,null,null,null,"","","",""]
[62,{"$f":"MONDAY!B65","v":0},{"$f":"MONDAY!C65","v":0},{"$f":"MONDAY!D65","v":0},null,null,null,null,null,null,0,{"$f":"VLOOKUP(K65,lookups!$A$1:$B$363,2,FALSE)","v":"       -"},null,null,null,null,null,null,null,null,"","","",""]
[63,{"$f":"MONDAY!B66","v":0},{"$f":"MONDAY!C66","v":0},{"$f":"MONDAY!D66","v":0},null,null,null,null,null,null,0,{"$f":"VLOOKUP(K66,lookups!$A$1:$B$363,2,FALSE)","v":"       -"},null,null,null,null,null,null,null,null,"","","",""]
[64,{"$f":"MONDAY!B67","v":0},{"$f":"MONDAY!C67","v":0},{"$f":"MONDAY!D67","v":0},null,null,null,null,null,null,0,{"$f":"VLOOKUP(K67,lookups!$A$1:$B$363,2,FALSE)","v":"       -"},null,null,null,null,null,null,null,null,"","","",""]
[65,{"$f":"MONDAY!B68","v":0},{"$f":"MONDAY!C68","v":0},{"$f":"MONDAY!D68","v":0},null,null,null,null,null,null,0,{"$f":"VLOOKUP(K68,lookups!$A$1:$B$363,2,FALSE)","v":"       -"},null,null,null,null,null,null,null,null,"","","",""]
[66,{"$f":"MONDAY!B69","v":0},{"$f":"MONDAY!C69","v":0},{"$f":"MONDAY!D69","v":0},null,null,null,null,null,null,{"$f":"SUM(F69:J69)","v":0},{"$f":"VLOOKUP(K69,lookups!$A$1:$B$363,2,FALSE)","v":"       -"},null,null,null,null,null,null,null,null,{"$f":"IF(L69=$U$3,1,\"\")","v":""},{"$f":"IF(L69=$V$3,1,\"\")","v":""},{"$f":"IF(L69=$W$3,1,\"\")","v":""},{"$f":"IF(L69=$X$3,1,\"\")","v":""}]
[{"$f":"A69+1","v":67},{"$f":"MONDAY!B70","v":0},{"$f":"MONDAY!C70","v":0},{"$f":"MONDAY!D70","v":0},null,null,null,null,null,null,0,{"$f":"VLOOKUP(K70,lookups!$A$1:$B$363,2,FALSE)","v":"       -"},null,null,null,null,null,null,null,null,"","","",""]
[68,{"$f":"MONDAY!B71","v":0},{"$f":"MONDAY!C71","v":0},{"$f":"MONDAY!D71","v":0},null,null,null,null,null,null,0,{"$f":"VLOOKUP(K71,lookups!$A$1:$B$363,2,FALSE)","v":"       -"},null,null,null,null,null,null,null,null,"","","",""]
[69,{"$f":"MONDAY!B72","v":0},{"$f":"MONDAY!C72","v":0},{"$f":"MONDAY!D72","v":0},null,null,null,null,null,null,0,{"$f":"VLOOKUP(K72,lookups!$A$1:$B$363,2,FALSE)","v":"       -"},null,null,null,null,null,null,null,null,"","","",""]
[70,{"$f":"MONDAY!B73","v":0},{"$f":"MONDAY!C73","v":0},{"$f":"MONDAY!D73","v":0},null,null,null,null,null,null,0,{"$f":"VLOOKUP(K73,lookups!$A$1:$B$363,2,FALSE)","v":"       -"},null,null,null,null,null,null,null,null,"","","",""]
[71,{"$f":"MONDAY!B74","v":0},{"$f":"MONDAY!C74","v":0},{"$f":"MONDAY!D74","v":0},null,null,null,null,null,null,0,{"$f":"VLOOKUP(K74,lookups!$A$1:$B$363,2,FALSE)","v":"       -"},null,null,null,null,null,null,null,null,"","","",""]
[72,{"$f":"MONDAY!B75","v":0},{"$f":"MONDAY!C75","v":0},{"$f":"MONDAY!D75","v":0},null,null,null,null,null,null,0,{"$f":"VLOOKUP(K75,lookups!$A$1:$B$363,2,FALSE)","v":"       -"},null,null,null,null,null,null,null,null,"","","",""]
[73,{"$f":"MONDAY!B76","v":0},{"$f":"MONDAY!C76","v":0},{"$f":"MONDAY!D76","v":0},null,null,null,null,null,null,0,{"$f":"VLOOKUP(K76,lookups!$A$1:$B$363,2,FALSE)","v":"       -"},null,null,null,null,null,null,null,null,"","","",""]
[74,{"$f":"MONDAY!B77","v":0},{"$f":"MONDAY!C77","v":0},{"$f":"MONDAY!D77","v":0},null,null,null,null,null,null,0,{"$f":"VLOOKUP(K77,lookups!$A$1:$B$363,2,FALSE)","v":"       -"},null,null,null,null,null,null,null,null,"","","",""]
[75,{"$f":"MONDAY!B78","v":0},{"$f":"MONDAY!C78","v":0},{"$f":"MONDAY!D78","v":0},null,null,null,null,null,null,0,{"$f":"VLOOKUP(K78,lookups!$A$1:$B$363,2,FALSE)","v":"       -"},null,null,null,null,null,null,null,null,"","","",""]
[76,{"$f":"MONDAY!B79","v":0},{"$f":"MONDAY!C79","v":0},{"$f":"MONDAY!D79","v":0},null,null,null,null,null,null,0,{"$f":"VLOOKUP(K79,lookups!$A$1:$B$363,2,FALSE)","v":"       -"},null,null,null,null,null,null,null,null,"","","",""]
[77,{"$f":"MONDAY!B80","v":0},{"$f":"MONDAY!C80","v":0},{"$f":"MONDAY!D80","v":0},null,null,null,null,null,null,0,{"$f":"VLOOKUP(K80,lookups!$A$1:$B$363,2,FALSE)","v":"       -"},null,null,null,null,null,null,null,null,"","","",""]
[78,{"$f":"MONDAY!B81","v":0},{"$f":"MONDAY!C81","v":0},{"$f":"MONDAY!D81","v":0},null,null,null,null,null,null,0,{"$f":"VLOOKUP(K81,lookups!$A$1:$B$363,2,FALSE)","v":"       -"},null,null,null,null,null,null,null,null,"","","",""]
[79,{"$f":"MONDAY!B82","v":0},{"$f":"MONDAY!C82","v":0},{"$f":"MONDAY!D82","v":0},null,null,null,null,null,null,0,{"$f":"VLOOKUP(K82,lookups!$A$1:$B$363,2,FALSE)","v":"       -"},null,null,null,null,null,null,null,null,"","","",""]
[80,{"$f":"MONDAY!B83","v":0},{"$f":"MONDAY!C83","v":0},{"$f":"MONDAY!D83","v":0},null,null,null,null,null,null,0,{"$f":"VLOOKUP(K83,lookups!$A$1:$B$363,2,FALSE)","v":"       -"},null,null,null,null,null,null,null,null,"","","",""]
[81,{"$f":"MONDAY!B84","v":0},{"$f":"MONDAY!C84","v":0},{"$f":"MONDAY!D84","v":0},null,null,null,null,null,null,0,{"$f":"VLOOKUP(K84,lookups!$A$1:$B$363,2,FALSE)","v":"       -"},null,null,null,null,null,null,null,null,"","","",""]
[82,{"$f":"MONDAY!B85","v":0},{"$f":"MONDAY!C85","v":0},{"$f":"MONDAY!D85","v":0},null,null,null,null,null,null,0,{"$f":"VLOOKUP(K85,lookups!$A$1:$B$363,2,FALSE)","v":"       -"},null,null,null,null,null,null,null,null,"","","",""]
[83,{"$f":"MONDAY!B86","v":0},{"$f":"MONDAY!C86","v":0},{"$f":"MONDAY!D86","v":0},null,null,null,null,null,null,0,{"$f":"VLOOKUP(K86,lookups!$A$1:$B$363,2,FALSE)","v":"       -"},null,null,null,null,null,null,null,null,"","","",""]
[84,{"$f":"MONDAY!B87","v":0},{"$f":"MONDAY!C87","v":0},{"$f":"MONDAY!D87","v":0},null,null,null,null,null,null,0,{"$f":"VLOOKUP(K87,lookups!$A$1:$B$363,2,FALSE)","v":"       -"},null,null,null,null,null,null,null,null,"","","",""]
[85,{"$f":"MONDAY!B88","v":0},{"$f":"MONDAY!C88","v":0},{"$f":"MONDAY!D88","v":0},null,null,null,null,null,null,0,{"$f":"VLOOKUP(K88,lookups!$A$1:$B$363,2,FALSE)","v":"       -"},null,null,null,null,null,null,null,null,"","","",""]
[86,{"$f":"MONDAY!B89","v":0},{"$f":"MONDAY!C89","v":0},{"$f":"MONDAY!D89","v":0},null,null,null,null,null,null,0,{"$f":"VLOOKUP(K89,lookups!$A$1:$B$363,2,FALSE)","v":"       -"},null,null,null,null,null,null,null,null,"","","",""]
[87,{"$f":"MONDAY!B90","v":0},{"$f":"MONDAY!C90","v":0},{"$f":"MONDAY!D90","v":0},null,null,null,null,null,null,0,{"$f":"VLOOKUP(K90,lookups!$A$1:$B$363,2,FALSE)","v":"       -"},null,null,null,null,null,null,null,null,"","","",""]
[88,{"$f":"MONDAY!B91","v":0},{"$f":"MONDAY!C91","v":0},{"$f":"MONDAY!D91","v":0},null,null,null,null,null,null,0,{"$f":"VLOOKUP(K91,lookups!$A$1:$B$363,2,FALSE)","v":"       -"},null,null,null,null,null,null,null,null,"","","",""]
[89,{"$f":"MONDAY!B92","v":0},{"$f":"MONDAY!C92","v":0},{"$f":"MONDAY!D92","v":0},null,null,null,null,null,null,0,{"$f":"VLOOKUP(K92,lookups!$A$1:$B$363,2,FALSE)","v":"       -"},null,null,null,null,null,null,null,null,"","","",""]
[90,{"$f":"MONDAY!B93","v":0},{"$f":"MONDAY!C93","v":0},{"$f":"MONDAY!D93","v":0},null,null,null,null,null,null,0,{"$f":"VLOOKUP(K93,lookups!$A$1:$B$363,2,FALSE)","v":"       -"},null,null,null,null,null,null,null,null,"","","",""]
[91,{"$f":"MONDAY!B94","v":0},{"$f":"MONDAY!C94","v":0},{"$f":"MONDAY!D94","v":0},null,null,null,null,null,null,0,{"$f":"VLOOKUP(K94,lookups!$A$1:$B$363,2,FALSE)","v":"       -"},null,null,null,null,null,null,null,null,"","","",""]
[92,{"$f":"MONDAY!B95","v":0},{"$f":"MONDAY!C95","v":0},{"$f":"MONDAY!D95","v":0},null,null,null,null,null,null,0,{"$f":"VLOOKUP(K95,lookups!$A$1:$B$363,2,FALSE)","v":"       -"},null,null,null,null,null,null,null,null,"","","",""]
[93,{"$f":"MONDAY!B96","v":0},{"$f":"MONDAY!C96","v":0},{"$f":"MONDAY!D96","v":0},null,null,null,null,null,null,0,{"$f":"VLOOKUP(K96,lookups!$A$1:$B$363,2,FALSE)","v":"       -"},null,null,null,null,null,null,null,null,"","","",""]
[94,{"$f":"MONDAY!B97","v":0},{"$f":"MONDAY!C97","v":0},{"$f":"MONDAY!D97","v":0},null,null,null,null,null,null,0,{"$f":"VLOOKUP(K97,lookups!$A$1:$B$363,2,FALSE)","v":"       -"},null,null,null,null,null,null,null,null,"","","",""]
[95,{"$f":"MONDAY!B98","v":0},{"$f":"MONDAY!C98","v":0},{"$f":"MONDAY!D98","v":0},null,null,null,null,null,null,0,{"$f":"VLOOKUP(K98,lookups!$A$1:$B$363,2,FALSE)","v":"       -"},null,null,null,null,null,null,null,null,"","","",""]
[96,{"$f":"MONDAY!B99","v":0},{"$f":"MONDAY!C99","v":0},{"$f":"MONDAY!D99","v":0},null,null,null,null,null,null,0,{"$f":"VLOOKUP(K99,lookups!$A$1:$B$363,2,FALSE)","v":"       -"},null,null,null,null,null,null,null,null,"","","",""]
[97,{"$f":"MONDAY!B100","v":0},{"$f":"MONDAY!C100","v":0},{"$f":"MONDAY!D100","v":0},null,null,null,null,null,null,0,{"$f":"VLOOKUP(K100,lookups!$A$1:$B$363,2,FALSE)","v":"       -"},null,null,null,null,null,null,null,null,"","","",""]
[98,{"$f":"MONDAY!B101","v":0},{"$f":"MONDAY!C101","v":0},{"$f":"MONDAY!D101","v":0},null,null,null,null,null,null,0,{"$f":"VLOOKUP(K101,lookups!$A$1:$B$363,2,FALSE)","v":"       -"},null,null,null,null,null,null,null,null,"","","",""]
[99,{"$f":"MONDAY!B102","v":0},{"$f":"MONDAY!C102","v":0},{"$f":"MONDAY!D102","v":0},null,null,null,null,null,null,0,{"$f":"VLOOKUP(K102,lookups!$A$1:$B$363,2,FALSE)","v":"       -"},null,null,null,null,null,null,null,null,"","","",""]
[100,{"$f":"MONDAY!B103","v":0},{"$f":"MONDAY!C103","v":0},{"$f":"MONDAY!D103","v":0},null,null,null,null,null,null,0,{"$f":"VLOOKUP(K103,lookups!$A$1:$B$363,2,FALSE)","v":"       -"},null,null,null,null,null,null,null,null,"","","",""]
[null,null,null,null,null,null,null,null,null,null,null,{"$f":"SUM(U106:X106)","v":0},null,null,null,null,null,null,null,"Count",{"$f":"SUM(U4:U103)","v":0},{"$f":"SUM(V4:V103)","v":0},0,0]
[null,null,null,null,null,null,null,null,null,null,null,null,null,null,null,null,null,null,null,"Rate",{"$f":"C2","v":0},12.56,23.48,37.409999999999997]
[null,null,null,null,null,null,null,null,null,null,null,null,null,null,null,null,null,null,null,"Revenue",{"$f":"U104*U105","v":0},{"$f":"V104*V105","v":0},0,0]
[]
[null,"Bill Code","Registrants","Rate",null,"Revenue"]
[null,7963,{"$f":"V104","v":0},12.56,null,{"$f":"C109*D109","v":0}]
[null,7964,{"$f":"W104","v":0},23.48,null,{"$f":"C110*D110","v":0}]
[null,7965,{"$f":"X104","v":0},37.409999999999997,null,0]
[null,3301,{"$f":"U104","v":0},{"$f":"MONDAY!D112","v":0},null,0]
[null,null,null,null,null,{"$f":"SUM(F109:F112)","v":0}]

{"sheet":"WEDNESDAY","index":2,"n_rows":113,"n_cols":24,"rows_kept":113,"cut":false,"hidden":false,"merged":[[1,5,1,10]]}
[null,"Weekending",{"$f":"MONDAY!C1","v":"00:00:00"}]
[null,null,null,null,null,"Interactions in Minutes"]
[null,"Name","ID","Diagnosis",null,"RN 1:1","RN Group","MSW 1:1","MSW Group","Other","Daily Total minuets","Bill Code",null,null,null,null,null,null,null,null,3103,7963,7964,7965]
[1,{"$f":"MONDAY!B4","v":0},{"$f":"MONDAY!C4","v":0},{"$f":"MONDAY!D4","v":0},null,null,null,null,null,null,{"$f":"SUM(F4:J4)","v":0},{"$f":"VLOOKUP(K4,lookups!$A$1:$B$363,2,FALSE)","v":"       -"},null,null,null,null,null,null,null,null,{"$f":"IF(L4=$U$3,1,\"\")","v":""},{"$f":"IF(L4=$V$3,1,\"\")","v":""},{"$f":"IF(L4=$W$3,1,\"\")","v":""},{"$f":"IF(L4=$X$3,1,\"\")","v":""}]
[{"$f":"A4+1","v":2},{"$f":"MONDAY!B5","v":0},{"$f":"MONDAY!C5","v":0},{"$f":"MONDAY!D5","v":0},null,null,null,null,null,null,{"$f":"SUM(F5:J5)","v":0},{"$f":"VLOOKUP(K5,lookups!$A$1:$B$363,2,FALSE)","v":"       -"},null,null,null,null,null,null,null,null,{"$f":"IF(L5=$U$3,1,\"\")","v":""},{"$f":"IF(L5=$V$3,1,\"\")","v":""},{"$f":"IF(L5=$W$3,1,\"\")","v":""},{"$f":"IF(L5=$X$3,1,\"\")","v":""}]
[{"$f":"A5+1","v":3},{"$f":"MONDAY!B6","v":0},{"$f":"MONDAY!C6","v":0},{"$f":"MONDAY!D6","v":0},null,null,null,null,null,null,0,{"$f":"VLOOKUP(K6,lookups!$A$1:$B$363,2,FALSE)","v":"       -"},null,null,null,null,null,null,null,null,"","","",""]
[4,{"$f":"MONDAY!B7","v":0},{"$f":"MONDAY!C7","v":0},{"$f":"MONDAY!D7","v":0},null,null,null,null,null,null,0,{"$f":"VLOOKUP(K7,lookups!$A$1:$B$363,2,FALSE)","v":"       -"},null,null,null,null,null,null,null,null,"","","",""]
[5,{"$f":"MONDAY!B8","v":0},{"$f":"MONDAY!C8","v":0},{"$f":"MONDAY!D8","v":0},null,null,null,null,null,null,0,{"$f":"VLOOKUP(K8,lookups!$A$1:$B$363,2,FALSE)","v":"       -"},null,null,null,null,null,null,null,null,"","","",""]
[6,{"$f":"MONDAY!B9","v":0},{"$f":"MONDAY!C9","v":0},{"$f":"MONDAY!D9","v":0},null,null,null,null,null,null,0,{"$f":"VLOOKUP(K9,lookups!$A$1:$B$363,2,FALSE)","v":"       -"},null,null,null,null,null,null,null,null,"","","",""]
[7,{"$f":"MONDAY!B10","v":0},{"$f":"MONDAY!C10","v":0},{"$f":"MONDAY!D10","v":0},null,null,null,null,null,null,0,{"$f":"VLOOKUP(K10,lookups!$A$1:$B$363,2,FALSE)","v":"       -"},null,null,null,null,null,null,null,null,"","","",""]
[8,{"$f":"MONDAY!B11","v":0},{"$f":"MONDAY!C11","v":0},{"$f":"MONDAY!D11","v":0},null,null,null,null,null,null,0,{"$f":"VLOOKUP(K11,lookups!$A$1:$B$363,2,FALSE)","v":"       -"},null,null,null,null,null,null,null,null,"","","",""]
[9,{"$f":"MONDAY!B12","v":0},{"$f":"MONDAY!C12","v":0},{"$f":"MONDAY!D12","v":0},null,null,null,null,null,null,0,{"$f":"VLOOKUP(K12,lookups!$A$1:$B$363,2,FALSE)","v":"       -"},null,null,null,null,null,null,null,null,"","","",""]
[10,{"$f":"MONDAY!B13","v":0},{"$f":"MONDAY!C13","v":0},{"$f":"MONDAY!D13","v":0},null,null,null,null,null,null,0,{"$f":"VLOOKUP(K13,lookups!$A$1:$B$363,2,FALSE)","v":"       -"},null,null,null,null,null,null,null,null,"","","",""]
[11,{"$f":"MONDAY!B14","v":0},{"$f":"MONDAY!C14","v":0},{"$f":"MONDAY!D14","v":0},null,null,null,null,null,null,0,{"$f":"VLOOKUP(K14,lookups!$A$1:$B$363,2,FALSE)","v":"       -"},null,null,null,null,null,null,null,null,"","","",""]
[12,{"$f":"MONDAY!B15","v":0},{"$f":"MONDAY!C15","v":0},{"$f":"MONDAY!D15","v":0},null,null,null,null,null,null,0,{"$f":"VLOOKUP(K15,lookups!$A$1:$B$363,2,FALSE)","v":"       -"},null,null,null,null,null,null,null,null,"","","",""]
[13,{"$f":"MONDAY!B16","v":0},{"$f":"MONDAY!C16","v":0},{"$f":"MONDAY!D16","v":0},null,null,null,null,null,null,0,{"$f":"VLOOKUP(K16,lookups!$A$1:$B$363,2,FALSE)","v":"       -"},null,null,null,null,null,null,null,null,"","","",""]
[14,{"$f":"MONDAY!B17","v":0},{"$f":"MONDAY!C17","v":0},{"$f":"MONDAY!D17","v":0},null,null,null,null,null,null,0,{"$f":"VLOOKUP(K17,lookups!$A$1:$B$363,2,FALSE)","v":"       -"},null,null,null,null,null,null,null,null,"","","",""]
[15,{"$f":"MONDAY!B18","v":0},{"$f":"MONDAY!C18","v":0},{"$f":"MONDAY!D18","v":0},null,null,null,null,null,null,0,{"$f":"VLOOKUP(K18,lookups!$A$1:$B$363,2,FALSE)","v":"       -"},null,null,null,null,null,null,null,null,"","","",""]
[16,{"$f":"MONDAY!B19","v":0},{"$f":"MONDAY!C19","v":0},{"$f":"MONDAY!D19","v":0},null,null,null,null,null,null,0,{"$f":"VLOOKUP(K19,lookups!$A$1:$B$363,2,FALSE)","v":"       -"},null,null,null,null,null,null,null,null,"","","",""]
[17,{"$f":"MONDAY!B20","v":0},{"$f":"MONDAY!C20","v":0},{"$f":"MONDAY!D20","v":0},null,null,null,null,null,null,0,{"$f":"VLOOKUP(K20,lookups!$A$1:$B$363,2,FALSE)","v":"       -"},null,null,null,null,null,null,null,null,"","","",""]
[18,{"$f":"MONDAY!B21","v":0},{"$f":"MONDAY!C21","v":0},{"$f":"MONDAY!D21","v":0},null,null,null,null,null,null,0,{"$f":"VLOOKUP(K21,lookups!$A$1:$B$363,2,FALSE)","v":"       -"},null,null,null,null,null,null,null,null,"","","",""]
[19,{"$f":"MONDAY!B22","v":0},{"$f":"MONDAY!C22","v":0},{"$f":"MONDAY!D22","v":0},null,null,null,null,null,null,0,{"$f":"VLOOKUP(K22,lookups!$A$1:$B$363,2,FALSE)","v":"       -"},null,null,null,null,null,null,null,null,"","","",""]
[20,{"$f":"MONDAY!B23","v":0},{"$f":"MONDAY!C23","v":0},{"$f":"MONDAY!D23","v":0},null,null,null,null,null,null,0,{"$f":"VLOOKUP(K23,lookups!$A$1:$B$363,2,FALSE)","v":"       -"},null,null,null,null,null,null,null,null,"","","",""]
[21,{"$f":"MONDAY!B24","v":0},{"$f":"MONDAY!C24","v":0},{"$f":"MONDAY!D24","v":0},null,null,null,null,null,null,0,{"$f":"VLOOKUP(K24,lookups!$A$1:$B$363,2,FALSE)","v":"       -"},null,null,null,null,null,null,null,null,"","","",""]
[22,{"$f":"MONDAY!B25","v":0},{"$f":"MONDAY!C25","v":0},{"$f":"MONDAY!D25","v":0},null,null,null,null,null,null,0,{"$f":"VLOOKUP(K25,lookups!$A$1:$B$363,2,FALSE)","v":"       -"},null,null,null,null,null,null,null,null,"","","",""]
[23,{"$f":"MONDAY!B26","v":0},{"$f":"MONDAY!C26","v":0},{"$f":"MONDAY!D26","v":0},null,null,null,null,null,null,0,{"$f":"VLOOKUP(K26,lookups!$A$1:$B$363,2,FALSE)","v":"       -"},null,null,null,null,null,null,null,null,"","","",""]
[24,{"$f":"MONDAY!B27","v":0},{"$f":"MONDAY!C27","v":0},{"$f":"MONDAY!D27","v":0},null,null,null,null,null,null,0,{"$f":"VLOOKUP(K27,lookups!$A$1:$B$363,2,FALSE)","v":"       -"},null,null,null,null,null,null,null,null,"","","",""]
[25,{"$f":"MONDAY!B28","v":0},{"$f":"MONDAY!C28","v":0},{"$f":"MONDAY!D28","v":0},null,null,null,null,null,null,0,{"$f":"VLOOKUP(K28,lookups!$A$1:$B$363,2,FALSE)","v":"       -"},null,null,null,null,null,null,null,null,"","","",""]
[26,{"$f":"MONDAY!B29","v":0},{"$f":"MONDAY!C29","v":0},{"$f":"MONDAY!D29","v":0},null,null,null,null,null,null,0,{"$f":"VLOOKUP(K29,lookups!$A$1:$B$363,2,FALSE)","v":"       -"},null,null,null,null,null,null,null,null,"","","",""]
[27,{"$f":"MONDAY!B30","v":0},{"$f":"MONDAY!C30","v":0},{"$f":"MONDAY!D30","v":0},null,null,null,null,null,null,0,{"$f":"VLOOKUP(K30,lookups!$A$1:$B$363,2,FALSE)","v":"       -"},null,null,null,null,null,null,null,null,"","","",""]
[28,{"$f":"MONDAY!B31","v":0},{"$f":"MONDAY!C31","v":0},{"$f":"MONDAY!D31","v":0},null,null,null,null,null,null,0,{"$f":"VLOOKUP(K31,lookups!$A$1:$B$363,2,FALSE)","v":"       -"},null,null,null,null,null,null,null,null,"","","",""]
[29,{"$f":"MONDAY!B32","v":0},{"$f":"MONDAY!C32","v":0},{"$f":"MONDAY!D32","v":0},null,null,null,null,null,null,0,{"$f":"VLOOKUP(K32,lookups!$A$1:$B$363,2,FALSE)","v":"       -"},null,null,null,null,null,null,null,null,"","","",""]
[30,{"$f":"MONDAY!B33","v":0},{"$f":"MONDAY!C33","v":0},{"$f":"MONDAY!D33","v":0},null,null,null,null,null,null,0,{"$f":"VLOOKUP(K33,lookups!$A$1:$B$363,2,FALSE)","v":"       -"},null,null,null,null,null,null,null,null,"","","",""]
[31,{"$f":"MONDAY!B34","v":0},{"$f":"MONDAY!C34","v":0},{"$f":"MONDAY!D34","v":0},null,null,null,null,null,null,0,{"$f":"VLOOKUP(K34,lookups!$A$1:$B$363,2,FALSE)","v":"       -"},null,null,null,null,null,null,null,null,"","","",""]
[32,{"$f":"MONDAY!B35","v":0},{"$f":"MONDAY!C35","v":0},{"$f":"MONDAY!D35","v":0},null,null,null,null,null,null,0,{"$f":"VLOOKUP(K35,lookups!$A$1:$B$363,2,FALSE)","v":"       -"},null,null,null,null,null,null,null,null,"","","",""]
[33,{"$f":"MONDAY!B36","v":0},{"$f":"MONDAY!C36","v":0},{"$f":"MONDAY!D36","v":0},null,null,null,null,null,null,0,{"$f":"VLOOKUP(K36,lookups!$A$1:$B$363,2,FALSE)","v":"       -"},null,null,null,null,null,null,null,null,"","","",""]
[34,{"$f":"MONDAY!B37","v":0},{"$f":"MONDAY!C37","v":0},{"$f":"MONDAY!D37","v":0},null,null,null,null,null,null,0,{"$f":"VLOOKUP(K37,lookups!$A$1:$B$363,2,FALSE)","v":"       -"},null,null,null,null,null,null,null,null,"","","",""]
[35,{"$f":"MONDAY!B38","v":0},{"$f":"MONDAY!C38","v":0},{"$f":"MONDAY!D38","v":0},null,null,null,null,null,null,0,{"$f":"VLOOKUP(K38,lookups!$A$1:$B$363,2,FALSE)","v":"       -"},null,null,null,null,null,null,null,null,"","","",""]
[36,{"$f":"MONDAY!B39","v":0},{"$f":"MONDAY!C39","v":0},{"$f":"MONDAY!D39","v":0},null,null,null,null,null,null,0,{"$f":"VLOOKUP(K39,lookups!$A$1:$B$363,2,FALSE)","v":"       -"},null,null,null,null,null,null,null,null,"","","",""]
[37,{"$f":"MONDAY!B40","v":0},{"$f":"MONDAY!C40","v":0},{"$f":"MONDAY!D40","v":0},null,null,null,null,null,null,0,{"$f":"VLOOKUP(K40,lookups!$A$1:$B$363,2,FALSE)","v":"       -"},null,null,null,null,null,null,null,null,"","","",""]
[38,{"$f":"MONDAY!B41","v":0},{"$f":"MONDAY!C41","v":0},{"$f":"MONDAY!D41","v":0},null,null,null,null,null,null,0,{"$f":"VLOOKUP(K41,lookups!$A$1:$B$363,2,FALSE)","v":"       -"},null,null,null,null,null,null,null,null,"","","",""]
[39,{"$f":"MONDAY!B42","v":0},{"$f":"MONDAY!C42","v":0},{"$f":"MONDAY!D42","v":0},null,null,null,null,null,null,0,{"$f":"VLOOKUP(K42,lookups!$A$1:$B$363,2,FALSE)","v":"       -"},null,null,null,null,null,null,null,null,"","","",""]
[40,{"$f":"MONDAY!B43","v":0},{"$f":"MONDAY!C43","v":0},{"$f":"MONDAY!D43","v":0},null,null,null,null,null,null,0,{"$f":"VLOOKUP(K43,lookups!$A$1:$B$363,2,FALSE)","v":"       -"},null,null,null,null,null,null,null,null,"","","",""]
[41,{"$f":"MONDAY!B44","v":0},{"$f":"MONDAY!C44","v":0},{"$f":"MONDAY!D44","v":0},null,null,null,null,null,null,0,{"$f":"VLOOKUP(K44,lookups!$A$1:$B$363,2,FALSE)","v":"       -"},null,null,null,null,null,null,null,null,"","","",""]
[42,{"$f":"MONDAY!B45","v":0},{"$f":"MONDAY!C45","v":0},{"$f":"MONDAY!D45","v":0},null,null,null,null,null,null,0,{"$f":"VLOOKUP(K45,lookups!$A$1:$B$363,2,FALSE)","v":"       -"},null,null,null,null,null,null,null,null,"","","",""]
[43,{"$f":"MONDAY!B46","v":0},{"$f":"MONDAY!C46","v":0},{"$f":"MONDAY!D46","v":0},null,null,null,null,null,null,0,{"$f":"VLOOKUP(K46,lookups!$A$1:$B$363,2,FALSE)","v":"       -"},null,null,null,null,null,null,null,null,"","","",""]
[44,{"$f":"MONDAY!B47","v":0},{"$f":"MONDAY!C47","v":0},{"$f":"MONDAY!D47","v":0},null,null,null,null,null,null,0,{"$f":"VLOOKUP(K47,lookups!$A$1:$B$363,2,FALSE)","v":"       -"},null,null,null,null,null,null,null,null,"","","",""]
[45,{"$f":"MONDAY!B48","v":0},{"$f":"MONDAY!C48","v":0},{"$f":"MONDAY!D48","v":0},null,null,null,null,null,null,0,{"$f":"VLOOKUP(K48,lookups!$A$1:$B$363,2,FALSE)","v":"       -"},null,null,null,null,null,null,null,null,"","","",""]
[46,{"$f":"MONDAY!B49","v":0},{"$f":"MONDAY!C49","v":0},{"$f":"MONDAY!D49","v":0},null,null,null,null,null,null,0,{"$f":"VLOOKUP(K49,lookups!$A$1:$B$363,2,FALSE)","v":"       -"},null,null,null,null,null,null,null,null,"","","",""]
[47,{"$f":"MONDAY!B50","v":0},{"$f":"MONDAY!C50","v":0},{"$f":"MONDAY!D50","v":0},null,null,null,null,null,null,0,{"$f":"VLOOKUP(K50,lookups!$A$1:$B$363,2,FALSE)","v":"       -"},null,null,null,null,null,null,null,null,"","","",""]
[48,{"$f":"MONDAY!B51","v":0},{"$f":"MONDAY!C51","v":0},{"$f":"MONDAY!D51","v":0},null,null,null,null,null,null,0,{"$f":"VLOOKUP(K51,lookups!$A$1:$B$363,2,FALSE)","v":"       -"},null,null,null,null,null,null,null,null,"","","",""]
[49,{"$f":"MONDAY!B52","v":0},{"$f":"MONDAY!C52","v":0},{"$f":"MONDAY!D52","v":0},null,null,null,null,null,null,0,{"$f":"VLOOKUP(K52,lookups!$A$1:$B$363,2,FALSE)","v":"       -"},null,null,null,null,null,null,null,null,"","","",""]
[50,{"$f":"MONDAY!B53","v":0},{"$f":"MONDAY!C53","v":0},{"$f":"MONDAY!D53","v":0},null,null,null,null,null,null,0,{"$f":"VLOOKUP(K53,lookups!$A$1:$B$363,2,FALSE)","v":"       -"},null,null,null,null,null,null,null,null,"","","",""]
[51,{"$f":"MONDAY!B54","v":0},{"$f":"MONDAY!C54","v":0},{"$f":"MONDAY!D54","v":0},null,null,null,null,null,null,0,{"$f":"VLOOKUP(K54,lookups!$A$1:$B$363,2,FALSE)","v":"       -"},null,null,null,null,null,null,null,null,"","","",""]
[52,{"$f":"MONDAY!B55","v":0},{"$f":"MONDAY!C55","v":0},{"$f":"MONDAY!D55","v":0},null,null,null,null,null,null,0,{"$f":"VLOOKUP(K55,lookups!$A$1:$B$363,2,FALSE)","v":"       -"},null,null,null,null,null,null,null,null,"","","",""]
[53,{"$f":"MONDAY!B56","v":0},{"$f":"MONDAY!C56","v":0},{"$f":"MONDAY!D56","v":0},null,null,null,null,null,null,0,{"$f":"VLOOKUP(K56,lookups!$A$1:$B$363,2,FALSE)","v":"       -"},null,null,null,null,null,null,null,null,"","","",""]
[54,{"$f":"MONDAY!B57","v":0},{"$f":"MONDAY!C57","v":0},{"$f":"MONDAY!D57","v":0},null,null,null,null,null,null,0,{"$f":"VLOOKUP(K57,lookups!$A$1:$B$363,2,FALSE)","v":"       -"},null,null,null,null,null,null,null,null,"","","",""]
[55,{"$f":"MONDAY!B58","v":0},{"$f":"MONDAY!C58","v":0},{"$f":"MONDAY!D58","v":0},null,null,null,null,null,null,0,{"$f":"VLOOKUP(K58,lookups!$A$1:$B$363,2,FALSE)","v":"       -"},null,null,null,null,null,null,null,null,"","","",""]
[56,{"$f":"MONDAY!B59","v":0},{"$f":"MONDAY!C59","v":0},{"$f":"MONDAY!D59","v":0},null,null,null,null,null,null,0,{"$f":"VLOOKUP(K59,lookups!$A$1:$B$363,2,FALSE)","v":"       -"},null,null,null,null,null,null,null,null,"","","",""]
[57,{"$f":"MONDAY!B60","v":0},{"$f":"MONDAY!C60","v":0},{"$f":"MONDAY!D60","v":0},null,null,null,null,null,null,0,{"$f":"VLOOKUP(K60,lookups!$A$1:$B$363,2,FALSE)","v":"       -"},null,null,null,null,null,null,null,null,"","","",""]
[58,{"$f":"MONDAY!B61","v":0},{"$f":"MONDAY!C61","v":0},{"$f":"MONDAY!D61","v":0},null,null,null,null,null,null,0,{"$f":"VLOOKUP(K61,lookups!$A$1:$B$363,2,FALSE)","v":"       -"},null,null,null,null,null,null,null,null,"","","",""]
[59,{"$f":"MONDAY!B62","v":0},{"$f":"MONDAY!C62","v":0},{"$f":"MONDAY!D62","v":0},null,null,null,null,null,null,0,{"$f":"VLOOKUP(K62,lookups!$A$1:$B$363,2,FALSE)","v":"       -"},null,null,null,null,null,null,null,null,"","","",""]
[60,{"$f":"MONDAY!B63","v":0},{"$f":"MONDAY!C63","v":0},{"$f":"MONDAY!D63","v":0},null,null,null,null,null,null,0,{"$f":"VLOOKUP(K63,lookups!$A$1:$B$363,2,FALSE)","v":"       -"},null,null,null,null,null,null,null,null,"","","",""]
[61,{"$f":"MONDAY!B64","v":0},{"$f":"MONDAY!C64","v":0},{"$f":"MONDAY!D64","v":0},null,null,null,null,null,null,0,{"$f":"VLOOKUP(K64,lookups!$A$1:$B$363,2,FALSE)","v":"       -"},null,null,null,null,null,null,null,null,"","","",""]
[62,{"$f":"MONDAY!B65","v":0},{"$f":"MONDAY!C65","v":0},{"$f":"MONDAY!D65","v":0},null,null,null,null,null,null,0,{"$f":"VLOOKUP(K65,lookups!$A$1:$B$363,2,FALSE)","v":"       -"},null,null,null,null,null,null,null,null,"","","",""]
[63,{"$f":"MONDAY!B66","v":0},{"$f":"MONDAY!C66","v":0},{"$f":"MONDAY!D66","v":0},null,null,null,null,null,null,0,{"$f":"VLOOKUP(K66,lookups!$A$1:$B$363,2,FALSE)","v":"       -"},null,null,null,null,null,null,null,null,"","","",""]
[64,{"$f":"MONDAY!B67","v":0},{"$f":"MONDAY!C67","v":0},{"$f":"MONDAY!D67","v":0},null,null,null,null,null,null,0,{"$f":"VLOOKUP(K67,lookups!$A$1:$B$363,2,FALSE)","v":"       -"},null,null,null,null,null,null,null,null,"","","",""]
[65,{"$f":"MONDAY!B68","v":0},{"$f":"MONDAY!C68","v":0},{"$f":"MONDAY!D68","v":0},null,null,null,null,null,null,0,{"$f":"VLOOKUP(K68,lookups!$A$1:$B$363,2,FALSE)","v":"       -"},null,null,null,null,null,null,null,null,"","","",""]
[66,{"$f":"MONDAY!B69","v":0},{"$f":"MONDAY!C69","v":0},{"$f":"MONDAY!D69","v":0},null,null,null,null,null,null,{"$f":"SUM(F69:J69)","v":0},{"$f":"VLOOKUP(K69,lookups!$A$1:$B$363,2,FALSE)","v":"       -"},null,null,null,null,null,null,null,null,{"$f":"IF(L69=$U$3,1,\"\")","v":""},{"$f":"IF(L69=$V$3,1,\"\")","v":""},{"$f":"IF(L69=$W$3,1,\"\")","v":""},{"$f":"IF(L69=$X$3,1,\"\")","v":""}]
[{"$f":"A69+1","v":67},{"$f":"MONDAY!B70","v":0},{"$f":"MONDAY!C70","v":0},{"$f":"MONDAY!D70","v":0},null,null,null,null,null,null,0,{"$f":"VLOOKUP(K70,lookups!$A$1:$B$363,2,FALSE)","v":"       -"},null,null,null,null,null,null,null,null,"","","",""]
[68,{"$f":"MONDAY!B71","v":0},{"$f":"MONDAY!C71","v":0},{"$f":"MONDAY!D71","v":0},null,null,null,null,null,null,0,{"$f":"VLOOKUP(K71,lookups!$A$1:$B$363,2,FALSE)","v":"       -"},null,null,null,null,null,null,null,null,"","","",""]
[69,{"$f":"MONDAY!B72","v":0},{"$f":"MONDAY!C72","v":0},{"$f":"MONDAY!D72","v":0},null,null,null,null,null,null,0,{"$f":"VLOOKUP(K72,lookups!$A$1:$B$363,2,FALSE)","v":"       -"},null,null,null,null,null,null,null,null,"","","",""]
[70,{"$f":"MONDAY!B73","v":0},{"$f":"MONDAY!C73","v":0},{"$f":"MONDAY!D73","v":0},null,null,null,null,null,null,0,{"$f":"VLOOKUP(K73,lookups!$A$1:$B$363,2,FALSE)","v":"       -"},null,null,null,null,null,null,null,null,"","","",""]
[71,{"$f":"MONDAY!B74","v":0},{"$f":"MONDAY!C74","v":0},{"$f":"MONDAY!D74","v":0},null,null,null,null,null,null,0,{"$f":"VLOOKUP(K74,lookups!$A$1:$B$363,2,FALSE)","v":"       -"},null,null,null,null,null,null,null,null,"","","",""]
[72,{"$f":"MONDAY!B75","v":0},{"$f":"MONDAY!C75","v":0},{"$f":"MONDAY!D75","v":0},null,null,null,null,null,null,0,{"$f":"VLOOKUP(K75,lookups!$A$1:$B$363,2,FALSE)","v":"       -"},null,null,null,null,null,null,null,null,"","","",""]
[73,{"$f":"MONDAY!B76","v":0},{"$f":"MONDAY!C76","v":0},{"$f":"MONDAY!D76","v":0},null,null,null,null,null,null,0,{"$f":"VLOOKUP(K76,lookups!$A$1:$B$363,2,FALSE)","v":"       -"},null,null,null,null,null,null,null,null,"","","",""]
[74,{"$f":"MONDAY!B77","v":0},{"$f":"MONDAY!C77","v":0},{"$f":"MONDAY!D77","v":0},null,null,null,null,null,null,0,{"$f":"VLOOKUP(K77,lookups!$A$1:$B$363,2,FALSE)","v":"       -"},null,null,null,null,null,null,null,null,"","","",""]
[75,{"$f":"MONDAY!B78","v":0},{"$f":"MONDAY!C78","v":0},{"$f":"MONDAY!D78","v":0},null,null,null,null,null,null,0,{"$f":"VLOOKUP(K78,lookups!$A$1:$B$363,2,FALSE)","v":"       -"},null,null,null,null,null,null,null,null,"","","",""]
[76,{"$f":"MONDAY!B79","v":0},{"$f":"MONDAY!C79","v":0},{"$f":"MONDAY!D79","v":0},null,null,null,null,null,null,0,{"$f":"VLOOKUP(K79,lookups!$A$1:$B$363,2,FALSE)","v":"       -"},null,null,null,null,null,null,null,null,"","","",""]
[77,{"$f":"MONDAY!B80","v":0},{"$f":"MONDAY!C80","v":0},{"$f":"MONDAY!D80","v":0},null,null,null,null,null,null,0,{"$f":"VLOOKUP(K80,lookups!$A$1:$B$363,2,FALSE)","v":"       -"},null,null,null,null,null,null,null,null,"","","",""]
[78,{"$f":"MONDAY!B81","v":0},{"$f":"MONDAY!C81","v":0},{"$f":"MONDAY!D81","v":0},null,null,null,null,null,null,0,{"$f":"VLOOKUP(K81,lookups!$A$1:$B$363,2,FALSE)","v":"       -"},null,null,null,null,null,null,null,null,"","","",""]
[79,{"$f":"MONDAY!B82","v":0},{"$f":"MONDAY!C82","v":0},{"$f":"MONDAY!D82","v":0},null,null,null,null,null,null,0,{"$f":"VLOOKUP(K82,lookups!$A$1:$B$363,2,FALSE)","v":"       -"},null,null,null,null,null,null,null,null,"","","",""]
[80,{"$f":"MONDAY!B83","v":0},{"$f":"MONDAY!C83","v":0},{"$f":"MONDAY!D83","v":0},null,null,null,null,null,null,0,{"$f":"VLOOKUP(K83,lookups!$A$1:$B$363,2,FALSE)","v":"       -"},null,null,null,null,null,null,null,null,"","","",""]
[81,{"$f":"MONDAY!B84","v":0},{"$f":"MONDAY!C84","v":0},{"$f":"MONDAY!D84","v":0},null,null,null,null,null,null,0,{"$f":"VLOOKUP(K84,lookups!$A$1:$B$363,2,FALSE)","v":"       -"},null,null,null,null,null,null,null,null,"","","",""]
[82,{"$f":"MONDAY!B85","v":0},{"$f":"MONDAY!C85","v":0},{"$f":"MONDAY!D85","v":0},null,null,null,null,null,null,0,{"$f":"VLOOKUP(K85,lookups!$A$1:$B$363,2,FALSE)","v":"       -"},null,null,null,null,null,null,null,null,"","","",""]
[83,{"$f":"MONDAY!B86","v":0},{"$f":"MONDAY!C86","v":0},{"$f":"MONDAY!D86","v":0},null,null,null,null,null,null,0,{"$f":"VLOOKUP(K86,lookups!$A$1:$B$363,2,FALSE)","v":"       -"},null,null,null,null,null,null,null,null,"","","",""]
[84,{"$f":"MONDAY!B87","v":0},{"$f":"MONDAY!C87","v":0},{"$f":"MONDAY!D87","v":0},null,null,null,null,null,null,0,{"$f":"VLOOKUP(K87,lookups!$A$1:$B$363,2,FALSE)","v":"       -"},null,null,null,null,null,null,null,null,"","","",""]
[85,{"$f":"MONDAY!B88","v":0},{"$f":"MONDAY!C88","v":0},{"$f":"MONDAY!D88","v":0},null,null,null,null,null,null,0,{"$f":"VLOOKUP(K88,lookups!$A$1:$B$363,2,FALSE)","v":"       -"},null,null,null,null,null,null,null,null,"","","",""]
[86,{"$f":"MONDAY!B89","v":0},{"$f":"MONDAY!C89","v":0},{"$f":"MONDAY!D89","v":0},null,null,null,null,null,null,0,{"$f":"VLOOKUP(K89,lookups!$A$1:$B$363,2,FALSE)","v":"       -"},null,null,null,null,null,null,null,null,"","","",""]
[87,{"$f":"MONDAY!B90","v":0},{"$f":"MONDAY!C90","v":0},{"$f":"MONDAY!D90","v":0},null,null,null,null,null,null,0,{"$f":"VLOOKUP(K90,lookups!$A$1:$B$363,2,FALSE)","v":"       -"},null,null,null,null,null,null,null,null,"","","",""]
[88,{"$f":"MONDAY!B91","v":0},{"$f":"MONDAY!C91","v":0},{"$f":"MONDAY!D91","v":0},null,null,null,null,null,null,0,{"$f":"VLOOKUP(K91,lookups!$A$1:$B$363,2,FALSE)","v":"       -"},null,null,null,null,null,null,null,null,"","","",""]
[89,{"$f":"MONDAY!B92","v":0},{"$f":"MONDAY!C92","v":0},{"$f":"MONDAY!D92","v":0},null,null,null,null,null,null,0,{"$f":"VLOOKUP(K92,lookups!$A$1:$B$363,2,FALSE)","v":"       -"},null,null,null,null,null,null,null,null,"","","",""]
[90,{"$f":"MONDAY!B93","v":0},{"$f":"MONDAY!C93","v":0},{"$f":"MONDAY!D93","v":0},null,null,null,null,null,null,0,{"$f":"VLOOKUP(K93,lookups!$A$1:$B$363,2,FALSE)","v":"       -"},null,null,null,null,null,null,null,null,"","","",""]
[91,{"$f":"MONDAY!B94","v":0},{"$f":"MONDAY!C94","v":0},{"$f":"MONDAY!D94","v":0},null,null,null,null,null,null,0,{"$f":"VLOOKUP(K94,lookups!$A$1:$B$363,2,FALSE)","v":"       -"},null,null,null,null,null,null,null,null,"","","",""]
[92,{"$f":"MONDAY!B95","v":0},{"$f":"MONDAY!C95","v":0},{"$f":"MONDAY!D95","v":0},null,null,null,null,null,null,0,{"$f":"VLOOKUP(K95,lookups!$A$1:$B$363,2,FALSE)","v":"       -"},null,null,null,null,null,null,null,null,"","","",""]
[93,{"$f":"MONDAY!B96","v":0},{"$f":"MONDAY!C96","v":0},{"$f":"MONDAY!D96","v":0},null,null,null,null,null,null,0,{"$f":"VLOOKUP(K96,lookups!$A$1:$B$363,2,FALSE)","v":"       -"},null,null,null,null,null,null,null,null,"","","",""]
[94,{"$f":"MONDAY!B97","v":0},{"$f":"MONDAY!C97","v":0},{"$f":"MONDAY!D97","v":0},null,null,null,null,null,null,0,{"$f":"VLOOKUP(K97,lookups!$A$1:$B$363,2,FALSE)","v":"       -"},null,null,null,null,null,null,null,null,"","","",""]
[95,{"$f":"MONDAY!B98","v":0},{"$f":"MONDAY!C98","v":0},{"$f":"MONDAY!D98","v":0},null,null,null,null,null,null,0,{"$f":"VLOOKUP(K98,lookups!$A$1:$B$363,2,FALSE)","v":"       -"},null,null,null,null,null,null,null,null,"","","",""]
[96,{"$f":"MONDAY!B99","v":0},{"$f":"MONDAY!C99","v":0},{"$f":"MONDAY!D99","v":0},null,null,null,null,null,null,0,{"$f":"VLOOKUP(K99,lookups!$A$1:$B$363,2,FALSE)","v":"       -"},null,null,null,null,null,null,null,null,"","","",""]
[97,{"$f":"MONDAY!B100","v":0},{"$f":"MONDAY!C100","v":0},{"$f":"MONDAY!D100","v":0},null,null,null,null,null,null,0,{"$f":"VLOOKUP(K100,lookups!$A$1:$B$363,2,FALSE)","v":"       -"},null,null,null,null,null,null,null,null,"","","",""]
[98,{"$f":"MONDAY!B101","v":0},{"$f":"MONDAY!C101","v":0},{"$f":"MONDAY!D101","v":0},null,null,null,null,null,null,0,{"$f":"VLOOKUP(K101,lookups!$A$1:$B$363,2,FALSE)","v":"       -"},null,null,null,null,null,null,null,null,"","","",""]
[99,{"$f":"MONDAY!B102","v":0},{"$f":"MONDAY!C102","v":0},{"$f":"MONDAY!D102","v":0},null,null,null,null,null,null,0,{"$f":"VLOOKUP(K102,lookups!$A$1:$B$363,2,FALSE)","v":"       -"},null,null,null,null,null,null,null,null,"","","",""]
[100,{"$f":"MONDAY!B103","v":0},{"$f":"MONDAY!C103","v":0},{"$f":"MONDAY!D103","v":0},null,null,null,null,null,null,0,{"$f":"VLOOKUP(K103,lookups!$A$1:$B$363,2,FALSE)","v":"       -"},null,null,null,null,null,null,null,null,"","","",""]
[null,null,null,null,null,null,null,null,null,null,null,{"$f":"SUM(U106:X106)","v":0},null,null,null,null,null,null,null,"Count",{"$f":"SUM(U4:U103)","v":0},{"$f":"SUM(V4:V103)","v":0},0,0]
[null,null,null,null,null,null,null,null,null,null,null,null,null,null,null,null,null,null,null,"Rate",{"$f":"C2","v":0},12.56,23.48,37.409999999999997]
[null,null,null,null,null,null,null,null,null,null,null,null,null,null,null,null,null,null,null,"Revenue",{"$f":"U104*U105","v":0},{"$f":"V104*V105","v":0},0,0]
[]
[null,"Bill Code","Registrants","Rate",null,"Revenue"]
[null,7963,{"$f":"V104","v":0},12.56,null,{"$f":"C109*D109","v":0}]
[null,7964,{"$f":"W104","v":0},23.48,null,{"$f":"C110*D110","v":0}]
[null,7965,{"$f":"X104","v":0},37.409999999999997,null,0]
[null,3301,{"$f":"U104","v":0},{"$f":"MONDAY!D112","v":0},null,0]
[null,null,null,null,null,{"$f":"SUM(F109:F112)","v":0}]

{"sheet":"THURSDAY","index":3,"n_rows":113,"n_cols":24,"rows_kept":113,"cut":false,"hidden":false,"merged":[[1,5,1,10]]}
[null,"Weekending",{"$f":"MONDAY!C1","v":"00:00:00"}]
[null,null,null,null,null,"Interactions in Minutes"]
[null,"Name","ID","Diagnosis",null,"RN 1:1","RN Group","MSW 1:1","MSW Group","Other","Daily Total minuets","Bill Code",null,null,null,null,null,null,null,null,3103,7963,7964,7965]
[1,{"$f":"MONDAY!B4","v":0},{"$f":"MONDAY!C4","v":0},{"$f":"MONDAY!D4","v":0},null,null,null,null,null,null,{"$f":"SUM(F4:J4)","v":0},{"$f":"VLOOKUP(K4,lookups!$A$1:$B$363,2,FALSE)","v":"       -"},null,null,null,null,null,null,null,null,{"$f":"IF(L4=$U$3,1,\"\")","v":""},{"$f":"IF(L4=$V$3,1,\"\")","v":""},{"$f":"IF(L4=$W$3,1,\"\")","v":""},{"$f":"IF(L4=$X$3,1,\"\")","v":""}]
[{"$f":"A4+1","v":2},{"$f":"MONDAY!B5","v":0},{"$f":"MONDAY!C5","v":0},{"$f":"MONDAY!D5","v":0},null,null,null,null,null,null,{"$f":"SUM(F5:J5)","v":0},{"$f":"VLOOKUP(K5,lookups!$A$1:$B$363,2,FALSE)","v":"       -"},null,null,null,null,null,null,null,null,{"$f":"IF(L5=$U$3,1,\"\")","v":""},{"$f":"IF(L5=$V$3,1,\"\")","v":""},{"$f":"IF(L5=$W$3,1,\"\")","v":""},{"$f":"IF(L5=$X$3,1,\"\")","v":""}]
[{"$f":"A5+1","v":3},{"$f":"MONDAY!B6","v":0},{"$f":"MONDAY!C6","v":0},{"$f":"MONDAY!D6","v":0},null,null,null,null,null,null,0,{"$f":"VLOOKUP(K6,lookups!$A$1:$B$363,2,FALSE)","v":"       -"},null,null,null,null,null,null,null,null,"","","",""]
[4,{"$f":"MONDAY!B7","v":0},{"$f":"MONDAY!C7","v":0},{"$f":"MONDAY!D7","v":0},null,null,null,null,null,null,0,{"$f":"VLOOKUP(K7,lookups!$A$1:$B$363,2,FALSE)","v":"       -"},null,null,null,null,null,null,null,null,"","","",""]
[5,{"$f":"MONDAY!B8","v":0},{"$f":"MONDAY!C8","v":0},{"$f":"MONDAY!D8","v":0},null,null,null,null,null,null,0,{"$f":"VLOOKUP(K8,lookups!$A$1:$B$363,2,FALSE)","v":"       -"},null,null,null,null,null,null,null,null,"","","",""]
[6,{"$f":"MONDAY!B9","v":0},{"$f":"MONDAY!C9","v":0},{"$f":"MONDAY!D9","v":0},null,null,null,null,null,null,0,{"$f":"VLOOKUP(K9,lookups!$A$1:$B$363,2,FALSE)","v":"       -"},null,null,null,null,null,null,null,null,"","","",""]
[7,{"$f":"MONDAY!B10","v":0},{"$f":"MONDAY!C10","v":0},{"$f":"MONDAY!D10","v":0},null,null,null,null,null,null,0,{"$f":"VLOOKUP(K10,lookups!$A$1:$B$363,2,FALSE)","v":"       -"},null,null,null,null,null,null,null,null,"","","",""]
[8,{"$f":"MONDAY!B11","v":0},{"$f":"MONDAY!C11","v":0},{"$f":"MONDAY!D11","v":0},null,null,null,null,null,null,0,{"$f":"VLOOKUP(K11,lookups!$A$1:$B$363,2,FALSE)","v":"       -"},null,null,null,null,null,null,null,null,"","","",""]
[9,{"$f":"MONDAY!B12","v":0},{"$f":"MONDAY!C12","v":0},{"$f":"MONDAY!D12","v":0},null,null,null,null,null,null,0,{"$f":"VLOOKUP(K12,lookups!$A$1:$B$363,2,FALSE)","v":"       -"},null,null,null,null,null,null,null,null,"","","",""]
[10,{"$f":"MONDAY!B13","v":0},{"$f":"MONDAY!C13","v":0},{"$f":"MONDAY!D13","v":0},null,null,null,null,null,null,0,{"$f":"VLOOKUP(K13,lookups!$A$1:$B$363,2,FALSE)","v":"       -"},null,null,null,null,null,null,null,null,"","","",""]
[11,{"$f":"MONDAY!B14","v":0},{"$f":"MONDAY!C14","v":0},{"$f":"MONDAY!D14","v":0},null,null,null,null,null,null,0,{"$f":"VLOOKUP(K14,lookups!$A$1:$B$363,2,FALSE)","v":"       -"},null,null,null,null,null,null,null,null,"","","",""]
[12,{"$f":"MONDAY!B15","v":0},{"$f":"MONDAY!C15","v":0},{"$f":"MONDAY!D15","v":0},null,null,null,null,null,null,0,{"$f":"VLOOKUP(K15,lookups!$A$1:$B$363,2,FALSE)","v":"       -"},null,null,null,null,null,null,null,null,"","","",""]
[13,{"$f":"MONDAY!B16","v":0},{"$f":"MONDAY!C16","v":0},{"$f":"MONDAY!D16","v":0},null,null,null,null,null,null,0,{"$f":"VLOOKUP(K16,lookups!$A$1:$B$363,2,FALSE)","v":"       -"},null,null,null,null,null,null,null,null,"","","",""]
[14,{"$f":"MONDAY!B17","v":0},{"$f":"MONDAY!C17","v":0},{"$f":"MONDAY!D17","v":0},null,null,null,null,null,null,0,{"$f":"VLOOKUP(K17,lookups!$A$1:$B$363,2,FALSE)","v":"       -"},null,null,null,null,null,null,null,null,"","","",""]
[15,{"$f":"MONDAY!B18","v":0},{"$f":"MONDAY!C18","v":0},{"$f":"MONDAY!D18","v":0},null,null,null,null,null,null,0,{"$f":"VLOOKUP(K18,lookups!$A$1:$B$363,2,FALSE)","v":"       -"},null,null,null,null,null,null,null,null,"","","",""]
[16,{"$f":"MONDAY!B19","v":0},{"$f":"MONDAY!C19","v":0},{"$f":"MONDAY!D19","v":0},null,null,null,null,null,null,0,{"$f":"VLOOKUP(K19,lookups!$A$1:$B$363,2,FALSE)","v":"       -"},null,null,null,null,null,null,null,null,"","","",""]
[17,{"$f":"MONDAY!B20","v":0},{"$f":"MONDAY!C20","v":0},{"$f":"MONDAY!D20","v":0},null,null,null,null,null,null,0,{"$f":"VLOOKUP(K20,lookups!$A$1:$B$363,2,FALSE)","v":"       -"},null,null,null,null,null,null,null,null,"","","",""]
[18,{"$f":"MONDAY!B21","v":0},{"$f":"MONDAY!C21","v":0},{"$f":"MONDAY!D21","v":0},null,null,null,null,null,null,0,{"$f":"VLOOKUP(K21,lookups!$A$1:$B$363,2,FALSE)","v":"       -"},null,null,null,null,null,null,null,null,"","","",""]
[19,{"$f":"MONDAY!B22","v":0},{"$f":"MONDAY!C22","v":0},{"$f":"MONDAY!D22","v":0},null,null,null,null,null,null,0,{"$f":"VLOOKUP(K22,lookups!$A$1:$B$363,2,FALSE)","v":"       -"},null,null,null,null,null,null,null,null,"","","",""]
[20,{"$f":"MONDAY!B23","v":0},{"$f":"MONDAY!C23","v":0},{"$f":"MONDAY!D23","v":0},null,null,null,null,null,null,0,{"$f":"VLOOKUP(K23,lookups!$A$1:$B$363,2,FALSE)","v":"       -"},null,null,null,null,null,null,null,null,"","","",""]
[21,{"$f":"MONDAY!B24","v":0},{"$f":"MONDAY!C24","v":0},{"$f":"MONDAY!D24","v":0},null,null,null,null,null,null,0,{"$f":"VLOOKUP(K24,lookups!$A$1:$B$363,2,FALSE)","v":"       -"},null,null,null,null,null,null,null,null,"","","",""]
[22,{"$f":"MONDAY!B25","v":0},{"$f":"MONDAY!C25","v":0},{"$f":"MONDAY!D25","v":0},null,null,null,null,null,null,0,{"$f":"VLOOKUP(K25,lookups!$A$1:$B$363,2,FALSE)","v":"       -"},null,null,null,null,null,null,null,null,"","","",""]
[23,{"$f":"MONDAY!B26","v":0},{"$f":"MONDAY!C26","v":0},{"$f":"MONDAY!D26","v":0},null,null,null,null,null,null,0,{"$f":"VLOOKUP(K26,lookups!$A$1:$B$363,2,FALSE)","v":"       -"},null,null,null,null,null,null,null,null,"","","",""]
[24,{"$f":"MONDAY!B27","v":0},{"$f":"MONDAY!C27","v":0},{"$f":"MONDAY!D27","v":0},null,null,null,null,null,null,0,{"$f":"VLOOKUP(K27,lookups!$A$1:$B$363,2,FALSE)","v":"       -"},null,null,null,null,null,null,null,null,"","","",""]
[25,{"$f":"MONDAY!B28","v":0},{"$f":"MONDAY!C28","v":0},{"$f":"MONDAY!D28","v":0},null,null,null,null,null,null,0,{"$f":"VLOOKUP(K28,lookups!$A$1:$B$363,2,FALSE)","v":"       -"},null,null,null,null,null,null,null,null,"","","",""]
[26,{"$f":"MONDAY!B29","v":0},{"$f":"MONDAY!C29","v":0},{"$f":"MONDAY!D29","v":0},null,null,null,null,null,null,0,{"$f":"VLOOKUP(K29,lookups!$A$1:$B$363,2,FALSE)","v":"       -"},null,null,null,null,null,null,null,null,"","","",""]
[27,{"$f":"MONDAY!B30","v":0},{"$f":"MONDAY!C30","v":0},{"$f":"MONDAY!D30","v":0},null,null,null,null,null,null,0,{"$f":"VLOOKUP(K30,lookups!$A$1:$B$363,2,FALSE)","v":"       -"},null,null,null,null,null,null,null,null,"","","",""]
[28,{"$f":"MONDAY!B31","v":0},{"$f":"MONDAY!C31","v":0},{"$f":"MONDAY!D31","v":0},null,null,null,null,null,null,0,{"$f":"VLOOKUP(K31,lookups!$A$1:$B$363,2,FALSE)","v":"       -"},null,null,null,null,null,null,null,null,"","","",""]
[29,{"$f":"MONDAY!B32","v":0},{"$f":"MONDAY!C32","v":0},{"$f":"MONDAY!D32","v":0},null,null,null,null,null,null,0,{"$f":"VLOOKUP(K32,lookups!$A$1:$B$363,2,FALSE)","v":"       -"},null,null,null,null,null,null,null,null,"","","",""]
[30,{"$f":"MONDAY!B33","v":0},{"$f":"MONDAY!C33","v":0},{"$f":"MONDAY!D33","v":0},null,null,null,null,null,null,0,{"$f":"VLOOKUP(K33,lookups!$A$1:$B$363,2,FALSE)","v":"       -"},null,null,null,null,null,null,null,null,"","","",""]
[31,{"$f":"MONDAY!B34","v":0},{"$f":"MONDAY!C34","v":0},{"$f":"MONDAY!D34","v":0},null,null,null,null,null,null,0,{"$f":"VLOOKUP(K34,lookups!$A$1:$B$363,2,FALSE)","v":"       -"},null,null,null,null,null,null,null,null,"","","",""]
[32,{"$f":"MONDAY!B35","v":0},{"$f":"MONDAY!C35","v":0},{"$f":"MONDAY!D35","v":0},null,null,null,null,null,null,0,{"$f":"VLOOKUP(K35,lookups!$A$1:$B$363,2,FALSE)","v":"       -"},null,null,null,null,null,null,null,null,"","","",""]
[33,{"$f":"MONDAY!B36","v":0},{"$f":"MONDAY!C36","v":0},{"$f":"MONDAY!D36","v":0},null,null,null,null,null,null,0,{"$f":"VLOOKUP(K36,lookups!$A$1:$B$363,2,FALSE)","v":"       -"},null,null,null,null,null,null,null,null,"","","",""]
[34,{"$f":"MONDAY!B37","v":0},{"$f":"MONDAY!C37","v":0},{"$f":"MONDAY!D37","v":0},null,null,null,null,null,null,0,{"$f":"VLOOKUP(K37,lookups!$A$1:$B$363,2,FALSE)","v":"       -"},null,null,null,null,null,null,null,null,"","","",""]
[35,{"$f":"MONDAY!B38","v":0},{"$f":"MONDAY!C38","v":0},{"$f":"MONDAY!D38","v":0},null,null,null,null,null,null,0,{"$f":"VLOOKUP(K38,lookups!$A$1:$B$363,2,FALSE)","v":"       -"},null,null,null,null,null,null,null,null,"","","",""]
[36,{"$f":"MONDAY!B39","v":0},{"$f":"MONDAY!C39","v":0},{"$f":"MONDAY!D39","v":0},null,null,null,null,null,null,0,{"$f":"VLOOKUP(K39,lookups!$A$1:$B$363,2,FALSE)","v":"       -"},null,null,null,null,null,null,null,null,"","","",""]
[37,{"$f":"MONDAY!B40","v":0},{"$f":"MONDAY!C40","v":0},{"$f":"MONDAY!D40","v":0},null,null,null,null,null,null,0,{"$f":"VLOOKUP(K40,lookups!$A$1:$B$363,2,FALSE)","v":"       -"},null,null,null,null,null,null,null,null,"","","",""]
[38,{"$f":"MONDAY!B41","v":0},{"$f":"MONDAY!C41","v":0},{"$f":"MONDAY!D41","v":0},null,null,null,null,null,null,0,{"$f":"VLOOKUP(K41,lookups!$A$1:$B$363,2,FALSE)","v":"       -"},null,null,null,null,null,null,null,null,"","","",""]
[39,{"$f":"MONDAY!B42","v":0},{"$f":"MONDAY!C42","v":0},{"$f":"MONDAY!D42","v":0},null,null,null,null,null,null,0,{"$f":"VLOOKUP(K42,lookups!$A$1:$B$363,2,FALSE)","v":"       -"},null,null,null,null,null,null,null,null,"","","",""]
[40,{"$f":"MONDAY!B43","v":0},{"$f":"MONDAY!C43","v":0},{"$f":"MONDAY!D43","v":0},null,null,null,null,null,null,0,{"$f":"VLOOKUP(K43,lookups!$A$1:$B$363,2,FALSE)","v":"       -"},null,null,null,null,null,null,null,null,"","","",""]
[41,{"$f":"MONDAY!B44","v":0},{"$f":"MONDAY!C44","v":0},{"$f":"MONDAY!D44","v":0},null,null,null,null,null,null,0,{"$f":"VLOOKUP(K44,lookups!$A$1:$B$363,2,FALSE)","v":"       -"},null,null,null,null,null,null,null,null,"","","",""]
[42,{"$f":"MONDAY!B45","v":0},{"$f":"MONDAY!C45","v":0},{"$f":"MONDAY!D45","v":0},null,null,null,null,null,null,0,{"$f":"VLOOKUP(K45,lookups!$A$1:$B$363,2,FALSE)","v":"       -"},null,null,null,null,null,null,null,null,"","","",""]
[43,{"$f":"MONDAY!B46","v":0},{"$f":"MONDAY!C46","v":0},{"$f":"MONDAY!D46","v":0},null,null,null,null,null,null,0,{"$f":"VLOOKUP(K46,lookups!$A$1:$B$363,2,FALSE)","v":"       -"},null,null,null,null,null,null,null,null,"","","",""]
[44,{"$f":"MONDAY!B47","v":0},{"$f":"MONDAY!C47","v":0},{"$f":"MONDAY!D47","v":0},null,null,null,null,null,null,0,{"$f":"VLOOKUP(K47,lookups!$A$1:$B$363,2,FALSE)","v":"       -"},null,null,null,null,null,null,null,null,"","","",""]
[45,{"$f":"MONDAY!B48","v":0},{"$f":"MONDAY!C48","v":0},{"$f":"MONDAY!D48","v":0},null,null,null,null,null,null,0,{"$f":"VLOOKUP(K48,lookups!$A$1:$B$363,2,FALSE)","v":"       -"},null,null,null,null,null,null,null,null,"","","",""]
[46,{"$f":"MONDAY!B49","v":0},{"$f":"MONDAY!C49","v":0},{"$f":"MONDAY!D49","v":0},null,null,null,null,null,null,0,{"$f":"VLOOKUP(K49,lookups!$A$1:$B$363,2,FALSE)","v":"       -"},null,null,null,null,null,null,null,null,"","","",""]
[47,{"$f":"MONDAY!B50","v":0},{"$f":"MONDAY!C50","v":0},{"$f":"MONDAY!D50","v":0},null,null,null,null,null,null,0,{"$f":"VLOOKUP(K50,lookups!$A$1:$B$363,2,FALSE)","v":"       -"},null,null,null,null,null,null,null,null,"","","",""]
[48,{"$f":"MONDAY!B51","v":0},{"$f":"MONDAY!C51","v":0},{"$f":"MONDAY!D51","v":0},null,null,null,null,null,null,0,{"$f":"VLOOKUP(K51,lookups!$A$1:$B$363,2,FALSE)","v":"       -"},null,null,null,null,null,null,null,null,"","","",""]
[49,{"$f":"MONDAY!B52","v":0},{"$f":"MONDAY!C52","v":0},{"$f":"MONDAY!D52","v":0},null,null,null,null,null,null,0,{"$f":"VLOOKUP(K52,lookups!$A$1:$B$363,2,FALSE)","v":"       -"},null,null,null,null,null,null,null,null,"","","",""]
[50,{"$f":"MONDAY!B53","v":0},{"$f":"MONDAY!C53","v":0},{"$f":"MONDAY!D53","v":0},null,null,null,null,null,null,0,{"$f":"VLOOKUP(K53,lookups!$A$1:$B$363,2,FALSE)","v":"       -"},null,null,null,null,null,null,null,null,"","","",""]
[51,{"$f":"MONDAY!B54","v":0},{"$f":"MONDAY!C54","v":0},{"$f":"MONDAY!D54","v":0},null,null,null,null,null,null,0,{"$f":"VLOOKUP(K54,lookups!$A$1:$B$363,2,FALSE)","v":"       -"},null,null,null,null,null,null,null,null,"","","",""]
[52,{"$f":"MONDAY!B55","v":0},{"$f":"MONDAY!C55","v":0},{"$f":"MONDAY!D55","v":0},null,null,null,null,null,null,0,{"$f":"VLOOKUP(K55,lookups!$A$1:$B$363,2,FALSE)","v":"       -"},null,null,null,null,null,null,null,null,"","","",""]
[53,{"$f":"MONDAY!B56","v":0},{"$f":"MONDAY!C56","v":0},{"$f":"MONDAY!D56","v":0},null,null,null,null,null,null,0,{"$f":"VLOOKUP(K56,lookups!$A$1:$B$363,2,FALSE)","v":"       -"},null,null,null,null,null,null,null,null,"","","",""]
[54,{"$f":"MONDAY!B57","v":0},{"$f":"MONDAY!C57","v":0},{"$f":"MONDAY!D57","v":0},null,null,null,null,null,null,0,{"$f":"VLOOKUP(K57,lookups!$A$1:$B$363,2,FALSE)","v":"       -"},null,null,null,null,null,null,null,null,"","","",""]
[55,{"$f":"MONDAY!B58","v":0},{"$f":"MONDAY!C58","v":0},{"$f":"MONDAY!D58","v":0},null,null,null,null,null,null,0,{"$f":"VLOOKUP(K58,lookups!$A$1:$B$363,2,FALSE)","v":"       -"},null,null,null,null,null,null,null,null,"","","",""]
[56,{"$f":"MONDAY!B59","v":0},{"$f":"MONDAY!C59","v":0},{"$f":"MONDAY!D59","v":0},null,null,null,null,null,null,0,{"$f":"VLOOKUP(K59,lookups!$A$1:$B$363,2,FALSE)","v":"       -"},null,null,null,null,null,null,null,null,"","","",""]
[57,{"$f":"MONDAY!B60","v":0},{"$f":"MONDAY!C60","v":0},{"$f":"MONDAY!D60","v":0},null,null,null,null,null,null,0,{"$f":"VLOOKUP(K60,lookups!$A$1:$B$363,2,FALSE)","v":"       -"},null,null,null,null,null,null,null,null,"","","",""]
[58,{"$f":"MONDAY!B61","v":0},{"$f":"MONDAY!C61","v":0},{"$f":"MONDAY!D61","v":0},null,null,null,null,null,null,0,{"$f":"VLOOKUP(K61,lookups!$A$1:$B$363,2,FALSE)","v":"       -"},null,null,null,null,null,null,null,null,"","","",""]
[59,{"$f":"MONDAY!B62","v":0},{"$f":"MONDAY!C62","v":0},{"$f":"MONDAY!D62","v":0},null,null,null,null,null,null,0,{"$f":"VLOOKUP(K62,lookups!$A$1:$B$363,2,FALSE)","v":"       -"},null,null,null,null,null,null,null,null,"","","",""]
[60,{"$f":"MONDAY!B63","v":0},{"$f":"MONDAY!C63","v":0},{"$f":"MONDAY!D63","v":0},null,null,null,null,null,null,0,{"$f":"VLOOKUP(K63,lookups!$A$1:$B$363,2,FALSE)","v":"       -"},null,null,null,null,null,null,null,null,"","","",""]
[61,{"$f":"MONDAY!B64","v":0},{"$f":"MONDAY!C64","v":0},{"$f":"MONDAY!D64","v":0},null,null,null,null,null,null,0,{"$f":"VLOOKUP(K64,lookups!$A$1:$B$363,2,FALSE)","v":"       -"},null,null,null,null,null,null,null,null,"","","",""]
[62,{"$f":"MONDAY!B65","v":0},{"$f":"MONDAY!C65","v":0},{"$f":"MONDAY!D65","v":0},null,null,null,null,null,null,0,{"$f":"VLOOKUP(K65,lookups!$A$1:$B$363,2,FALSE)","v":"       -"},null,null,null,null,null,null,null,null,"","","",""]
[63,{"$f":"MONDAY!B66","v":0},{"$f":"MONDAY!C66","v":0},{"$f":"MONDAY!D66","v":0},null,null,null,null,null,null,0,{"$f":"VLOOKUP(K66,lookups!$A$1:$B$363,2,FALSE)","v":"       -"},null,null,null,null,null,null,null,null,"","","",""]
[64,{"$f":"MONDAY!B67","v":0},{"$f":"MONDAY!C67","v":0},{"$f":"MONDAY!D67","v":0},null,null,null,null,null,null,0,{"$f":"VLOOKUP(K67,lookups!$A$1:$B$363,2,FALSE)","v":"       -"},null,null,null,null,null,null,null,null,"","","",""]
[65,{"$f":"MONDAY!B68","v":0},{"$f":"MONDAY!C68","v":0},{"$f":"MONDAY!D68","v":0},null,null,null,null,null,null,0,{"$f":"VLOOKUP(K68,lookups!$A$1:$B$363,2,FALSE)","v":"       -"},null,null,null,null,null,null,null,null,"","","",""]
[66,{"$f":"MONDAY!B69","v":0},{"$f":"MONDAY!C69","v":0},{"$f":"MONDAY!D69","v":0},null,null,null,null,null,null,{"$f":"SUM(F69:J69)","v":0},{"$f":"VLOOKUP(K69,lookups!$A$1:$B$363,2,FALSE)","v":"       -"},null,null,null,null,null,null,null,null,{"$f":"IF(L69=$U$3,1,\"\")","v":""},{"$f":"IF(L69=$V$3,1,\"\")","v":""},{"$f":"IF(L69=$W$3,1,\"\")","v":""},{"$f":"IF(L69=$X$3,1,\"\")","v":""}]
[{"$f":"A69+1","v":67},{"$f":"MONDAY!B70","v":0},{"$f":"MONDAY!C70","v":0},{"$f":"MONDAY!D70","v":0},null,null,null,null,null,null,0,{"$f":"VLOOKUP(K70,lookups!$A$1:$B$363,2,FALSE)","v":"       -"},null,null,null,null,null,null,null,null,"","","",""]
[68,{"$f":"MONDAY!B71","v":0},{"$f":"MONDAY!C71","v":0},{"$f":"MONDAY!D71","v":0},null,null,null,null,null,null,0,{"$f":"VLOOKUP(K71,lookups!$A$1:$B$363,2,FALSE)","v":"       -"},null,null,null,null,null,null,null,null,"","","",""]
[69,{"$f":"MONDAY!B72","v":0},{"$f":"MONDAY!C72","v":0},{"$f":"MONDAY!D72","v":0},null,null,null,null,null,null,0,{"$f":"VLOOKUP(K72,lookups!$A$1:$B$363,2,FALSE)","v":"       -"},null,null,null,null,null,null,null,null,"","","",""]
[70,{"$f":"MONDAY!B73","v":0},{"$f":"MONDAY!C73","v":0},{"$f":"MONDAY!D73","v":0},null,null,null,null,null,null,0,{"$f":"VLOOKUP(K73,lookups!$A$1:$B$363,2,FALSE)","v":"       -"},null,null,null,null,null,null,null,null,"","","",""]
[71,{"$f":"MONDAY!B74","v":0},{"$f":"MONDAY!C74","v":0},{"$f":"MONDAY!D74","v":0},null,null,null,null,null,null,0,{"$f":"VLOOKUP(K74,lookups!$A$1:$B$363,2,FALSE)","v":"       -"},null,null,null,null,null,null,null,null,"","","",""]
[72,{"$f":"MONDAY!B75","v":0},{"$f":"MONDAY!C75","v":0},{"$f":"MONDAY!D75","v":0},null,null,null,null,null,null,0,{"$f":"VLOOKUP(K75,lookups!$A$1:$B$363,2,FALSE)","v":"       -"},null,null,null,null,null,null,null,null,"","","",""]
[73,{"$f":"MONDAY!B76","v":0},{"$f":"MONDAY!C76","v":0},{"$f":"MONDAY!D76","v":0},null,null,null,null,null,null,0,{"$f":"VLOOKUP(K76,lookups!$A$1:$B$363,2,FALSE)","v":"       -"},null,null,null,null,null,null,null,null,"","","",""]
[74,{"$f":"MONDAY!B77","v":0},{"$f":"MONDAY!C77","v":0},{"$f":"MONDAY!D77","v":0},null,null,null,null,null,null,0,{"$f":"VLOOKUP(K77,lookups!$A$1:$B$363,2,FALSE)","v":"       -"},null,null,null,null,null,null,null,null,"","","",""]
[75,{"$f":"MONDAY!B78","v":0},{"$f":"MONDAY!C78","v":0},{"$f":"MONDAY!D78","v":0},null,null,null,null,null,null,0,{"$f":"VLOOKUP(K78,lookups!$A$1:$B$363,2,FALSE)","v":"       -"},null,null,null,null,null,null,null,null,"","","",""]
[76,{"$f":"MONDAY!B79","v":0},{"$f":"MONDAY!C79","v":0},{"$f":"MONDAY!D79","v":0},null,null,null,null,null,null,0,{"$f":"VLOOKUP(K79,lookups!$A$1:$B$363,2,FALSE)","v":"       -"},null,null,null,null,null,null,null,null,"","","",""]
[77,{"$f":"MONDAY!B80","v":0},{"$f":"MONDAY!C80","v":0},{"$f":"MONDAY!D80","v":0},null,null,null,null,null,null,0,{"$f":"VLOOKUP(K80,lookups!$A$1:$B$363,2,FALSE)","v":"       -"},null,null,null,null,null,null,null,null,"","","",""]
[78,{"$f":"MONDAY!B81","v":0},{"$f":"MONDAY!C81","v":0},{"$f":"MONDAY!D81","v":0},null,null,null,null,null,null,0,{"$f":"VLOOKUP(K81,lookups!$A$1:$B$363,2,FALSE)","v":"       -"},null,null,null,null,null,null,null,null,"","","",""]
[79,{"$f":"MONDAY!B82","v":0},{"$f":"MONDAY!C82","v":0},{"$f":"MONDAY!D82","v":0},null,null,null,null,null,null,0,{"$f":"VLOOKUP(K82,lookups!$A$1:$B$363,2,FALSE)","v":"       -"},null,null,null,null,null,null,null,null,"","","",""]
[80,{"$f":"MONDAY!B83","v":0},{"$f":"MONDAY!C83","v":0},{"$f":"MONDAY!D83","v":0},null,null,null,null,null,null,0,{"$f":"VLOOKUP(K83,lookups!$A$1:$B$363,2,FALSE)","v":"       -"},null,null,null,null,null,null,null,null,"","","",""]
[81,{"$f":"MONDAY!B84","v":0},{"$f":"MONDAY!C84","v":0},{"$f":"MONDAY!D84","v":0},null,null,null,null,null,null,0,{"$f":"VLOOKUP(K84,lookups!$A$1:$B$363,2,FALSE)","v":"       -"},null,null,null,null,null,null,null,null,"","","",""]
[82,{"$f":"MONDAY!B85","v":0},{"$f":"MONDAY!C85","v":0},{"$f":"MONDAY!D85","v":0},null,null,null,null,null,null,0,{"$f":"VLOOKUP(K85,lookups!$A$1:$B$363,2,FALSE)","v":"       -"},null,null,null,null,null,null,null,null,"","","",""]
[83,{"$f":"MONDAY!B86","v":0},{"$f":"MONDAY!C86","v":0},{"$f":"MONDAY!D86","v":0},null,null,null,null,null,null,0,{"$f":"VLOOKUP(K86,lookups!$A$1:$B$363,2,FALSE)","v":"       -"},null,null,null,null,null,null,null,null,"","","",""]
[84,{"$f":"MONDAY!B87","v":0},{"$f":"MONDAY!C87","v":0},{"$f":"MONDAY!D87","v":0},null,null,null,null,null,null,0,{"$f":"VLOOKUP(K87,lookups!$A$1:$B$363,2,FALSE)","v":"       -"},null,null,null,null,null,null,null,null,"","","",""]
[85,{"$f":"MONDAY!B88","v":0},{"$f":"MONDAY!C88","v":0},{"$f":"MONDAY!D88","v":0},null,null,null,null,null,null,0,{"$f":"VLOOKUP(K88,lookups!$A$1:$B$363,2,FALSE)","v":"       -"},null,null,null,null,null,null,null,null,"","","",""]
[86,{"$f":"MONDAY!B89","v":0},{"$f":"MONDAY!C89","v":0},{"$f":"MONDAY!D89","v":0},null,null,null,null,null,null,0,{"$f":"VLOOKUP(K89,lookups!$A$1:$B$363,2,FALSE)","v":"       -"},null,null,null,null,null,null,null,null,"","","",""]
[87,{"$f":"MONDAY!B90","v":0},{"$f":"MONDAY!C90","v":0},{"$f":"MONDAY!D90","v":0},null,null,null,null,null,null,0,{"$f":"VLOOKUP(K90,lookups!$A$1:$B$363,2,FALSE)","v":"       -"},null,null,null,null,null,null,null,null,"","","",""]
[88,{"$f":"MONDAY!B91","v":0},{"$f":"MONDAY!C91","v":0},{"$f":"MONDAY!D91","v":0},null,null,null,null,null,null,0,{"$f":"VLOOKUP(K91,lookups!$A$1:$B$363,2,FALSE)","v":"       -"},null,null,null,null,null,null,null,null,"","","",""]
[89,{"$f":"MONDAY!B92","v":0},{"$f":"MONDAY!C92","v":0},{"$f":"MONDAY!D92","v":0},null,null,null,null,null,null,0,{"$f":"VLOOKUP(K92,lookups!$A$1:$B$363,2,FALSE)","v":"       -"},null,null,null,null,null,null,null,null,"","","",""]
[90,{"$f":"MONDAY!B93","v":0},{"$f":"MONDAY!C93","v":0},{"$f":"MONDAY!D93","v":0},null,null,null,null,null,null,0,{"$f":"VLOOKUP(K93,lookups!$A$1:$B$363,2,FALSE)","v":"       -"},null,null,null,null,null,null,null,null,"","","",""]
[91,{"$f":"MONDAY!B94","v":0},{"$f":"MONDAY!C94","v":0},{"$f":"MONDAY!D94","v":0},null,null,null,null,null,null,0,{"$f":"VLOOKUP(K94,lookups!$A$1:$B$363,2,FALSE)","v":"       -"},null,null,null,null,null,null,null,null,"","","",""]
[92,{"$f":"MONDAY!B95","v":0},{"$f":"MONDAY!C95","v":0},{"$f":"MONDAY!D95","v":0},null,null,null,null,null,null,0,{"$f":"VLOOKUP(K95,lookups!$A$1:$B$363,2,FALSE)","v":"       -"},null,null,null,null,null,null,null,null,"","","",""]
[93,{"$f":"MONDAY!B96","v":0},{"$f":"MONDAY!C96","v":0},{"$f":"MONDAY!D96","v":0},null,null,null,null,null,null,0,{"$f":"VLOOKUP(K96,lookups!$A$1:$B$363,2,FALSE)","v":"       -"},null,null,null,null,null,null,null,null,"","","",""]
[94,{"$f":"MONDAY!B97","v":0},{"$f":"MONDAY!C97","v":0},{"$f":"MONDAY!D97","v":0},null,null,null,null,null,null,0,{"$f":"VLOOKUP(K97,lookups!$A$1:$B$363,2,FALSE)","v":"       -"},null,null,null,null,null,null,null,null,"","","",""]
[95,{"$f":"MONDAY!B98","v":0},{"$f":"MONDAY!C98","v":0},{"$f":"MONDAY!D98","v":0},null,null,null,null,null,null,0,{"$f":"VLOOKUP(K98,lookups!$A$1:$B$363,2,FALSE)","v":"       -"},null,null,null,null,null,null,null,null,"","","",""]
[96,{"$f":"MONDAY!B99","v":0},{"$f":"MONDAY!C99","v":0},{"$f":"MONDAY!D99","v":0},null,null,null,null,null,null,0,{"$f":"VLOOKUP(K99,lookups!$A$1:$B$363,2,FALSE)","v":"       -"},null,null,null,null,null,null,null,null,"","","",""]
[97,{"$f":"MONDAY!B100","v":0},{"$f":"MONDAY!C100","v":0},{"$f":"MONDAY!D100","v":0},null,null,null,null,null,null,0,{"$f":"VLOOKUP(K100,lookups!$A$1:$B$363,2,FALSE)","v":"       -"},null,null,null,null,null,null,null,null,"","","",""]
[98,{"$f":"MONDAY!B101","v":0},{"$f":"MONDAY!C101","v":0},{"$f":"MONDAY!D101","v":0},null,null,null,null,null,null,0,{"$f":"VLOOKUP(K101,lookups!$A$1:$B$363,2,FALSE)","v":"       -"},null,null,null,null,null,null,null,null,"","","",""]
[99,{"$f":"MONDAY!B102","v":0},{"$f":"MONDAY!C102","v":0},{"$f":"MONDAY!D102","v":0},null,null,null,null,null,null,0,{"$f":"VLOOKUP(K102,lookups!$A$1:$B$363,2,FALSE)","v":"       -"},null,null,null,null,null,null,null,null,"","","",""]
[100,{"$f":"MONDAY!B103","v":0},{"$f":"MONDAY!C103","v":0},{"$f":"MONDAY!D103","v":0},null,null,null,null,null,null,0,{"$f":"VLOOKUP(K103,lookups!$A$1:$B$363,2,FALSE)","v":"       -"},null,null,null,null,null,null,null,null,"","","",""]
[null,null,null,null,null,null,null,null,null,null,null,{"$f":"SUM(U106:X106)","v":0},null,null,null,null,null,null,null,"Count",{"$f":"SUM(U4:U103)","v":0},{"$f":"SUM(V4:V103)","v":0},0,0]
[null,null,null,null,null,null,null,null,null,null,null,null,null,null,null,null,null,null,null,"Rate",{"$f":"C2","v":0},12.56,23.48,37.409999999999997]
[null,null,null,null,null,null,null,null,null,null,null,null,null,null,null,null,null,null,null,"Revenue",{"$f":"U104*U105","v":0},{"$f":"V104*V105","v":0},0,0]
[]
[null,"Bill Code","Registrants","Rate",null,"Revenue"]
[null,7963,{"$f":"V104","v":0},12.56,null,{"$f":"C109*D109","v":0}]
[null,7964,{"$f":"W104","v":0},23.48,null,{"$f":"C110*D110","v":0}]
[null,7965,{"$f":"X104","v":0},37.409999999999997,null,0]
[null,3301,{"$f":"U104","v":0},{"$f":"MONDAY!D112","v":0},null,0]
[null,null,null,null,null,{"$f":"SUM(F109:F112)","v":0}]

{"sheet":"FRIDAY","index":4,"n_rows":113,"n_cols":24,"rows_kept":113,"cut":false,"hidden":false,"merged":[[1,5,1,10]]}
[null,"Weekending",{"$f":"MONDAY!C1","v":"00:00:00"}]
[null,null,null,null,null,"Interactions in Minutes"]
[null,"Name","ID","Diagnosis",null,"RN 1:1","RN Group","MSW 1:1","MSW Group","Other","Daily Total minuets","Bill Code",null,null,null,null,null,null,null,null,3103,7963,7964,7965]
[1,{"$f":"MONDAY!B4","v":0},{"$f":"MONDAY!C4","v":0},{"$f":"MONDAY!D4","v":0},null,null,null,null,null,null,{"$f":"SUM(F4:J4)","v":0},{"$f":"VLOOKUP(K4,lookups!$A$1:$B$363,2,FALSE)","v":"       -"},null,null,null,null,null,null,null,null,{"$f":"IF(L4=$U$3,1,\"\")","v":""},{"$f":"IF(L4=$V$3,1,\"\")","v":""},{"$f":"IF(L4=$W$3,1,\"\")","v":""},{"$f":"IF(L4=$X$3,1,\"\")","v":""}]
[{"$f":"A4+1","v":2},{"$f":"MONDAY!B5","v":0},{"$f":"MONDAY!C5","v":0},{"$f":"MONDAY!D5","v":0},null,null,null,null,null,null,{"$f":"SUM(F5:J5)","v":0},{"$f":"VLOOKUP(K5,lookups!$A$1:$B$363,2,FALSE)","v":"       -"},null,null,null,null,null,null,null,null,{"$f":"IF(L5=$U$3,1,\"\")","v":""},{"$f":"IF(L5=$V$3,1,\"\")","v":""},{"$f":"IF(L5=$W$3,1,\"\")","v":""},{"$f":"IF(L5=$X$3,1,\"\")","v":""}]
[{"$f":"A5+1","v":3},{"$f":"MONDAY!B6","v":0},{"$f":"MONDAY!C6","v":0},{"$f":"MONDAY!D6","v":0},null,null,null,null,null,null,0,{"$f":"VLOOKUP(K6,lookups!$A$1:$B$363,2,FALSE)","v":"       -"},null,null,null,null,null,null,null,null,"","","",""]
[4,{"$f":"MONDAY!B7","v":0},{"$f":"MONDAY!C7","v":0},{"$f":"MONDAY!D7","v":0},null,null,null,null,null,null,0,{"$f":"VLOOKUP(K7,lookups!$A$1:$B$363,2,FALSE)","v":"       -"},null,null,null,null,null,null,null,null,"","","",""]
[5,{"$f":"MONDAY!B8","v":0},{"$f":"MONDAY!C8","v":0},{"$f":"MONDAY!D8","v":0},null,null,null,null,null,null,0,{"$f":"VLOOKUP(K8,lookups!$A$1:$B$363,2,FALSE)","v":"       -"},null,null,null,null,null,null,null,null,"","","",""]
[6,{"$f":"MONDAY!B9","v":0},{"$f":"MONDAY!C9","v":0},{"$f":"MONDAY!D9","v":0},null,null,null,null,null,null,0,{"$f":"VLOOKUP(K9,lookups!$A$1:$B$363,2,FALSE)","v":"       -"},null,null,null,null,null,null,null,null,"","","",""]
[7,{"$f":"MONDAY!B10","v":0},{"$f":"MONDAY!C10","v":0},{"$f":"MONDAY!D10","v":0},null,null,null,null,null,null,0,{"$f":"VLOOKUP(K10,lookups!$A$1:$B$363,2,FALSE)","v":"       -"},null,null,null,null,null,null,null,null,"","","",""]
[8,{"$f":"MONDAY!B11","v":0},{"$f":"MONDAY!C11","v":0},{"$f":"MONDAY!D11","v":0},null,null,null,null,null,null,0,{"$f":"VLOOKUP(K11,lookups!$A$1:$B$363,2,FALSE)","v":"       -"},null,null,null,null,null,null,null,null,"","","",""]
[9,{"$f":"MONDAY!B12","v":0},{"$f":"MONDAY!C12","v":0},{"$f":"MONDAY!D12","v":0},null,null,null,null,null,null,0,{"$f":"VLOOKUP(K12,lookups!$A$1:$B$363,2,FALSE)","v":"       -"},null,null,null,null,null,null,null,null,"","","",""]
[10,{"$f":"MONDAY!B13","v":0},{"$f":"MONDAY!C13","v":0},{"$f":"MONDAY!D13","v":0},null,null,null,null,null,null,0,{"$f":"VLOOKUP(K13,lookups!$A$1:$B$363,2,FALSE)","v":"       -"},null,null,null,null,null,null,null,null,"","","",""]
[11,{"$f":"MONDAY!B14","v":0},{"$f":"MONDAY!C14","v":0},{"$f":"MONDAY!D14","v":0},null,null,null,null,null,null,0,{"$f":"VLOOKUP(K14,lookups!$A$1:$B$363,2,FALSE)","v":"       -"},null,null,null,null,null,null,null,null,"","","",""]
[12,{"$f":"MONDAY!B15","v":0},{"$f":"MONDAY!C15","v":0},{"$f":"MONDAY!D15","v":0},null,null,null,null,null,null,0,{"$f":"VLOOKUP(K15,lookups!$A$1:$B$363,2,FALSE)","v":"       -"},null,null,null,null,null,null,null,null,"","","",""]
[13,{"$f":"MONDAY!B16","v":0},{"$f":"MONDAY!C16","v":0},{"$f":"MONDAY!D16","v":0},null,null,null,null,null,null,0,{"$f":"VLOOKUP(K16,lookups!$A$1:$B$363,2,FALSE)","v":"       -"},null,null,null,null,null,null,null,null,"","","",""]
[14,{"$f":"MONDAY!B17","v":0},{"$f":"MONDAY!C17","v":0},{"$f":"MONDAY!D17","v":0},null,null,null,null,null,null,0,{"$f":"VLOOKUP(K17,lookups!$A$1:$B$363,2,FALSE)","v":"       -"},null,null,null,null,null,null,null,null,"","","",""]
[15,{"$f":"MONDAY!B18","v":0},{"$f":"MONDAY!C18","v":0},{"$f":"MONDAY!D18","v":0},null,null,null,null,null,null,0,{"$f":"VLOOKUP(K18,lookups!$A$1:$B$363,2,FALSE)","v":"       -"},null,null,null,null,null,null,null,null,"","","",""]
[16,{"$f":"MONDAY!B19","v":0},{"$f":"MONDAY!C19","v":0},{"$f":"MONDAY!D19","v":0},null,null,null,null,null,null,0,{"$f":"VLOOKUP(K19,lookups!$A$1:$B$363,2,FALSE)","v":"       -"},null,null,null,null,null,null,null,null,"","","",""]
[17,{"$f":"MONDAY!B20","v":0},{"$f":"MONDAY!C20","v":0},{"$f":"MONDAY!D20","v":0},null,null,null,null,null,null,0,{"$f":"VLOOKUP(K20,lookups!$A$1:$B$363,2,FALSE)","v":"       -"},null,null,null,null,null,null,null,null,"","","",""]
[18,{"$f":"MONDAY!B21","v":0},{"$f":"MONDAY!C21","v":0},{"$f":"MONDAY!D21","v":0},null,null,null,null,null,null,0,{"$f":"VLOOKUP(K21,lookups!$A$1:$B$363,2,FALSE)","v":"       -"},null,null,null,null,null,null,null,null,"","","",""]
[19,{"$f":"MONDAY!B22","v":0},{"$f":"MONDAY!C22","v":0},{"$f":"MONDAY!D22","v":0},null,null,null,null,null,null,0,{"$f":"VLOOKUP(K22,lookups!$A$1:$B$363,2,FALSE)","v":"       -"},null,null,null,null,null,null,null,null,"","","",""]
[20,{"$f":"MONDAY!B23","v":0},{"$f":"MONDAY!C23","v":0},{"$f":"MONDAY!D23","v":0},null,null,null,null,null,null,0,{"$f":"VLOOKUP(K23,lookups!$A$1:$B$363,2,FALSE)","v":"       -"},null,null,null,null,null,null,null,null,"","","",""]
[21,{"$f":"MONDAY!B24","v":0},{"$f":"MONDAY!C24","v":0},{"$f":"MONDAY!D24","v":0},null,null,null,null,null,null,0,{"$f":"VLOOKUP(K24,lookups!$A$1:$B$363,2,FALSE)","v":"       -"},null,null,null,null,null,null,null,null,"","","",""]
[22,{"$f":"MONDAY!B25","v":0},{"$f":"MONDAY!C25","v":0},{"$f":"MONDAY!D25","v":0},null,null,null,null,null,null,0,{"$f":"VLOOKUP(K25,lookups!$A$1:$B$363,2,FALSE)","v":"       -"},null,null,null,null,null,null,null,null,"","","",""]
[23,{"$f":"MONDAY!B26","v":0},{"$f":"MONDAY!C26","v":0},{"$f":"MONDAY!D26","v":0},null,null,null,null,null,null,0,{"$f":"VLOOKUP(K26,lookups!$A$1:$B$363,2,FALSE)","v":"       -"},null,null,null,null,null,null,null,null,"","","",""]
[24,{"$f":"MONDAY!B27","v":0},{"$f":"MONDAY!C27","v":0},{"$f":"MONDAY!D27","v":0},null,null,null,null,null,null,0,{"$f":"VLOOKUP(K27,lookups!$A$1:$B$363,2,FALSE)","v":"       -"},null,null,null,null,null,null,null,null,"","","",""]
[25,{"$f":"MONDAY!B28","v":0},{"$f":"MONDAY!C28","v":0},{"$f":"MONDAY!D28","v":0},null,null,null,null,null,null,0,{"$f":"VLOOKUP(K28,lookups!$A$1:$B$363,2,FALSE)","v":"       -"},null,null,null,null,null,null,null,null,"","","",""]
[26,{"$f":"MONDAY!B29","v":0},{"$f":"MONDAY!C29","v":0},{"$f":"MONDAY!D29","v":0},null,null,null,null,null,null,0,{"$f":"VLOOKUP(K29,lookups!$A$1:$B$363,2,FALSE)","v":"       -"},null,null,null,null,null,null,null,null,"","","",""]
[27,{"$f":"MONDAY!B30","v":0},{"$f":"MONDAY!C30","v":0},{"$f":"MONDAY!D30","v":0},null,null,null,null,null,null,0,{"$f":"VLOOKUP(K30,lookups!$A$1:$B$363,2,FALSE)","v":"       -"},null,null,null,null,null,null,null,null,"","","",""]
[28,{"$f":"MONDAY!B31","v":0},{"$f":"MONDAY!C31","v":0},{"$f":"MONDAY!D31","v":0},null,null,null,null,null,null,0,{"$f":"VLOOKUP(K31,lookups!$A$1:$B$363,2,FALSE)","v":"       -"},null,null,null,null,null,null,null,null,"","","",""]
[29,{"$f":"MONDAY!B32","v":0},{"$f":"MONDAY!C32","v":0},{"$f":"MONDAY!D32","v":0},null,null,null,null,null,null,0,{"$f":"VLOOKUP(K32,lookups!$A$1:$B$363,2,FALSE)","v":"       -"},null,null,null,null,null,null,null,null,"","","",""]
[30,{"$f":"MONDAY!B33","v":0},{"$f":"MONDAY!C33","v":0},{"$f":"MONDAY!D33","v":0},null,null,null,null,null,null,0,{"$f":"VLOOKUP(K33,lookups!$A$1:$B$363,2,FALSE)","v":"       -"},null,null,null,null,null,null,null,null,"","","",""]
[31,{"$f":"MONDAY!B34","v":0},{"$f":"MONDAY!C34","v":0},{"$f":"MONDAY!D34","v":0},null,null,null,null,null,null,0,{"$f":"VLOOKUP(K34,lookups!$A$1:$B$363,2,FALSE)","v":"       -"},null,null,null,null,null,null,null,null,"","","",""]
[32,{"$f":"MONDAY!B35","v":0},{"$f":"MONDAY!C35","v":0},{"$f":"MONDAY!D35","v":0},null,null,null,null,null,null,0,{"$f":"VLOOKUP(K35,lookups!$A$1:$B$363,2,FALSE)","v":"       -"},null,null,null,null,null,null,null,null,"","","",""]
[33,{"$f":"MONDAY!B36","v":0},{"$f":"MONDAY!C36","v":0},{"$f":"MONDAY!D36","v":0},null,null,null,null,null,null,0,{"$f":"VLOOKUP(K36,lookups!$A$1:$B$363,2,FALSE)","v":"       -"},null,null,null,null,null,null,null,null,"","","",""]
[34,{"$f":"MONDAY!B37","v":0},{"$f":"MONDAY!C37","v":0},{"$f":"MONDAY!D37","v":0},null,null,null,null,null,null,0,{"$f":"VLOOKUP(K37,lookups!$A$1:$B$363,2,FALSE)","v":"       -"},null,null,null,null,null,null,null,null,"","","",""]
[35,{"$f":"MONDAY!B38","v":0},{"$f":"MONDAY!C38","v":0},{"$f":"MONDAY!D38","v":0},null,null,null,null,null,null,0,{"$f":"VLOOKUP(K38,lookups!$A$1:$B$363,2,FALSE)","v":"       -"},null,null,null,null,null,null,null,null,"","","",""]
[36,{"$f":"MONDAY!B39","v":0},{"$f":"MONDAY!C39","v":0},{"$f":"MONDAY!D39","v":0},null,null,null,null,null,null,0,{"$f":"VLOOKUP(K39,lookups!$A$1:$B$363,2,FALSE)","v":"       -"},null,null,null,null,null,null,null,null,"","","",""]
[37,{"$f":"MONDAY!B40","v":0},{"$f":"MONDAY!C40","v":0},{"$f":"MONDAY!D40","v":0},null,null,null,null,null,null,0,{"$f":"VLOOKUP(K40,lookups!$A$1:$B$363,2,FALSE)","v":"       -"},null,null,null,null,null,null,null,null,"","","",""]
[38,{"$f":"MONDAY!B41","v":0},{"$f":"MONDAY!C41","v":0},{"$f":"MONDAY!D41","v":0},null,null,null,null,null,null,0,{"$f":"VLOOKUP(K41,lookups!$A$1:$B$363,2,FALSE)","v":"       -"},null,null,null,null,null,null,null,null,"","","",""]
[39,{"$f":"MONDAY!B42","v":0},{"$f":"MONDAY!C42","v":0},{"$f":"MONDAY!D42","v":0},null,null,null,null,null,null,0,{"$f":"VLOOKUP(K42,lookups!$A$1:$B$363,2,FALSE)","v":"       -"},null,null,null,null,null,null,null,null,"","","",""]
[40,{"$f":"MONDAY!B43","v":0},{"$f":"MONDAY!C43","v":0},{"$f":"MONDAY!D43","v":0},null,null,null,null,null,null,0,{"$f":"VLOOKUP(K43,lookups!$A$1:$B$363,2,FALSE)","v":"       -"},null,null,null,null,null,null,null,null,"","","",""]
[41,{"$f":"MONDAY!B44","v":0},{"$f":"MONDAY!C44","v":0},{"$f":"MONDAY!D44","v":0},null,null,null,null,null,null,0,{"$f":"VLOOKUP(K44,lookups!$A$1:$B$363,2,FALSE)","v":"       -"},null,null,null,null,null,null,null,null,"","","",""]
[42,{"$f":"MONDAY!B45","v":0},{"$f":"MONDAY!C45","v":0},{"$f":"MONDAY!D45","v":0},null,null,null,null,null,null,0,{"$f":"VLOOKUP(K45,lookups!$A$1:$B$363,2,FALSE)","v":"       -"},null,null,null,null,null,null,null,null,"","","",""]
[43,{"$f":"MONDAY!B46","v":0},{"$f":"MONDAY!C46","v":0},{"$f":"MONDAY!D46","v":0},null,null,null,null,null,null,0,{"$f":"VLOOKUP(K46,lookups!$A$1:$B$363,2,FALSE)","v":"       -"},null,null,null,null,null,null,null,null,"","","",""]
[44,{"$f":"MONDAY!B47","v":0},{"$f":"MONDAY!C47","v":0},{"$f":"MONDAY!D47","v":0},null,null,null,null,null,null,0,{"$f":"VLOOKUP(K47,lookups!$A$1:$B$363,2,FALSE)","v":"       -"},null,null,null,null,null,null,null,null,"","","",""]
[45,{"$f":"MONDAY!B48","v":0},{"$f":"MONDAY!C48","v":0},{"$f":"MONDAY!D48","v":0},null,null,null,null,null,null,0,{"$f":"VLOOKUP(K48,lookups!$A$1:$B$363,2,FALSE)","v":"       -"},null,null,null,null,null,null,null,null,"","","",""]
[46,{"$f":"MONDAY!B49","v":0},{"$f":"MONDAY!C49","v":0},{"$f":"MONDAY!D49","v":0},null,null,null,null,null,null,0,{"$f":"VLOOKUP(K49,lookups!$A$1:$B$363,2,FALSE)","v":"       -"},null,null,null,null,null,null,null,null,"","","",""]
[47,{"$f":"MONDAY!B50","v":0},{"$f":"MONDAY!C50","v":0},{"$f":"MONDAY!D50","v":0},null,null,null,null,null,null,0,{"$f":"VLOOKUP(K50,lookups!$A$1:$B$363,2,FALSE)","v":"       -"},null,null,null,null,null,null,null,null,"","","",""]
[48,{"$f":"MONDAY!B51","v":0},{"$f":"MONDAY!C51","v":0},{"$f":"MONDAY!D51","v":0},null,null,null,null,null,null,0,{"$f":"VLOOKUP(K51,lookups!$A$1:$B$363,2,FALSE)","v":"       -"},null,null,null,null,null,null,null,null,"","","",""]
[49,{"$f":"MONDAY!B52","v":0},{"$f":"MONDAY!C52","v":0},{"$f":"MONDAY!D52","v":0},null,null,null,null,null,null,0,{"$f":"VLOOKUP(K52,lookups!$A$1:$B$363,2,FALSE)","v":"       -"},null,null,null,null,null,null,null,null,"","","",""]
[50,{"$f":"MONDAY!B53","v":0},{"$f":"MONDAY!C53","v":0},{"$f":"MONDAY!D53","v":0},null,null,null,null,null,null,0,{"$f":"VLOOKUP(K53,lookups!$A$1:$B$363,2,FALSE)","v":"       -"},null,null,null,null,null,null,null,null,"","","",""]
[51,{"$f":"MONDAY!B54","v":0},{"$f":"MONDAY!C54","v":0},{"$f":"MONDAY!D54","v":0},null,null,null,null,null,null,0,{"$f":"VLOOKUP(K54,lookups!$A$1:$B$363,2,FALSE)","v":"       -"},null,null,null,null,null,null,null,null,"","","",""]
[52,{"$f":"MONDAY!B55","v":0},{"$f":"MONDAY!C55","v":0},{"$f":"MONDAY!D55","v":0},null,null,null,null,null,null,0,{"$f":"VLOOKUP(K55,lookups!$A$1:$B$363,2,FALSE)","v":"       -"},null,null,null,null,null,null,null,null,"","","",""]
[53,{"$f":"MONDAY!B56","v":0},{"$f":"MONDAY!C56","v":0},{"$f":"MONDAY!D56","v":0},null,null,null,null,null,null,0,{"$f":"VLOOKUP(K56,lookups!$A$1:$B$363,2,FALSE)","v":"       -"},null,null,null,null,null,null,null,null,"","","",""]
[54,{"$f":"MONDAY!B57","v":0},{"$f":"MONDAY!C57","v":0},{"$f":"MONDAY!D57","v":0},null,null,null,null,null,null,0,{"$f":"VLOOKUP(K57,lookups!$A$1:$B$363,2,FALSE)","v":"       -"},null,null,null,null,null,null,null,null,"","","",""]
[55,{"$f":"MONDAY!B58","v":0},{"$f":"MONDAY!C58","v":0},{"$f":"MONDAY!D58","v":0},null,null,null,null,null,null,0,{"$f":"VLOOKUP(K58,lookups!$A$1:$B$363,2,FALSE)","v":"       -"},null,null,null,null,null,null,null,null,"","","",""]
[56,{"$f":"MONDAY!B59","v":0},{"$f":"MONDAY!C59","v":0},{"$f":"MONDAY!D59","v":0},null,null,null,null,null,null,0,{"$f":"VLOOKUP(K59,lookups!$A$1:$B$363,2,FALSE)","v":"       -"},null,null,null,null,null,null,null,null,"","","",""]
[57,{"$f":"MONDAY!B60","v":0},{"$f":"MONDAY!C60","v":0},{"$f":"MONDAY!D60","v":0},null,null,null,null,null,null,0,{"$f":"VLOOKUP(K60,lookups!$A$1:$B$363,2,FALSE)","v":"       -"},null,null,null,null,null,null,null,null,"","","",""]
[58,{"$f":"MONDAY!B61","v":0},{"$f":"MONDAY!C61","v":0},{"$f":"MONDAY!D61","v":0},null,null,null,null,null,null,0,{"$f":"VLOOKUP(K61,lookups!$A$1:$B$363,2,FALSE)","v":"       -"},null,null,null,null,null,null,null,null,"","","",""]
[59,{"$f":"MONDAY!B62","v":0},{"$f":"MONDAY!C62","v":0},{"$f":"MONDAY!D62","v":0},null,null,null,null,null,null,0,{"$f":"VLOOKUP(K62,lookups!$A$1:$B$363,2,FALSE)","v":"       -"},null,null,null,null,null,null,null,null,"","","",""]
[60,{"$f":"MONDAY!B63","v":0},{"$f":"MONDAY!C63","v":0},{"$f":"MONDAY!D63","v":0},null,null,null,null,null,null,0,{"$f":"VLOOKUP(K63,lookups!$A$1:$B$363,2,FALSE)","v":"       -"},null,null,null,null,null,null,null,null,"","","",""]
[61,{"$f":"MONDAY!B64","v":0},{"$f":"MONDAY!C64","v":0},{"$f":"MONDAY!D64","v":0},null,null,null,null,null,null,0,{"$f":"VLOOKUP(K64,lookups!$A$1:$B$363,2,FALSE)","v":"       -"},null,null,null,null,null,null,null,null,"","","",""]
[62,{"$f":"MONDAY!B65","v":0},{"$f":"MONDAY!C65","v":0},{"$f":"MONDAY!D65","v":0},null,null,null,null,null,null,0,{"$f":"VLOOKUP(K65,lookups!$A$1:$B$363,2,FALSE)","v":"       -"},null,null,null,null,null,null,null,null,"","","",""]
[63,{"$f":"MONDAY!B66","v":0},{"$f":"MONDAY!C66","v":0},{"$f":"MONDAY!D66","v":0},null,null,null,null,null,null,0,{"$f":"VLOOKUP(K66,lookups!$A$1:$B$363,2,FALSE)","v":"       -"},null,null,null,null,null,null,null,null,"","","",""]
[64,{"$f":"MONDAY!B67","v":0},{"$f":"MONDAY!C67","v":0},{"$f":"MONDAY!D67","v":0},null,null,null,null,null,null,0,{"$f":"VLOOKUP(K67,lookups!$A$1:$B$363,2,FALSE)","v":"       -"},null,null,null,null,null,null,null,null,"","","",""]
[65,{"$f":"MONDAY!B68","v":0},{"$f":"MONDAY!C68","v":0},{"$f":"MONDAY!D68","v":0},null,null,null,null,null,null,0,{"$f":"VLOOKUP(K68,lookups!$A$1:$B$363,2,FALSE)","v":"       -"},null,null,null,null,null,null,null,null,"","","",""]
[66,{"$f":"MONDAY!B69","v":0},{"$f":"MONDAY!C69","v":0},{"$f":"MONDAY!D69","v":0},null,null,null,null,null,null,{"$f":"SUM(F69:J69)","v":0},{"$f":"VLOOKUP(K69,lookups!$A$1:$B$363,2,FALSE)","v":"       -"},null,null,null,null,null,null,null,null,{"$f":"IF(L69=$U$3,1,\"\")","v":""},{"$f":"IF(L69=$V$3,1,\"\")","v":""},{"$f":"IF(L69=$W$3,1,\"\")","v":""},{"$f":"IF(L69=$X$3,1,\"\")","v":""}]
[{"$f":"A69+1","v":67},{"$f":"MONDAY!B70","v":0},{"$f":"MONDAY!C70","v":0},{"$f":"MONDAY!D70","v":0},null,null,null,null,null,null,0,{"$f":"VLOOKUP(K70,lookups!$A$1:$B$363,2,FALSE)","v":"       -"},null,null,null,null,null,null,null,null,"","","",""]
[68,{"$f":"MONDAY!B71","v":0},{"$f":"MONDAY!C71","v":0},{"$f":"MONDAY!D71","v":0},null,null,null,null,null,null,0,{"$f":"VLOOKUP(K71,lookups!$A$1:$B$363,2,FALSE)","v":"       -"},null,null,null,null,null,null,null,null,"","","",""]
[69,{"$f":"MONDAY!B72","v":0},{"$f":"MONDAY!C72","v":0},{"$f":"MONDAY!D72","v":0},null,null,null,null,null,null,0,{"$f":"VLOOKUP(K72,lookups!$A$1:$B$363,2,FALSE)","v":"       -"},null,null,null,null,null,null,null,null,"","","",""]
[70,{"$f":"MONDAY!B73","v":0},{"$f":"MONDAY!C73","v":0},{"$f":"MONDAY!D73","v":0},null,null,null,null,null,null,0,{"$f":"VLOOKUP(K73,lookups!$A$1:$B$363,2,FALSE)","v":"       -"},null,null,null,null,null,null,null,null,"","","",""]
[71,{"$f":"MONDAY!B74","v":0},{"$f":"MONDAY!C74","v":0},{"$f":"MONDAY!D74","v":0},null,null,null,null,null,null,0,{"$f":"VLOOKUP(K74,lookups!$A$1:$B$363,2,FALSE)","v":"       -"},null,null,null,null,null,null,null,null,"","","",""]
[72,{"$f":"MONDAY!B75","v":0},{"$f":"MONDAY!C75","v":0},{"$f":"MONDAY!D75","v":0},null,null,null,null,null,null,0,{"$f":"VLOOKUP(K75,lookups!$A$1:$B$363,2,FALSE)","v":"       -"},null,null,null,null,null,null,null,null,"","","",""]
[73,{"$f":"MONDAY!B76","v":0},{"$f":"MONDAY!C76","v":0},{"$f":"MONDAY!D76","v":0},null,null,null,null,null,null,0,{"$f":"VLOOKUP(K76,lookups!$A$1:$B$363,2,FALSE)","v":"       -"},null,null,null,null,null,null,null,null,"","","",""]
[74,{"$f":"MONDAY!B77","v":0},{"$f":"MONDAY!C77","v":0},{"$f":"MONDAY!D77","v":0},null,null,null,null,null,null,0,{"$f":"VLOOKUP(K77,lookups!$A$1:$B$363,2,FALSE)","v":"       -"},null,null,null,null,null,null,null,null,"","","",""]
[75,{"$f":"MONDAY!B78","v":0},{"$f":"MONDAY!C78","v":0},{"$f":"MONDAY!D78","v":0},null,null,null,null,null,null,0,{"$f":"VLOOKUP(K78,lookups!$A$1:$B$363,2,FALSE)","v":"       -"},null,null,null,null,null,null,null,null,"","","",""]
[76,{"$f":"MONDAY!B79","v":0},{"$f":"MONDAY!C79","v":0},{"$f":"MONDAY!D79","v":0},null,null,null,null,null,null,0,{"$f":"VLOOKUP(K79,lookups!$A$1:$B$363,2,FALSE)","v":"       -"},null,null,null,null,null,null,null,null,"","","",""]
[77,{"$f":"MONDAY!B80","v":0},{"$f":"MONDAY!C80","v":0},{"$f":"MONDAY!D80","v":0},null,null,null,null,null,null,0,{"$f":"VLOOKUP(K80,lookups!$A$1:$B$363,2,FALSE)","v":"       -"},null,null,null,null,null,null,null,null,"","","",""]
[78,{"$f":"MONDAY!B81","v":0},{"$f":"MONDAY!C81","v":0},{"$f":"MONDAY!D81","v":0},null,null,null,null,null,null,0,{"$f":"VLOOKUP(K81,lookups!$A$1:$B$363,2,FALSE)","v":"       -"},null,null,null,null,null,null,null,null,"","","",""]
[79,{"$f":"MONDAY!B82","v":0},{"$f":"MONDAY!C82","v":0},{"$f":"MONDAY!D82","v":0},null,null,null,null,null,null,0,{"$f":"VLOOKUP(K82,lookups!$A$1:$B$363,2,FALSE)","v":"       -"},null,null,null,null,null,null,null,null,"","","",""]
[80,{"$f":"MONDAY!B83","v":0},{"$f":"MONDAY!C83","v":0},{"$f":"MONDAY!D83","v":0},null,null,null,null,null,null,0,{"$f":"VLOOKUP(K83,lookups!$A$1:$B$363,2,FALSE)","v":"       -"},null,null,null,null,null,null,null,null,"","","",""]
[81,{"$f":"MONDAY!B84","v":0},{"$f":"MONDAY!C84","v":0},{"$f":"MONDAY!D84","v":0},null,null,null,null,null,null,0,{"$f":"VLOOKUP(K84,lookups!$A$1:$B$363,2,FALSE)","v":"       -"},null,null,null,null,null,null,null,null,"","","",""]
[82,{"$f":"MONDAY!B85","v":0},{"$f":"MONDAY!C85","v":0},{"$f":"MONDAY!D85","v":0},null,null,null,null,null,null,0,{"$f":"VLOOKUP(K85,lookups!$A$1:$B$363,2,FALSE)","v":"       -"},null,null,null,null,null,null,null,null,"","","",""]
[83,{"$f":"MONDAY!B86","v":0},{"$f":"MONDAY!C86","v":0},{"$f":"MONDAY!D86","v":0},null,null,null,null,null,null,0,{"$f":"VLOOKUP(K86,lookups!$A$1:$B$363,2,FALSE)","v":"       -"},null,null,null,null,null,null,null,null,"","","",""]
[84,{"$f":"MONDAY!B87","v":0},{"$f":"MONDAY!C87","v":0},{"$f":"MONDAY!D87","v":0},null,null,null,null,null,null,0,{"$f":"VLOOKUP(K87,lookups!$A$1:$B$363,2,FALSE)","v":"       -"},null,null,null,null,null,null,null,null,"","","",""]
[85,{"$f":"MONDAY!B88","v":0},{"$f":"MONDAY!C88","v":0},{"$f":"MONDAY!D88","v":0},null,null,null,null,null,null,0,{"$f":"VLOOKUP(K88,lookups!$A$1:$B$363,2,FALSE)","v":"       -"},null,null,null,null,null,null,null,null,"","","",""]
[86,{"$f":"MONDAY!B89","v":0},{"$f":"MONDAY!C89","v":0},{"$f":"MONDAY!D89","v":0},null,null,null,null,null,null,0,{"$f":"VLOOKUP(K89,lookups!$A$1:$B$363,2,FALSE)","v":"       -"},null,null,null,null,null,null,null,null,"","","",""]
[87,{"$f":"MONDAY!B90","v":0},{"$f":"MONDAY!C90","v":0},{"$f":"MONDAY!D90","v":0},null,null,null,null,null,null,0,{"$f":"VLOOKUP(K90,lookups!$A$1:$B$363,2,FALSE)","v":"       -"},null,null,null,null,null,null,null,null,"","","",""]
[88,{"$f":"MONDAY!B91","v":0},{"$f":"MONDAY!C91","v":0},{"$f":"MONDAY!D91","v":0},null,null,null,null,null,null,0,{"$f":"VLOOKUP(K91,lookups!$A$1:$B$363,2,FALSE)","v":"       -"},null,null,null,null,null,null,null,null,"","","",""]
[89,{"$f":"MONDAY!B92","v":0},{"$f":"MONDAY!C92","v":0},{"$f":"MONDAY!D92","v":0},null,null,null,null,null,null,0,{"$f":"VLOOKUP(K92,lookups!$A$1:$B$363,2,FALSE)","v":"       -"},null,null,null,null,null,null,null,null,"","","",""]
[90,{"$f":"MONDAY!B93","v":0},{"$f":"MONDAY!C93","v":0},{"$f":"MONDAY!D93","v":0},null,null,null,null,null,null,0,{"$f":"VLOOKUP(K93,lookups!$A$1:$B$363,2,FALSE)","v":"       -"},null,null,null,null,null,null,null,null,"","","",""]
[91,{"$f":"MONDAY!B94","v":0},{"$f":"MONDAY!C94","v":0},{"$f":"MONDAY!D94","v":0},null,null,null,null,null,null,0,{"$f":"VLOOKUP(K94,lookups!$A$1:$B$363,2,FALSE)","v":"       -"},null,null,null,null,null,null,null,null,"","","",""]
[92,{"$f":"MONDAY!B95","v":0},{"$f":"MONDAY!C95","v":0},{"$f":"MONDAY!D95","v":0},null,null,null,null,null,null,0,{"$f":"VLOOKUP(K95,lookups!$A$1:$B$363,2,FALSE)","v":"       -"},null,null,null,null,null,null,null,null,"","","",""]
[93,{"$f":"MONDAY!B96","v":0},{"$f":"MONDAY!C96","v":0},{"$f":"MONDAY!D96","v":0},null,null,null,null,null,null,0,{"$f":"VLOOKUP(K96,lookups!$A$1:$B$363,2,FALSE)","v":"       -"},null,null,null,null,null,null,null,null,"","","",""]
[94,{"$f":"MONDAY!B97","v":0},{"$f":"MONDAY!C97","v":0},{"$f":"MONDAY!D97","v":0},null,null,null,null,null,null,0,{"$f":"VLOOKUP(K97,lookups!$A$1:$B$363,2,FALSE)","v":"       -"},null,null,null,null,null,null,null,null,"","","",""]
[95,{"$f":"MONDAY!B98","v":0},{"$f":"MONDAY!C98","v":0},{"$f":"MONDAY!D98","v":0},null,null,null,null,null,null,0,{"$f":"VLOOKUP(K98,lookups!$A$1:$B$363,2,FALSE)","v":"       -"},null,null,null,null,null,null,null,null,"","","",""]
[96,{"$f":"MONDAY!B99","v":0},{"$f":"MONDAY!C99","v":0},{"$f":"MONDAY!D99","v":0},null,null,null,null,null,null,0,{"$f":"VLOOKUP(K99,lookups!$A$1:$B$363,2,FALSE)","v":"       -"},null,null,null,null,null,null,null,null,"","","",""]
[97,{"$f":"MONDAY!B100","v":0},{"$f":"MONDAY!C100","v":0},{"$f":"MONDAY!D100","v":0},null,null,null,null,null,null,0,{"$f":"VLOOKUP(K100,lookups!$A$1:$B$363,2,FALSE)","v":"       -"},null,null,null,null,null,null,null,null,"","","",""]
[98,{"$f":"MONDAY!B101","v":0},{"$f":"MONDAY!C101","v":0},{"$f":"MONDAY!D101","v":0},null,null,null,null,null,null,0,{"$f":"VLOOKUP(K101,lookups!$A$1:$B$363,2,FALSE)","v":"       -"},null,null,null,null,null,null,null,null,"","","",""]
[99,{"$f":"MONDAY!B102","v":0},{"$f":"MONDAY!C102","v":0},{"$f":"MONDAY!D102","v":0},null,null,null,null,null,null,0,{"$f":"VLOOKUP(K102,lookups!$A$1:$B$363,2,FALSE)","v":"       -"},null,null,null,null,null,null,null,null,"","","",""]
[100,{"$f":"MONDAY!B103","v":0},{"$f":"MONDAY!C103","v":0},{"$f":"MONDAY!D103","v":0},null,null,null,null,null,null,0,{"$f":"VLOOKUP(K103,lookups!$A$1:$B$363,2,FALSE)","v":"       -"},null,null,null,null,null,null,null,null,"","","",""]
[null,null,null,null,null,null,null,null,null,null,null,{"$f":"SUM(U106:X106)","v":0},null,null,null,null,null,null,null,"Count",{"$f":"SUM(U4:U103)","v":0},{"$f":"SUM(V4:V103)","v":0},0,0]
[null,null,null,null,null,null,null,null,null,null,null,null,null,null,null,null,null,null,null,"Rate",{"$f":"C2","v":0},12.56,23.48,37.409999999999997]
[null,null,null,null,null,null,null,null,null,null,null,null,null,null,null,null,null,null,null,"Revenue",{"$f":"U104*U105","v":0},{"$f":"V104*V105","v":0},0,0]
[]
[null,"Bill Code","Registrants","Rate",null,"Revenue"]
[null,7963,{"$f":"V104","v":0},12.56,null,{"$f":"C109*D109","v":0}]
[null,7964,{"$f":"W104","v":0},23.48,null,{"$f":"C110*D110","v":0}]
[null,7965,{"$f":"X104","v":0},37.409999999999997,null,0]
[null,3301,{"$f":"U104","v":0},{"$f":"MONDAY!D112","v":0},null,0]
[null,null,null,null,null,{"$f":"SUM(F109:F112)","v":0}]

{"sheet":"Weekly Summary","index":5,"n_rows":103,"n_cols":8,"rows_kept":103,"cut":false,"hidden":false,"merged":[]}
[null,"Weekending",{"$f":"MONDAY!C1","v":"00:00:00"}]
[]
[null,"LastName","ID","Monday","Tuesday","Wednesday","Thursday","Friday"]
[1,{"$f":"MONDAY!B4","v":0},{"$f":"MONDAY!C4","v":0},{"$f":"MONDAY!L4","v":"       -"},{"$f":"TUESDAY!L4","v":"       -"},{"$f":"WEDNESDAY!L4","v":"       -"},{"$f":"THURSDAY!L4","v":"       -"},{"$f":"FRIDAY!L4","v":"       -"}]
[{"$f":"A4+1","v":2},{"$f":"MONDAY!B5","v":0},{"$f":"MONDAY!C5","v":0},{"$f":"MONDAY!L5","v":"       -"},{"$f":"TUESDAY!L5","v":"       -"},{"$f":"WEDNESDAY!L5","v":"       -"},{"$f":"THURSDAY!L5","v":"       -"},{"$f":"FRIDAY!L5","v":"       -"}]
[{"$f":"A5+1","v":3},{"$f":"MONDAY!B6","v":0},{"$f":"MONDAY!C6","v":0},{"$f":"MONDAY!L6","v":"       -"},{"$f":"TUESDAY!L6","v":"       -"},{"$f":"WEDNESDAY!L6","v":"       -"},{"$f":"THURSDAY!L6","v":"       -"},{"$f":"FRIDAY!L6","v":"       -"}]
[4,{"$f":"MONDAY!B7","v":0},{"$f":"MONDAY!C7","v":0},{"$f":"MONDAY!L7","v":"       -"},{"$f":"TUESDAY!L7","v":"       -"},{"$f":"WEDNESDAY!L7","v":"       -"},{"$f":"THURSDAY!L7","v":"       -"},{"$f":"FRIDAY!L7","v":"       -"}]
[5,{"$f":"MONDAY!B8","v":0},{"$f":"MONDAY!C8","v":0},{"$f":"MONDAY!L8","v":"       -"},{"$f":"TUESDAY!L8","v":"       -"},{"$f":"WEDNESDAY!L8","v":"       -"},{"$f":"THURSDAY!L8","v":"       -"},{"$f":"FRIDAY!L8","v":"       -"}]
[6,{"$f":"MONDAY!B9","v":0},{"$f":"MONDAY!C9","v":0},{"$f":"MONDAY!L9","v":"       -"},{"$f":"TUESDAY!L9","v":"       -"},{"$f":"WEDNESDAY!L9","v":"       -"},{"$f":"THURSDAY!L9","v":"       -"},{"$f":"FRIDAY!L9","v":"       -"}]
[7,{"$f":"MONDAY!B10","v":0},{"$f":"MONDAY!C10","v":0},{"$f":"MONDAY!L10","v":"       -"},{"$f":"TUESDAY!L10","v":"       -"},{"$f":"WEDNESDAY!L10","v":"       -"},{"$f":"THURSDAY!L10","v":"       -"},{"$f":"FRIDAY!L10","v":"       -"}]
[8,{"$f":"MONDAY!B11","v":0},{"$f":"MONDAY!C11","v":0},{"$f":"MONDAY!L11","v":"       -"},{"$f":"TUESDAY!L11","v":"       -"},{"$f":"WEDNESDAY!L11","v":"       -"},{"$f":"THURSDAY!L11","v":"       -"},{"$f":"FRIDAY!L11","v":"       -"}]
[9,{"$f":"MONDAY!B12","v":0},{"$f":"MONDAY!C12","v":0},{"$f":"MONDAY!L12","v":"       -"},{"$f":"TUESDAY!L12","v":"       -"},{"$f":"WEDNESDAY!L12","v":"       -"},{"$f":"THURSDAY!L12","v":"       -"},{"$f":"FRIDAY!L12","v":"       -"}]
[10,{"$f":"MONDAY!B13","v":0},{"$f":"MONDAY!C13","v":0},{"$f":"MONDAY!L13","v":"       -"},{"$f":"TUESDAY!L13","v":"       -"},{"$f":"WEDNESDAY!L13","v":"       -"},{"$f":"THURSDAY!L13","v":"       -"},{"$f":"FRIDAY!L13","v":"       -"}]
[11,{"$f":"MONDAY!B14","v":0},{"$f":"MONDAY!C14","v":0},{"$f":"MONDAY!L14","v":"       -"},{"$f":"TUESDAY!L14","v":"       -"},{"$f":"WEDNESDAY!L14","v":"       -"},{"$f":"THURSDAY!L14","v":"       -"},{"$f":"FRIDAY!L14","v":"       -"}]
[12,{"$f":"MONDAY!B15","v":0},{"$f":"MONDAY!C15","v":0},{"$f":"MONDAY!L15","v":"       -"},{"$f":"TUESDAY!L15","v":"       -"},{"$f":"WEDNESDAY!L15","v":"       -"},{"$f":"THURSDAY!L15","v":"       -"},{"$f":"FRIDAY!L15","v":"       -"}]
[13,{"$f":"MONDAY!B16","v":0},{"$f":"MONDAY!C16","v":0},{"$f":"MONDAY!L16","v":"       -"},{"$f":"TUESDAY!L16","v":"       -"},{"$f":"WEDNESDAY!L16","v":"       -"},{"$f":"THURSDAY!L16","v":"       -"},{"$f":"FRIDAY!L16","v":"       -"}]
[14,{"$f":"MONDAY!B17","v":0},{"$f":"MONDAY!C17","v":0},{"$f":"MONDAY!L17","v":"       -"},{"$f":"TUESDAY!L17","v":"       -"},{"$f":"WEDNESDAY!L17","v":"       -"},{"$f":"THURSDAY!L17","v":"       -"},{"$f":"FRIDAY!L17","v":"       -"}]
[15,{"$f":"MONDAY!B18","v":0},{"$f":"MONDAY!C18","v":0},{"$f":"MONDAY!L18","v":"       -"},{"$f":"TUESDAY!L18","v":"       -"},{"$f":"WEDNESDAY!L18","v":"       -"},{"$f":"THURSDAY!L18","v":"       -"},{"$f":"FRIDAY!L18","v":"       -"}]
[16,{"$f":"MONDAY!B19","v":0},{"$f":"MONDAY!C19","v":0},{"$f":"MONDAY!L19","v":"       -"},{"$f":"TUESDAY!L19","v":"       -"},{"$f":"WEDNESDAY!L19","v":"       -"},{"$f":"THURSDAY!L19","v":"       -"},{"$f":"FRIDAY!L19","v":"       -"}]
[17,{"$f":"MONDAY!B20","v":0},{"$f":"MONDAY!C20","v":0},{"$f":"MONDAY!L20","v":"       -"},{"$f":"TUESDAY!L20","v":"       -"},{"$f":"WEDNESDAY!L20","v":"       -"},{"$f":"THURSDAY!L20","v":"       -"},{"$f":"FRIDAY!L20","v":"       -"}]
[18,{"$f":"MONDAY!B21","v":0},{"$f":"MONDAY!C21","v":0},{"$f":"MONDAY!L21","v":"       -"},{"$f":"TUESDAY!L21","v":"       -"},{"$f":"WEDNESDAY!L21","v":"       -"},{"$f":"THURSDAY!L21","v":"       -"},{"$f":"FRIDAY!L21","v":"       -"}]
[19,{"$f":"MONDAY!B22","v":0},{"$f":"MONDAY!C22","v":0},{"$f":"MONDAY!L22","v":"       -"},{"$f":"TUESDAY!L22","v":"       -"},{"$f":"WEDNESDAY!L22","v":"       -"},{"$f":"THURSDAY!L22","v":"       -"},{"$f":"FRIDAY!L22","v":"       -"}]
[20,{"$f":"MONDAY!B23","v":0},{"$f":"MONDAY!C23","v":0},{"$f":"MONDAY!L23","v":"       -"},{"$f":"TUESDAY!L23","v":"       -"},{"$f":"WEDNESDAY!L23","v":"       -"},{"$f":"THURSDAY!L23","v":"       -"},{"$f":"FRIDAY!L23","v":"       -"}]
[21,{"$f":"MONDAY!B24","v":0},{"$f":"MONDAY!C24","v":0},{"$f":"MONDAY!L24","v":"       -"},{"$f":"TUESDAY!L24","v":"       -"},{"$f":"WEDNESDAY!L24","v":"       -"},{"$f":"THURSDAY!L24","v":"       -"},{"$f":"FRIDAY!L24","v":"       -"}]
[22,{"$f":"MONDAY!B25","v":0},{"$f":"MONDAY!C25","v":0},{"$f":"MONDAY!L25","v":"       -"},{"$f":"TUESDAY!L25","v":"       -"},{"$f":"WEDNESDAY!L25","v":"       -"},{"$f":"THURSDAY!L25","v":"       -"},{"$f":"FRIDAY!L25","v":"       -"}]
[23,{"$f":"MONDAY!B26","v":0},{"$f":"MONDAY!C26","v":0},{"$f":"MONDAY!L26","v":"       -"},{"$f":"TUESDAY!L26","v":"       -"},{"$f":"WEDNESDAY!L26","v":"       -"},{"$f":"THURSDAY!L26","v":"       -"},{"$f":"FRIDAY!L26","v":"       -"}]
[24,{"$f":"MONDAY!B27","v":0},{"$f":"MONDAY!C27","v":0},{"$f":"MONDAY!L27","v":"       -"},{"$f":"TUESDAY!L27","v":"       -"},{"$f":"WEDNESDAY!L27","v":"       -"},{"$f":"THURSDAY!L27","v":"       -"},{"$f":"FRIDAY!L27","v":"       -"}]
[25,{"$f":"MONDAY!B28","v":0},{"$f":"MONDAY!C28","v":0},{"$f":"MONDAY!L28","v":"       -"},{"$f":"TUESDAY!L28","v":"       -"},{"$f":"WEDNESDAY!L28","v":"       -"},{"$f":"THURSDAY!L28","v":"       -"},{"$f":"FRIDAY!L28","v":"       -"}]
[26,{"$f":"MONDAY!B29","v":0},{"$f":"MONDAY!C29","v":0},{"$f":"MONDAY!L29","v":"       -"},{"$f":"TUESDAY!L29","v":"       -"},{"$f":"WEDNESDAY!L29","v":"       -"},{"$f":"THURSDAY!L29","v":"       -"},{"$f":"FRIDAY!L29","v":"       -"}]
[27,{"$f":"MONDAY!B30","v":0},{"$f":"MONDAY!C30","v":0},{"$f":"MONDAY!L30","v":"       -"},{"$f":"TUESDAY!L30","v":"       -"},{"$f":"WEDNESDAY!L30","v":"       -"},{"$f":"THURSDAY!L30","v":"       -"},{"$f":"FRIDAY!L30","v":"       -"}]
[28,{"$f":"MONDAY!B31","v":0},{"$f":"MONDAY!C31","v":0},{"$f":"MONDAY!L31","v":"       -"},{"$f":"TUESDAY!L31","v":"       -"},{"$f":"WEDNESDAY!L31","v":"       -"},{"$f":"THURSDAY!L31","v":"       -"},{"$f":"FRIDAY!L31","v":"       -"}]
[29,{"$f":"MONDAY!B32","v":0},{"$f":"MONDAY!C32","v":0},{"$f":"MONDAY!L32","v":"       -"},{"$f":"TUESDAY!L32","v":"       -"},{"$f":"WEDNESDAY!L32","v":"       -"},{"$f":"THURSDAY!L32","v":"       -"},{"$f":"FRIDAY!L32","v":"       -"}]
[30,{"$f":"MONDAY!B33","v":0},{"$f":"MONDAY!C33","v":0},{"$f":"MONDAY!L33","v":"       -"},{"$f":"TUESDAY!L33","v":"       -"},{"$f":"WEDNESDAY!L33","v":"       -"},{"$f":"THURSDAY!L33","v":"       -"},{"$f":"FRIDAY!L33","v":"       -"}]
[31,{"$f":"MONDAY!B34","v":0},{"$f":"MONDAY!C34","v":0},{"$f":"MONDAY!L34","v":"       -"},{"$f":"TUESDAY!L34","v":"       -"},{"$f":"WEDNESDAY!L34","v":"       -"},{"$f":"THURSDAY!L34","v":"       -"},{"$f":"FRIDAY!L34","v":"       -"}]
[32,{"$f":"MONDAY!B35","v":0},{"$f":"MONDAY!C35","v":0},{"$f":"MONDAY!L35","v":"       -"},{"$f":"TUESDAY!L35","v":"       -"},{"$f":"WEDNESDAY!L35","v":"       -"},{"$f":"THURSDAY!L35","v":"       -"},{"$f":"FRIDAY!L35","v":"       -"}]
[33,{"$f":"MONDAY!B36","v":0},{"$f":"MONDAY!C36","v":0},{"$f":"MONDAY!L36","v":"       -"},{"$f":"TUESDAY!L36","v":"       -"},{"$f":"WEDNESDAY!L36","v":"       -"},{"$f":"THURSDAY!L36","v":"       -"},{"$f":"FRIDAY!L36","v":"       -"}]
[34,{"$f":"MONDAY!B37","v":0},{"$f":"MONDAY!C37","v":0},{"$f":"MONDAY!L37","v":"       -"},{"$f":"TUESDAY!L37","v":"       -"},{"$f":"WEDNESDAY!L37","v":"       -"},{"$f":"THURSDAY!L37","v":"       -"},{"$f":"FRIDAY!L37","v":"       -"}]
[35,{"$f":"MONDAY!B38","v":0},{"$f":"MONDAY!C38","v":0},{"$f":"MONDAY!L38","v":"       -"},{"$f":"TUESDAY!L38","v":"       -"},{"$f":"WEDNESDAY!L38","v":"       -"},{"$f":"THURSDAY!L38","v":"       -"},{"$f":"FRIDAY!L38","v":"       -"}]
[36,{"$f":"MONDAY!B39","v":0},{"$f":"MONDAY!C39","v":0},{"$f":"MONDAY!L39","v":"       -"},{"$f":"TUESDAY!L39","v":"       -"},{"$f":"WEDNESDAY!L39","v":"       -"},{"$f":"THURSDAY!L39","v":"       -"},{"$f":"FRIDAY!L39","v":"       -"}]
[37,{"$f":"MONDAY!B40","v":0},{"$f":"MONDAY!C40","v":0},{"$f":"MONDAY!L40","v":"       -"},{"$f":"TUESDAY!L40","v":"       -"},{"$f":"WEDNESDAY!L40","v":"       -"},{"$f":"THURSDAY!L40","v":"       -"},{"$f":"FRIDAY!L40","v":"       -"}]
[38,{"$f":"MONDAY!B41","v":0},{"$f":"MONDAY!C41","v":0},{"$f":"MONDAY!L41","v":"       -"},{"$f":"TUESDAY!L41","v":"       -"},{"$f":"WEDNESDAY!L41","v":"       -"},{"$f":"THURSDAY!L41","v":"       -"},{"$f":"FRIDAY!L41","v":"       -"}]
[39,{"$f":"MONDAY!B42","v":0},{"$f":"MONDAY!C42","v":0},{"$f":"MONDAY!L42","v":"       -"},{"$f":"TUESDAY!L42","v":"       -"},{"$f":"WEDNESDAY!L42","v":"       -"},{"$f":"THURSDAY!L42","v":"       -"},{"$f":"FRIDAY!L42","v":"       -"}]
[40,{"$f":"MONDAY!B43","v":0},{"$f":"MONDAY!C43","v":0},{"$f":"MONDAY!L43","v":"       -"},{"$f":"TUESDAY!L43","v":"       -"},{"$f":"WEDNESDAY!L43","v":"       -"},{"$f":"THURSDAY!L43","v":"       -"},{"$f":"FRIDAY!L43","v":"       -"}]
[41,{"$f":"MONDAY!B44","v":0},{"$f":"MONDAY!C44","v":0},{"$f":"MONDAY!L44","v":"       -"},{"$f":"TUESDAY!L44","v":"       -"},{"$f":"WEDNESDAY!L44","v":"       -"},{"$f":"THURSDAY!L44","v":"       -"},{"$f":"FRIDAY!L44","v":"       -"}]
[42,{"$f":"MONDAY!B45","v":0},{"$f":"MONDAY!C45","v":0},{"$f":"MONDAY!L45","v":"       -"},{"$f":"TUESDAY!L45","v":"       -"},{"$f":"WEDNESDAY!L45","v":"       -"},{"$f":"THURSDAY!L45","v":"       -"},{"$f":"FRIDAY!L45","v":"       -"}]
[43,{"$f":"MONDAY!B46","v":0},{"$f":"MONDAY!C46","v":0},{"$f":"MONDAY!L46","v":"       -"},{"$f":"TUESDAY!L46","v":"       -"},{"$f":"WEDNESDAY!L46","v":"       -"},{"$f":"THURSDAY!L46","v":"       -"},{"$f":"FRIDAY!L46","v":"       -"}]
[44,{"$f":"MONDAY!B47","v":0},{"$f":"MONDAY!C47","v":0},{"$f":"MONDAY!L47","v":"       -"},{"$f":"TUESDAY!L47","v":"       -"},{"$f":"WEDNESDAY!L47","v":"       -"},{"$f":"THURSDAY!L47","v":"       -"},{"$f":"FRIDAY!L47","v":"       -"}]
[45,{"$f":"MONDAY!B48","v":0},{"$f":"MONDAY!C48","v":0},{"$f":"MONDAY!L48","v":"       -"},{"$f":"TUESDAY!L48","v":"       -"},{"$f":"WEDNESDAY!L48","v":"       -"},{"$f":"THURSDAY!L48","v":"       -"},{"$f":"FRIDAY!L48","v":"       -"}]
[46,{"$f":"MONDAY!B49","v":0},{"$f":"MONDAY!C49","v":0},{"$f":"MONDAY!L49","v":"       -"},{"$f":"TUESDAY!L49","v":"       -"},{"$f":"WEDNESDAY!L49","v":"       -"},{"$f":"THURSDAY!L49","v":"       -"},{"$f":"FRIDAY!L49","v":"       -"}]
[47,{"$f":"MONDAY!B50","v":0},{"$f":"MONDAY!C50","v":0},{"$f":"MONDAY!L50","v":"       -"},{"$f":"TUESDAY!L50","v":"       -"},{"$f":"WEDNESDAY!L50","v":"       -"},{"$f":"THURSDAY!L50","v":"       -"},{"$f":"FRIDAY!L50","v":"       -"}]
[48,{"$f":"MONDAY!B51","v":0},{"$f":"MONDAY!C51","v":0},{"$f":"MONDAY!L51","v":"       -"},{"$f":"TUESDAY!L51","v":"       -"},{"$f":"WEDNESDAY!L51","v":"       -"},{"$f":"THURSDAY!L51","v":"       -"},{"$f":"FRIDAY!L51","v":"       -"}]
[49,{"$f":"MONDAY!B52","v":0},{"$f":"MONDAY!C52","v":0},{"$f":"MONDAY!L52","v":"       -"},{"$f":"TUESDAY!L52","v":"       -"},{"$f":"WEDNESDAY!L52","v":"       -"},{"$f":"THURSDAY!L52","v":"       -"},{"$f":"FRIDAY!L52","v":"       -"}]
[50,{"$f":"MONDAY!B53","v":0},{"$f":"MONDAY!C53","v":0},{"$f":"MONDAY!L53","v":"       -"},{"$f":"TUESDAY!L53","v":"       -"},{"$f":"WEDNESDAY!L53","v":"       -"},{"$f":"THURSDAY!L53","v":"       -"},{"$f":"FRIDAY!L53","v":"       -"}]
[51,{"$f":"MONDAY!B54","v":0},{"$f":"MONDAY!C54","v":0},{"$f":"MONDAY!L54","v":"       -"},{"$f":"TUESDAY!L54","v":"       -"},{"$f":"WEDNESDAY!L54","v":"       -"},{"$f":"THURSDAY!L54","v":"       -"},{"$f":"FRIDAY!L54","v":"       -"}]
[52,{"$f":"MONDAY!B55","v":0},{"$f":"MONDAY!C55","v":0},{"$f":"MONDAY!L55","v":"       -"},{"$f":"TUESDAY!L55","v":"       -"},{"$f":"WEDNESDAY!L55","v":"       -"},{"$f":"THURSDAY!L55","v":"       -"},{"$f":"FRIDAY!L55","v":"       -"}]
[53,{"$f":"MONDAY!B56","v":0},{"$f":"MONDAY!C56","v":0},{"$f":"MONDAY!L56","v":"       -"},{"$f":"TUESDAY!L56","v":"       -"},{"$f":"WEDNESDAY!L56","v":"       -"},{"$f":"THURSDAY!L56","v":"       -"},{"$f":"FRIDAY!L56","v":"       -"}]
[54,{"$f":"MONDAY!B57","v":0},{"$f":"MONDAY!C57","v":0},{"$f":"MONDAY!L57","v":"       -"},{"$f":"TUESDAY!L57","v":"       -"},{"$f":"WEDNESDAY!L57","v":"       -"},{"$f":"THURSDAY!L57","v":"       -"},{"$f":"FRIDAY!L57","v":"       -"}]
[55,{"$f":"MONDAY!B58","v":0},{"$f":"MONDAY!C58","v":0},{"$f":"MONDAY!L58","v":"       -"},{"$f":"TUESDAY!L58","v":"       -"},{"$f":"WEDNESDAY!L58","v":"       -"},{"$f":"THURSDAY!L58","v":"       -"},{"$f":"FRIDAY!L58","v":"       -"}]
[56,{"$f":"MONDAY!B59","v":0},{"$f":"MONDAY!C59","v":0},{"$f":"MONDAY!L59","v":"       -"},{"$f":"TUESDAY!L59","v":"       -"},{"$f":"WEDNESDAY!L59","v":"       -"},{"$f":"THURSDAY!L59","v":"       -"},{"$f":"FRIDAY!L59","v":"       -"}]
[57,{"$f":"MONDAY!B60","v":0},{"$f":"MONDAY!C60","v":0},{"$f":"MONDAY!L60","v":"       -"},{"$f":"TUESDAY!L60","v":"       -"},{"$f":"WEDNESDAY!L60","v":"       -"},{"$f":"THURSDAY!L60","v":"       -"},{"$f":"FRIDAY!L60","v":"       -"}]
[58,{"$f":"MONDAY!B61","v":0},{"$f":"MONDAY!C61","v":0},{"$f":"MONDAY!L61","v":"       -"},{"$f":"TUESDAY!L61","v":"       -"},{"$f":"WEDNESDAY!L61","v":"       -"},{"$f":"THURSDAY!L61","v":"       -"},{"$f":"FRIDAY!L61","v":"       -"}]
[59,{"$f":"MONDAY!B62","v":0},{"$f":"MONDAY!C62","v":0},{"$f":"MONDAY!L62","v":"       -"},{"$f":"TUESDAY!L62","v":"       -"},{"$f":"WEDNESDAY!L62","v":"       -"},{"$f":"THURSDAY!L62","v":"       -"},{"$f":"FRIDAY!L62","v":"       -"}]
[60,{"$f":"MONDAY!B63","v":0},{"$f":"MONDAY!C63","v":0},{"$f":"MONDAY!L63","v":"       -"},{"$f":"TUESDAY!L63","v":"       -"},{"$f":"WEDNESDAY!L63","v":"       -"},{"$f":"THURSDAY!L63","v":"       -"},{"$f":"FRIDAY!L63","v":"       -"}]
[61,{"$f":"MONDAY!B64","v":0},{"$f":"MONDAY!C64","v":0},{"$f":"MONDAY!L64","v":"       -"},{"$f":"TUESDAY!L64","v":"       -"},{"$f":"WEDNESDAY!L64","v":"       -"},{"$f":"THURSDAY!L64","v":"       -"},{"$f":"FRIDAY!L64","v":"       -"}]
[62,{"$f":"MONDAY!B65","v":0},{"$f":"MONDAY!C65","v":0},{"$f":"MONDAY!L65","v":"       -"},{"$f":"TUESDAY!L65","v":"       -"},{"$f":"WEDNESDAY!L65","v":"       -"},{"$f":"THURSDAY!L65","v":"       -"},{"$f":"FRIDAY!L65","v":"       -"}]
[63,{"$f":"MONDAY!B66","v":0},{"$f":"MONDAY!C66","v":0},{"$f":"MONDAY!L66","v":"       -"},{"$f":"TUESDAY!L66","v":"       -"},{"$f":"WEDNESDAY!L66","v":"       -"},{"$f":"THURSDAY!L66","v":"       -"},{"$f":"FRIDAY!L66","v":"       -"}]
[64,{"$f":"MONDAY!B67","v":0},{"$f":"MONDAY!C67","v":0},{"$f":"MONDAY!L67","v":"       -"},{"$f":"TUESDAY!L67","v":"       -"},{"$f":"WEDNESDAY!L67","v":"       -"},{"$f":"THURSDAY!L67","v":"       -"},{"$f":"FRIDAY!L67","v":"       -"}]
[65,{"$f":"MONDAY!B68","v":0},{"$f":"MONDAY!C68","v":0},{"$f":"MONDAY!L68","v":"       -"},{"$f":"TUESDAY!L68","v":"       -"},{"$f":"WEDNESDAY!L68","v":"       -"},{"$f":"THURSDAY!L68","v":"       -"},{"$f":"FRIDAY!L68","v":"       -"}]
[66,{"$f":"MONDAY!B69","v":0},{"$f":"MONDAY!C69","v":0},{"$f":"MONDAY!L69","v":"       -"},{"$f":"TUESDAY!L69","v":"       -"},{"$f":"WEDNESDAY!L69","v":"       -"},{"$f":"THURSDAY!L69","v":"       -"},{"$f":"FRIDAY!L69","v":"       -"}]
[{"$f":"A69+1","v":67},{"$f":"MONDAY!B70","v":0},{"$f":"MONDAY!C70","v":0},{"$f":"MONDAY!L70","v":"       -"},{"$f":"TUESDAY!L70","v":"       -"},{"$f":"WEDNESDAY!L70","v":"       -"},{"$f":"THURSDAY!L70","v":"       -"},{"$f":"FRIDAY!L70","v":"       -"}]
[68,{"$f":"MONDAY!B71","v":0},{"$f":"MONDAY!C71","v":0},{"$f":"MONDAY!L71","v":"       -"},{"$f":"TUESDAY!L71","v":"       -"},{"$f":"WEDNESDAY!L71","v":"       -"},{"$f":"THURSDAY!L71","v":"       -"},{"$f":"FRIDAY!L71","v":"       -"}]
[69,{"$f":"MONDAY!B72","v":0},{"$f":"MONDAY!C72","v":0},{"$f":"MONDAY!L72","v":"       -"},{"$f":"TUESDAY!L72","v":"       -"},{"$f":"WEDNESDAY!L72","v":"       -"},{"$f":"THURSDAY!L72","v":"       -"},{"$f":"FRIDAY!L72","v":"       -"}]
[70,{"$f":"MONDAY!B73","v":0},{"$f":"MONDAY!C73","v":0},{"$f":"MONDAY!L73","v":"       -"},{"$f":"TUESDAY!L73","v":"       -"},{"$f":"WEDNESDAY!L73","v":"       -"},{"$f":"THURSDAY!L73","v":"       -"},{"$f":"FRIDAY!L73","v":"       -"}]
[71,{"$f":"MONDAY!B74","v":0},{"$f":"MONDAY!C74","v":0},{"$f":"MONDAY!L74","v":"       -"},{"$f":"TUESDAY!L74","v":"       -"},{"$f":"WEDNESDAY!L74","v":"       -"},{"$f":"THURSDAY!L74","v":"       -"},{"$f":"FRIDAY!L74","v":"       -"}]
[72,{"$f":"MONDAY!B75","v":0},{"$f":"MONDAY!C75","v":0},{"$f":"MONDAY!L75","v":"       -"},{"$f":"TUESDAY!L75","v":"       -"},{"$f":"WEDNESDAY!L75","v":"       -"},{"$f":"THURSDAY!L75","v":"       -"},{"$f":"FRIDAY!L75","v":"       -"}]
[73,{"$f":"MONDAY!B76","v":0},{"$f":"MONDAY!C76","v":0},{"$f":"MONDAY!L76","v":"       -"},{"$f":"TUESDAY!L76","v":"       -"},{"$f":"WEDNESDAY!L76","v":"       -"},{"$f":"THURSDAY!L76","v":"       -"},{"$f":"FRIDAY!L76","v":"       -"}]
[74,{"$f":"MONDAY!B77","v":0},{"$f":"MONDAY!C77","v":0},{"$f":"MONDAY!L77","v":"       -"},{"$f":"TUESDAY!L77","v":"       -"},{"$f":"WEDNESDAY!L77","v":"       -"},{"$f":"THURSDAY!L77","v":"       -"},{"$f":"FRIDAY!L77","v":"       -"}]
[75,{"$f":"MONDAY!B78","v":0},{"$f":"MONDAY!C78","v":0},{"$f":"MONDAY!L78","v":"       -"},{"$f":"TUESDAY!L78","v":"       -"},{"$f":"WEDNESDAY!L78","v":"       -"},{"$f":"THURSDAY!L78","v":"       -"},{"$f":"FRIDAY!L78","v":"       -"}]
[76,{"$f":"MONDAY!B79","v":0},{"$f":"MONDAY!C79","v":0},{"$f":"MONDAY!L79","v":"       -"},{"$f":"TUESDAY!L79","v":"       -"},{"$f":"WEDNESDAY!L79","v":"       -"},{"$f":"THURSDAY!L79","v":"       -"},{"$f":"FRIDAY!L79","v":"       -"}]
[77,{"$f":"MONDAY!B80","v":0},{"$f":"MONDAY!C80","v":0},{"$f":"MONDAY!L80","v":"       -"},{"$f":"TUESDAY!L80","v":"       -"},{"$f":"WEDNESDAY!L80","v":"       -"},{"$f":"THURSDAY!L80","v":"       -"},{"$f":"FRIDAY!L80","v":"       -"}]
[78,{"$f":"MONDAY!B81","v":0},{"$f":"MONDAY!C81","v":0},{"$f":"MONDAY!L81","v":"       -"},{"$f":"TUESDAY!L81","v":"       -"},{"$f":"WEDNESDAY!L81","v":"       -"},{"$f":"THURSDAY!L81","v":"       -"},{"$f":"FRIDAY!L81","v":"       -"}]
[79,{"$f":"MONDAY!B82","v":0},{"$f":"MONDAY!C82","v":0},{"$f":"MONDAY!L82","v":"       -"},{"$f":"TUESDAY!L82","v":"       -"},{"$f":"WEDNESDAY!L82","v":"       -"},{"$f":"THURSDAY!L82","v":"       -"},{"$f":"FRIDAY!L82","v":"       -"}]
[80,{"$f":"MONDAY!B83","v":0},{"$f":"MONDAY!C83","v":0},{"$f":"MONDAY!L83","v":"       -"},{"$f":"TUESDAY!L83","v":"       -"},{"$f":"WEDNESDAY!L83","v":"       -"},{"$f":"THURSDAY!L83","v":"       -"},{"$f":"FRIDAY!L83","v":"       -"}]
[81,{"$f":"MONDAY!B84","v":0},{"$f":"MONDAY!C84","v":0},{"$f":"MONDAY!L84","v":"       -"},{"$f":"TUESDAY!L84","v":"       -"},{"$f":"WEDNESDAY!L84","v":"       -"},{"$f":"THURSDAY!L84","v":"       -"},{"$f":"FRIDAY!L84","v":"       -"}]
[82,{"$f":"MONDAY!B85","v":0},{"$f":"MONDAY!C85","v":0},{"$f":"MONDAY!L85","v":"       -"},{"$f":"TUESDAY!L85","v":"       -"},{"$f":"WEDNESDAY!L85","v":"       -"},{"$f":"THURSDAY!L85","v":"       -"},{"$f":"FRIDAY!L85","v":"       -"}]
[83,{"$f":"MONDAY!B86","v":0},{"$f":"MONDAY!C86","v":0},{"$f":"MONDAY!L86","v":"       -"},{"$f":"TUESDAY!L86","v":"       -"},{"$f":"WEDNESDAY!L86","v":"       -"},{"$f":"THURSDAY!L86","v":"       -"},{"$f":"FRIDAY!L86","v":"       -"}]
[84,{"$f":"MONDAY!B87","v":0},{"$f":"MONDAY!C87","v":0},{"$f":"MONDAY!L87","v":"       -"},{"$f":"TUESDAY!L87","v":"       -"},{"$f":"WEDNESDAY!L87","v":"       -"},{"$f":"THURSDAY!L87","v":"       -"},{"$f":"FRIDAY!L87","v":"       -"}]
[85,{"$f":"MONDAY!B88","v":0},{"$f":"MONDAY!C88","v":0},{"$f":"MONDAY!L88","v":"       -"},{"$f":"TUESDAY!L88","v":"       -"},{"$f":"WEDNESDAY!L88","v":"       -"},{"$f":"THURSDAY!L88","v":"       -"},{"$f":"FRIDAY!L88","v":"       -"}]
[86,{"$f":"MONDAY!B89","v":0},{"$f":"MONDAY!C89","v":0},{"$f":"MONDAY!L89","v":"       -"},{"$f":"TUESDAY!L89","v":"       -"},{"$f":"WEDNESDAY!L89","v":"       -"},{"$f":"THURSDAY!L89","v":"       -"},{"$f":"FRIDAY!L89","v":"       -"}]
[87,{"$f":"MONDAY!B90","v":0},{"$f":"MONDAY!C90","v":0},{"$f":"MONDAY!L90","v":"       -"},{"$f":"TUESDAY!L90","v":"       -"},{"$f":"WEDNESDAY!L90","v":"       -"},{"$f":"THURSDAY!L90","v":"       -"},{"$f":"FRIDAY!L90","v":"       -"}]
[88,{"$f":"MONDAY!B91","v":0},{"$f":"MONDAY!C91","v":0},{"$f":"MONDAY!L91","v":"       -"},{"$f":"TUESDAY!L91","v":"       -"},{"$f":"WEDNESDAY!L91","v":"       -"},{"$f":"THURSDAY!L91","v":"       -"},{"$f":"FRIDAY!L91","v":"       -"}]
[89,{"$f":"MONDAY!B92","v":0},{"$f":"MONDAY!C92","v":0},{"$f":"MONDAY!L92","v":"       -"},{"$f":"TUESDAY!L92","v":"       -"},{"$f":"WEDNESDAY!L92","v":"       -"},{"$f":"THURSDAY!L92","v":"       -"},{"$f":"FRIDAY!L92","v":"       -"}]
[90,{"$f":"MONDAY!B93","v":0},{"$f":"MONDAY!C93","v":0},{"$f":"MONDAY!L93","v":"       -"},{"$f":"TUESDAY!L93","v":"       -"},{"$f":"WEDNESDAY!L93","v":"       -"},{"$f":"THURSDAY!L93","v":"       -"},{"$f":"FRIDAY!L93","v":"       -"}]
[91,{"$f":"MONDAY!B94","v":0},{"$f":"MONDAY!C94","v":0},{"$f":"MONDAY!L94","v":"       -"},{"$f":"TUESDAY!L94","v":"       -"},{"$f":"WEDNESDAY!L94","v":"       -"},{"$f":"THURSDAY!L94","v":"       -"},{"$f":"FRIDAY!L94","v":"       -"}]
[92,{"$f":"MONDAY!B95","v":0},{"$f":"MONDAY!C95","v":0},{"$f":"MONDAY!L95","v":"       -"},{"$f":"TUESDAY!L95","v":"       -"},{"$f":"WEDNESDAY!L95","v":"       -"},{"$f":"THURSDAY!L95","v":"       -"},{"$f":"FRIDAY!L95","v":"       -"}]
[93,{"$f":"MONDAY!B96","v":0},{"$f":"MONDAY!C96","v":0},{"$f":"MONDAY!L96","v":"       -"},{"$f":"TUESDAY!L96","v":"       -"},{"$f":"WEDNESDAY!L96","v":"       -"},{"$f":"THURSDAY!L96","v":"       -"},{"$f":"FRIDAY!L96","v":"       -"}]
[94,{"$f":"MONDAY!B97","v":0},{"$f":"MONDAY!C97","v":0},{"$f":"MONDAY!L97","v":"       -"},{"$f":"TUESDAY!L97","v":"       -"},{"$f":"WEDNESDAY!L97","v":"       -"},{"$f":"THURSDAY!L97","v":"       -"},{"$f":"FRIDAY!L97","v":"       -"}]
[95,{"$f":"MONDAY!B98","v":0},{"$f":"MONDAY!C98","v":0},{"$f":"MONDAY!L98","v":"       -"},{"$f":"TUESDAY!L98","v":"       -"},{"$f":"WEDNESDAY!L98","v":"       -"},{"$f":"THURSDAY!L98","v":"       -"},{"$f":"FRIDAY!L98","v":"       -"}]
[96,{"$f":"MONDAY!B99","v":0},{"$f":"MONDAY!C99","v":0},{"$f":"MONDAY!L99","v":"       -"},{"$f":"TUESDAY!L99","v":"       -"},{"$f":"WEDNESDAY!L99","v":"       -"},{"$f":"THURSDAY!L99","v":"       -"},{"$f":"FRIDAY!L99","v":"       -"}]
[97,{"$f":"MONDAY!B100","v":0},{"$f":"MONDAY!C100","v":0},{"$f":"MONDAY!L100","v":"       -"},{"$f":"TUESDAY!L100","v":"       -"},{"$f":"WEDNESDAY!L100","v":"       -"},{"$f":"THURSDAY!L100","v":"       -"},{"$f":"FRIDAY!L100","v":"       -"}]
[98,{"$f":"MONDAY!B101","v":0},{"$f":"MONDAY!C101","v":0},{"$f":"MONDAY!L101","v":"       -"},{"$f":"TUESDAY!L101","v":"       -"},{"$f":"WEDNESDAY!L101","v":"       -"},{"$f":"THURSDAY!L101","v":"       -"},{"$f":"FRIDAY!L101","v":"       -"}]
[99,{"$f":"MONDAY!B102","v":0},{"$f":"MONDAY!C102","v":0},{"$f":"MONDAY!L102","v":"       -"},{"$f":"TUESDAY!L102","v":"       -"},{"$f":"WEDNESDAY!L102","v":"       -"},{"$f":"THURSDAY!L102","v":"       -"},{"$f":"FRIDAY!L102","v":"       -"}]
[100,{"$f":"MONDAY!B103","v":0},{"$f":"MONDAY!C103","v":0},{"$f":"MONDAY!L103","v":"       -"},{"$f":"TUESDAY!L103","v":"       -"},{"$f":"WEDNESDAY!L103","v":"       -"},{"$f":"THURSDAY!L103","v":"       -"},{"$f":"FRIDAY!L103","v":"       -"}]

{"sheet":"lookups","index":6,"n_rows":363,"n_cols":2,"rows_kept":363,"cut":false,"hidden":false,"merged":[]}
[0,"       -"]
[1,"DNQ"]
[{"$f":"A2+1","v":2},"DNQ"]
[{"$f":"A3+1","v":3},"DNQ"]
[4,"DNQ"]
[5,7963]
[6,7963]
[7,7963]
[8,7963]
[9,7963]
[10,7963]
[11,7964]
[12,7964]
[13,7964]
[14,7964]
[15,7964]
[16,7964]
[17,7964]
[18,7964]
[19,7964]
[20,7964]
[21,7965]
[22,7965]
[23,7965]
[24,7965]
[25,7965]
[26,7965]
[27,7965]
[28,7965]
[29,7965]
[30,7965]
[31,3103]
[32,3103]
[33,3103]
[34,3103]
[35,3103]
[36,3103]
[37,3103]
[38,3103]
[39,3103]
[40,3103]
[41,3103]
[42,3103]
[43,3103]
[44,3103]
[45,3103]
[46,3103]
[47,3103]
[48,3103]
[49,3103]
[50,3103]
[51,3103]
[52,3103]
[53,3103]
[54,3103]
[55,3103]
[56,3103]
[57,3103]
[58,3103]
[59,3103]
[60,3103]
[61,3103]
[62,3103]
[63,3103]
[64,3103]
[65,3103]
[66,3103]
[{"$f":"A67+1","v":67},3103]
[68,3103]
[69,3103]
[70,3103]
[71,3103]
[72,3103]
[73,3103]
[74,3103]
[75,3103]
[76,3103]
[77,3103]
[78,3103]
[79,3103]
[80,3103]
[81,3103]
[82,3103]
[83,3103]
[84,3103]
[85,3103]
[86,3103]
[87,3103]
[88,3103]
[89,3103]
[90,3103]
[91,3103]
[92,3103]
[93,3103]
[94,3103]
[95,3103]
[96,3103]
[97,3103]
[98,3103]
[99,3103]
[100,3103]
[101,3103]
[102,3103]
[103,3103]
[104,3103]
[105,3103]
[106,3103]
[107,3103]
[108,3103]
[109,3103]
[110,3103]
[111,3103]
[112,3103]
[113,3103]
[114,3103]
[115,3103]
[116,3103]
[117,3103]
[118,3103]
[119,3103]
[120,3103]
[121,3103]
[122,3103]
[123,3103]
[124,3103]
[125,3103]
[126,3103]
[127,3103]
[128,3103]
[129,3103]
[130,3103]
[{"$f":"A131+1","v":131},3103]
[132,3103]
[133,3103]
[134,3103]
[135,3103]
[136,3103]
[137,3103]
[138,3103]
[139,3103]
[140,3103]
[141,3103]
[142,3103]
[143,3103]
[144,3103]
[145,3103]
[146,3103]
[147,3103]
[148,3103]
[149,3103]
[150,3103]
[151,3103]
[152,3103]
[153,3103]
[154,3103]
[155,3103]
[156,3103]
[157,3103]
[158,3103]
[159,3103]
[160,3103]
[161,3103]
[162,3103]
[163,3103]
[164,3103]
[165,3103]
[166,3103]
[167,3103]
[168,3103]
[169,3103]
[170,3103]
[171,3103]
[172,3103]
[173,3103]
[174,3103]
[175,3103]
[176,3103]
[177,3103]
[178,3103]
[179,3103]
[180,3103]
[181,3103]
[182,3103]
[183,3103]
[184,3103]
[185,3103]
[186,3103]
[187,3103]
[188,3103]
[189,3103]
[190,3103]
[191,3103]
[192,3103]
[193,3103]
[194,3103]
[{"$f":"A195+1","v":195},3103]
[196,3103]
[197,3103]
[198,3103]
[199,3103]
[200,3103]
[201,3103]
[202,3103]
[203,3103]
[204,3103]
[205,3103]
[206,3103]
[207,3103]
[208,3103]
[209,3103]
[210,3103]
[211,3103]
[212,3103]
[213,3103]
[214,3103]
[215,3103]
[216,3103]
[217,3103]
[218,3103]
[219,3103]
[220,3103]
[221,3103]
[222,3103]
[223,3103]
[224,3103]
[225,3103]
[226,3103]
[227,3103]
[228,3103]
[229,3103]
[230,3103]
[231,3103]
[232,3103]
[233,3103]
[234,3103]
[235,3103]
[236,3103]
[237,3103]
[238,3103]
[239,3103]
[240,3103]
[241,3103]
[242,3103]
[243,3103]
[244,3103]
[245,3103]
[246,3103]
[247,3103]
[248,3103]
[249,3103]
[250,3103]
[251,3103]
[252,3103]
[253,3103]
[254,3103]
[255,3103]
[256,3103]
[257,3103]
[258,3103]
[{"$f":"A259+1","v":259},3103]
[260,3103]
[261,3103]
[262,3103]
[263,3103]
[264,3103]
[265,3103]
[266,3103]
[267,3103]
[268,3103]
[269,3103]
[270,3103]
[271,3103]
[272,3103]
[273,3103]
[274,3103]
[275,3103]
[276,3103]
[277,3103]
[278,3103]
[279,3103]
[280,3103]
[281,3103]
[282,3103]
[283,3103]
[284,3103]
[285,3103]
[286,3103]
[287,3103]
[288,3103]
[289,3103]
[290,3103]
[291,3103]
[292,3103]
[293,3103]
[294,3103]
[295,3103]
[296,3103]
[297,3103]
[298,3103]
[299,3103]
[300,3103]
[301,3103]
[302,3103]
[303,3103]
[304,3103]
[305,3103]
[306,3103]
[307,3103]
[308,3103]
[309,3103]
[310,3103]
[311,3103]
[312,3103]
[313,3103]
[314,3103]
[315,3103]
[316,3103]
[317,3103]
[318,3103]
[319,3103]
[320,3103]
[321,3103]
[322,3103]
[{"$f":"A323+1","v":323},3103]
[324,3103]
[325,3103]
[326,3103]
[327,3103]
[328,3103]
[329,3103]
[330,3103]
[331,3103]
[332,3103]
[333,3103]
[334,3103]
[335,3103]
[336,3103]
[337,3103]
[338,3103]
[339,3103]
[340,3103]
[341,3103]
[342,3103]
[343,3103]
[344,3103]
[345,3103]
[346,3103]
[347,3103]
[348,3103]
[349,3103]
[350,3103]
[351,3103]
[352,3103]
[353,3103]
[354,3103]
[355,3103]
[356,3103]
[357,3103]
[358,3103]
[359,3103]
[360,3103]
[361,3103]
[362,3103]